{"text_format":"1","workbook":"xlsx","n_sheets":34,"sheets":["Home","uxb_works","SheetNames","1. Map","iMap_Rank","iMap_Graph","uxb_mapdata","uxb_regions","tblIndicators","tblIndiSets","tblCategories","tblTerritories","iData","iSummary","Summary","iIndiRank","Indicator_Ranking","iScatter","Scatter","iCountryP","CountryProfile","iCityCompare","Country_Compare","Scores","iCC_Overview","iCountryCompSpider","Data","rScores","iWeights","Weights","iScoresWS2","rScoresWS2","iWeightsComp","Weight_Compare"],"not_rendered":{"charts":5,"images":12,"macros":1,"external_links":0,"defined_names":28,"comments":0,"pivot_tables":0},"unopened":[],"bounds":{"document_bytes":16777216,"sheet_cells":100000,"rows_first":2000,"rows_last":500,"rows_between":2000,"halvings":0,"cell_chars":16384,"cell_head_chars":4096},"cells_cut":0,"cells_raw":0,"read":"whole","date_system":"1900"}

{"sheet":"Home","index":0,"n_rows":24,"n_cols":10,"rows_kept":24,"cut":false,"hidden":true,"merged":[[32,1,32,2]]}
[]
[]
[]
[]
[]
[]
[]
[]
[]
[]
[]
[]
[]
[]
[]
[]
[]
[]
[]
[null,"Zoom",null,null,null,null,null,null,null,"Full screen"]
[null,"Select a zoom level appropriate for your display."]
[null,null,null,null,null,null,null,null,null,"To maximise the viewing area, click for Full-Screen mode."]
[null,null,null,null,null,null,null,null,null,"Press Escape to return to normal display mode."]
[null,"Selected zoom will be applied to all worksheets except this one."]

{"sheet":"uxb_works","index":1,"n_rows":65,"n_cols":37,"rows_kept":65,"cut":false,"hidden":true,"merged":[]}
["TERRITORY_COUNT",17]
["MODE","PRODUCTION"]
["MAIN_DP",0]
["WEIGHT_PROFILE_ID",1]
[null,null,"plus none","ignore none","Country Code","Country Number"]
["CITY_HIGHLIGHT_DD",1,{"$f":"INDEX(luCityPlusNone,B6)","v":"<none>"},{"$f":"INDEX(luCities,B7)","v":"Hong Kong"},"HKG",{"$f":"MATCH(E6,tblTerritories!B2:B19,0)","v":5}]
["CITY_HIGHLIGHT_ID",{"$f":"B6-1","v":0}]
["GROUP_HIGHLIGHT_DD",1,{"$f":"INDEX(luRegions,B8)","v":"<none>"}]
[null,{"$f":"B8+1","v":2},null,null,"Check if Autoheight on Summary page should run"]
["GROUP_FILTER_ID",1,{"$f":"INDEX(tblTerritories!O4:O8,B10)","v":"All Incomes"},null,{"$f":"COUNTIF(iSummary!M8:M24,1)","v":17},17,{"$f":"IF(E10=F10,1,0)","v":1}]
[null,{"$f":"B10-1","v":0},null,null,null,null,null,null,null,null,null,null,null,null,null,null,null,null,null,null,null,null,null,null,null,null,null,null,"Not Applicable"]
["NUMBER_OF_INDICATORS",1]
["Indicator Ranking",19,{"$f":"tblIndicators!B1","v":"IS_BG"},{"$f":"tblIndicators!C1","v":"Spare1"},{"$f":"tblIndicators!D1","v":"INDI_CODE"},{"$f":"tblIndicators!E1","v":"PARENT_CODE"},{"$f":"tblIndicators!F1","v":"DEPTH"},{"$f":"tblIndicators!G1","v":"REF"},{"$f":"tblIndicators!H1","v":"NDICATOR_SHORT"},{"$f":"tblIndicators!L1","v":"DESCRITION"},{"$f":"tblIndicators!M1","v":"INDICATOR_MULTI"},{"$f":"tblIndicators!N1","v":"INDICATOR_UNIT"},{"$f":"tblIndicators!O1","v":"Scoring Criteria (0-100 or 0-4 etc)"},{"$f":"tblIndicators!P1","v":"Year"},{"$f":"tblIndicators!Q1","v":"Geography"},{"$f":"tblIndicators!R1","v":"HIGH=Good"},{"$f":"tblIndicators!S1","v":"Format"},{"$f":"tblIndicators!T1","v":"MAIN_SOURCE"},{"$f":"tblIndicators!U1","v":"SOURCE_WS_ID"},{"$f":"tblIndicators!V1","v":"HIGH_IS"},{"$f":"tblIndicators!W1","v":"NORM_ID (1=sumproduct, 2=min max set by data values, 3=min max set by user here)"},{"$f":"tblIndicators!X1","v":"Set Min"},{"$f":"tblIndicators!Y1","v":"Set Max"},{"$f":"tblIndicators!Z1","v":"WEIGHT_NOM"},{"$f":"tblIndicators!AA1","v":"WEIGHT_PERC"},{"$f":"tblIndicators!AB1","v":"REF_INDI"},{"$f":"tblIndicators!AC1","v":"PARENT"},{"$f":"tblIndicators!AD1","v":"Weight_row"},{"$f":"tblIndicators!AE1","v":"Weight_nom"},{"$f":"tblIndicators!AF1","v":"Weight-%"},{"$f":"tblIndicators!AG1","v":0},{"$f":"tblIndicators!AH1","v":"Weight_nom_2"},{"$f":"tblIndicators!AI1","v":"Weight-%_2"},{"$f":"tblIndicators!AJ1","v":0},{"$f":"tblIndicators!AK1","v":0},{"$f":"tblIndicators!AL1","v":0},{"$f":"tblIndicators!AL1","v":0}]
["INDI_ID",1,{"$f":"IF(INDEX(tblIndicators!B$2:B$20,$B14)=\"\",\"\",INDEX(tblIndicators!B$2:B$20,$B14))","v":0},{"$f":"IF(INDEX(tblIndicators!C$2:C$20,$B14)=\"\",\"\",INDEX(tblIndicators!C$2:C$20,$B14))","v":""},{"$f":"IF(INDEX(tblIndicators!D$2:D$20,$B14)=\"\",\"\",INDEX(tblIndicators!D$2:D$20,$B14))","v":"TOTAL"},{"$f":"IF(INDEX(tblIndicators!E$2:E$20,$B14)=\"\",\"\",INDEX(tblIndicators!E$2:E$20,$B14))","v":"OVERALL SCORE"},{"$f":"IF(INDEX(tblIndicators!F$2:F$20,$B14)=\"\",\"\",INDEX(tblIndicators!F$2:F$20,$B14))","v":0},{"$f":"IF(INDEX(tblIndicators!G$2:G$20,$B14)=\"\",\"\",INDEX(tblIndicators!G$2:G$20,$B14))","v":""},{"$f":"IF(INDEX(tblIndicators!H$2:H$20,$B14)=\"\",\"\",INDEX(tblIndicators!H$2:H$20,$B14))","v":"OVERALL SCORE"},{"$f":"IF(INDEX(tblIndicators!L$2:L$20,$B14)=\"\",\"\",INDEX(tblIndicators!L$2:L$20,$B14))","v":"The overall score is the weighted sum of the following categories scores:\n\n1) Intellectual property\n2) Transparency and trade\n3) Customs environment\n4) Supply and demand"},{"$f":"IF(INDEX(tblIndicators!M$2:M$20,$B14)=\"\",\"\",INDEX(tblIndicators!M$2:M$20,$B14))","v":"Index score/number"},{"$f":"IF(INDEX(tblIndicators!N$2:N$20,$B14)=\"\",\"\",INDEX(tblIndicators!N$2:N$20,$B14))","v":""},{"$f":"IF(INDEX(tblIndicators!O$2:O$20,$B14)=\"\",\"\",INDEX(tblIndicators!O$2:O$20,$B14))","v":"Index score/number"},{"$f":"IF(INDEX(tblIndicators!P$2:P$20,$B14)=\"\",\"\",INDEX(tblIndicators!P$2:P$20,$B14))","v":"Index score/number"},{"$f":"IF(INDEX(tblIndicators!Q$2:Q$20,$B14)=\"\",\"\",INDEX(tblIndicators!Q$2:Q$20,$B14))","v":""},{"$f":"IF(INDEX(tblIndicators!R$2:R$20,$B14)=\"\",\"\",INDEX(tblIndicators!R$2:R$20,$B14))","v":""},{"$f":"IF(INDEX(tblIndicators!S$2:S$20,$B14)=\"\",\"\",INDEX(tblIndicators!S$2:S$20,$B14))","v":"0.0"},{"$f":"IF(INDEX(tblIndicators!T$2:T$20,$B14)=\"\",\"\",INDEX(tblIndicators!T$2:T$20,$B14))","v":"EIU Calculation"},{"$f":"IF(INDEX(tblIndicators!U$2:U$20,$B14)=\"\",\"\",INDEX(tblIndicators!U$2:U$20,$B14))","v":""},{"$f":"IF(INDEX(tblIndicators!V$2:V$20,$B14)=\"\",\"\",INDEX(tblIndicators!V$2:V$20,$B14))","v":""},{"$f":"IF(INDEX(tblIndicators!W$2:W$20,$B14)=\"\",\"\",INDEX(tblIndicators!W$2:W$20,$B14))","v":1},{"$f":"IF(INDEX(tblIndicators!X$2:X$20,$B14)=\"\",\"\",INDEX(tblIndicators!X$2:X$20,$B14))","v":""},{"$f":"IF(INDEX(tblIndicators!Y$2:Y$20,$B14)=\"\",\"\",INDEX(tblIndicators!Y$2:Y$20,$B14))","v":""},{"$f":"IF(INDEX(tblIndicators!Z$2:Z$20,$B14)=\"\",\"\",INDEX(tblIndicators!Z$2:Z$20,$B14))","v":0},{"$f":"IF(INDEX(tblIndicators!AA$2:AA$20,$B14)=\"\",\"\",INDEX(tblIndicators!AA$2:AA$20,$B14))","v":""},{"$f":"IF(INDEX(tblIndicators!AB$2:AB$20,$B14)=\"\",\"\",INDEX(tblIndicators!AB$2:AB$20,$B14))","v":"OVERALL SCORE"},{"$f":"IF(INDEX(tblIndicators!AC$2:AC$20,$B14)=\"\",\"\",INDEX(tblIndicators!AC$2:AC$20,$B14))","v":""},{"$f":"IF(INDEX(tblIndicators!AD$2:AD$20,$B14)=\"\",\"\",INDEX(tblIndicators!AD$2:AD$20,$B14))","v":""},{"$f":"IF(INDEX(tblIndicators!AE$2:AE$20,$B14)=\"\",\"\",INDEX(tblIndicators!AE$2:AE$20,$B14))","v":""},{"$f":"IF(INDEX(tblIndicators!AF$2:AF$20,$B14)=\"\",\"\",INDEX(tblIndicators!AF$2:AF$20,$B14))","v":""},{"$f":"IF(INDEX(tblIndicators!AG$2:AG$20,$B14)=\"\",\"\",INDEX(tblIndicators!AG$2:AG$20,$B14))","v":""},{"$f":"IF(INDEX(tblIndicators!AH$2:AH$20,$B14)=\"\",\"\",INDEX(tblIndicators!AH$2:AH$20,$B14))","v":""},{"$f":"IF(INDEX(tblIndicators!AI$2:AI$20,$B14)=\"\",\"\",INDEX(tblIndicators!AI$2:AI$20,$B14))","v":""},{"$f":"IF(INDEX(tblIndicators!AJ$2:AJ$20,$B14)=\"\",\"\",INDEX(tblIndicators!AJ$2:AJ$20,$B14))","v":""},{"$f":"IF(INDEX(tblIndicators!AK$2:AK$20,$B14)=\"\",\"\",INDEX(tblIndicators!AK$2:AK$20,$B14))","v":""},{"$f":"IF(INDEX(tblIndicators!AL$2:AL$20,$B14)=\"\",\"\",INDEX(tblIndicators!AL$2:AL$20,$B14))","v":""},{"$f":"IF(INDEX(tblIndicators!AL$2:AL$20,$B14)=\"\",\"\",INDEX(tblIndicators!AL$2:AL$20,$B14))","v":""}]
[]
["INDI_OR_SUB_INDI",false]
[]
["City PROFILE",null,"City","Code","CoreRegionID"]
["CITY1_ID",1,{"$f":"INDEX(luCities,B19)","v":"Australia"},{"$f":"INDEX(OFFSET(luCities,0,-3),B19)","v":"AUS"},{"$f":"INDEX(OFFSET(luCities,0,3),B19)","v":0}]
["CITY2_ID",4,{"$f":"INDEX(luCities,B20)","v":"Hong Kong"},{"$f":"INDEX(OFFSET(luCities,0,-3),B20)","v":"HKG"},{"$f":"INDEX(OFFSET(luCities,0,3),B20)","v":0}]
["Show_data_Buckets",true,{"$f":"IF(B21,1,0)","v":1}]
[null,null,1,2,3,4,5,6,12,8,9,10,11,12,13,14,15,16,17,18,19]
["SCATTER",null,{"$f":"INDEX(tblIndicators!$D$1:$AI$1,C22)","v":"INDI_CODE"},{"$f":"INDEX(tblIndicators!$D$1:$AI$1,D22)","v":"PARENT_CODE"},{"$f":"INDEX(tblIndicators!$D$1:$AI$1,E22)","v":"DEPTH"},{"$f":"INDEX(tblIndicators!$D$1:$AI$1,F22)","v":"REF"},{"$f":"INDEX(tblIndicators!$D$1:$AI$1,G22)","v":"NDICATOR_SHORT"},{"$f":"INDEX(tblIndicators!$D$1:$AI$1,H22)","v":"DESCRITION OF CATEGORIES"},{"$f":"INDEX(tblIndicators!$D$1:$AI$1,I22)","v":"Scoring Criteria (0-100 or 0-4 etc)"},{"$f":"INDEX(tblIndicators!$D$1:$AI$1,J22)","v":"DESCRITION OF INDICATORS"},{"$f":"INDEX(tblIndicators!$D$1:$AI$1,K22)","v":"DESCRITION"},{"$f":"INDEX(tblIndicators!$D$1:$AI$1,L22)","v":"INDICATOR_MULTI"},{"$f":"INDEX(tblIndicators!$D$1:$AI$1,M22)","v":"INDICATOR_UNIT"},{"$f":"INDEX(tblIndicators!$D$1:$AI$1,N22)","v":"Scoring Criteria (0-100 or 0-4 etc)"},{"$f":"INDEX(tblIndicators!$D$1:$AI$1,O22)","v":"Year"},{"$f":"INDEX(tblIndicators!$D$1:$AI$1,P22)","v":"Geography"},{"$f":"INDEX(tblIndicators!$D$1:$AI$1,Q22)","v":"HIGH=Good"},{"$f":"INDEX(tblIndicators!$D$1:$AI$1,R22)","v":"Format"},{"$f":"INDEX(tblIndicators!$D$1:$AI$1,S22)","v":"MAIN_SOURCE"},{"$f":"INDEX(tblIndicators!$D$1:$AI$1,T22)","v":"SOURCE_WS_ID"},{"$f":"INDEX(tblIndicators!$D$1:$AI$1,U22)","v":"HIGH_IS"}]
["INDI_1",{"$f":"B14","v":1},{"$f":"INDEX(tblIndicators!$D$2:$AB$20,uxb_works!$B24,C$22)","v":"TOTAL"},{"$f":"INDEX(tblIndicators!$D$2:$AB$20,uxb_works!$B24,D$22)","v":"OVERALL SCORE"},{"$f":"INDEX(tblIndicators!$D$2:$AB$20,uxb_works!$B24,E$22)","v":0},{"$f":"INDEX(tblIndicators!$D$2:$AB$20,uxb_works!$B24,F$22)","v":0},{"$f":"INDEX(tblIndicators!$D$2:$AB$20,uxb_works!$B24,G$22)","v":"OVERALL SCORE"},{"$f":"INDEX(tblIndicators!$D$2:$AB$20,uxb_works!$B24,H$22)","v":"The overall score is the weighted sum of the following categories scores:\n\n1) Intellectual property\n2) Transparency and trade\n3) Customs environment\n4) Supply and demand"},{"$f":"INDEX(tblIndicators!$D$2:$AB$20,uxb_works!$B24,I$22)","v":"Index score/number"},{"$f":"INDEX(tblIndicators!$D$2:$AB$20,uxb_works!$B24,J$22)","v":"The overall score is the weighted sum of the following category scores:\n\n1) 1\n2) 2\n3) 3\n4) 4"},{"$f":"INDEX(tblIndicators!$D$2:$AB$20,uxb_works!$B24,K$22)","v":"The overall score is the weighted sum of the following categories scores:\n\n1) Intellectual property\n2) Transparency and trade\n3) Customs environment\n4) Supply and demand"},{"$f":"INDEX(tblIndicators!$D$2:$AB$20,uxb_works!$B24,L$22)","v":"Index score/number"},{"$f":"INDEX(tblIndicators!$D$2:$AB$20,uxb_works!$B24,M$22)","v":0},{"$f":"INDEX(tblIndicators!$D$2:$AB$20,uxb_works!$B24,N$22)","v":"Index score/number"},{"$f":"INDEX(tblIndicators!$D$2:$AB$20,uxb_works!$B24,O$22)","v":"Index score/number"},{"$f":"INDEX(tblIndicators!$D$2:$AB$20,uxb_works!$B24,P$22)","v":0},{"$f":"INDEX(tblIndicators!$D$2:$AB$20,uxb_works!$B24,Q$22)","v":0},{"$f":"INDEX(tblIndicators!$D$2:$AB$20,uxb_works!$B24,R$22)","v":"0.0"},{"$f":"INDEX(tblIndicators!$D$2:$AB$20,uxb_works!$B24,S$22)","v":"EIU Calculation"},{"$f":"INDEX(tblIndicators!$D$2:$AB$20,uxb_works!$B24,T$22)","v":0},{"$f":"INDEX(tblIndicators!$D$2:$AB$20,uxb_works!$B24,U$22)","v":""}]
["INDI_2",1,{"$f":"INDEX(tblIndicators!$D$2:$AB$20,uxb_works!$B25,C$22)","v":"TOTAL"},{"$f":"INDEX(tblIndicators!$D$2:$AB$20,uxb_works!$B25,D$22)","v":"OVERALL SCORE"},{"$f":"INDEX(tblIndicators!$D$2:$AB$20,uxb_works!$B25,E$22)","v":0},{"$f":"INDEX(tblIndicators!$D$2:$AB$20,uxb_works!$B25,F$22)","v":0},{"$f":"INDEX(tblIndicators!$D$2:$AB$20,uxb_works!$B25,G$22)","v":"OVERALL SCORE"},{"$f":"INDEX(tblIndicators!$D$2:$AB$20,uxb_works!$B25,H$22)","v":"The overall score is the weighted sum of the following categories scores:\n\n1) Intellectual property\n2) Transparency and trade\n3) Customs environment\n4) Supply and demand"},{"$f":"INDEX(tblIndicators!$D$2:$AB$20,uxb_works!$B25,I$22)","v":"Index score/number"},{"$f":"INDEX(tblIndicators!$D$2:$AB$20,uxb_works!$B25,J$22)","v":"The overall score is the weighted sum of the following category scores:\n\n1) 1\n2) 2\n3) 3\n4) 4"},{"$f":"INDEX(tblIndicators!$D$2:$AB$20,uxb_works!$B25,K$22)","v":"The overall score is the weighted sum of the following categories scores:\n\n1) Intellectual property\n2) Transparency and trade\n3) Customs environment\n4) Supply and demand"},{"$f":"INDEX(tblIndicators!$D$2:$AB$20,uxb_works!$B25,L$22)","v":"Index score/number"},{"$f":"INDEX(tblIndicators!$D$2:$AB$20,uxb_works!$B25,M$22)","v":0},{"$f":"INDEX(tblIndicators!$D$2:$AB$20,uxb_works!$B25,N$22)","v":"Index score/number"},{"$f":"INDEX(tblIndicators!$D$2:$AB$20,uxb_works!$B25,O$22)","v":"Index score/number"},{"$f":"INDEX(tblIndicators!$D$2:$AB$20,uxb_works!$B25,P$22)","v":0},{"$f":"INDEX(tblIndicators!$D$2:$AB$20,uxb_works!$B25,Q$22)","v":0},{"$f":"INDEX(tblIndicators!$D$2:$AB$20,uxb_works!$B25,R$22)","v":"0.0"},{"$f":"INDEX(tblIndicators!$D$2:$AB$20,uxb_works!$B25,S$22)","v":"EIU Calculation"},{"$f":"INDEX(tblIndicators!$D$2:$AB$20,uxb_works!$B25,T$22)","v":0},{"$f":"INDEX(tblIndicators!$D$2:$AB$20,uxb_works!$B25,U$22)","v":""}]
[]
["SHOW_LABELS",false]
["SHOW_OUTLIERS",false]
[]
["CHANGE_IN_WEIGHT",{"$f":"iWeights!U3","v":0},{"$f":"IF(B30=0,\"\",\"Weight profile has been changed from it's neutralsetting\")","v":""}]
[]
["COUNTRY_COMPARE",1]
[]
["WEIGHT_PROFILE_2",1,null,null,"Max count"]
["INDICATOR_SELECT_WEIGHT_COMPARE",1,{"$f":"INDEX(tblIndiSets!B5:B9,B35)","v":1},{"$f":"INDEX(tblIndiSets!C5:C9,B35)","v":"OVERALL SCORE"},6]
[]
[]
[]
[]
[]
[]
[]
[]
[]
[null,"70% (recommended for 1024 width displays)",70]
[null,0.8,80]
[null,0.9,90]
[null,"100% (recommended for wide screen displays)",100]
[null,1.25,125]
[]
["ZOOM",3,{"$f":"INDEX(C45:C49,B51)","v":90}]
[]
[]
[]
[]
[]
["Text"]
[null,"Scores are normalized (0-100, where 100=most favorable)"]
[]
[]
["Weight_Compare"]
[]
["Indicator",1]
["WEIGHT_COMP",2]
["Order",false]

{"sheet":"SheetNames","index":2,"n_rows":34,"n_cols":1,"rows_kept":34,"cut":false,"hidden":true,"merged":[]}
["Home"]
["SheetNames"]
["1. Map"]
["iMap_Rank"]
["iMap_Graph"]
["uxb_mapdata"]
["uxb_regions"]
["tblIndicators"]
["tblIndiSets"]
["tblCategories"]
["tblTerritories"]
["iData"]
["iSummary"]
["Summary"]
["iIndiRank"]
["uxb_works"]
["Indicator_Ranking"]
["iScatter"]
["Scatter"]
["iCountryP"]
["CountryProfile"]
["iCityCompare"]
["Country_Compare"]
["Scores"]
["iCC_Overview"]
["iCountryCompSpider"]
["Data"]
["rScores"]
["iWeights"]
["Weights"]
["iScoresWS2"]
["rScoresWS2"]
["iWeightsComp"]
["Weight_Compare"]

{"sheet":"1. Map","index":3,"n_rows":96,"n_cols":12,"rows_kept":96,"cut":false,"hidden":false,"merged":[[39,1,39,2],[39,4,39,5],[39,7,39,8],[39,10,39,11],[5,1,5,9],[6,1,6,9],[38,1,38,2],[38,4,38,5],[38,7,38,8],[38,10,38,11],[7,9,8,11]]}
[]
[]
[]
[]
[]
[null,{"$f":"IF(uxb_works!$B$14=1,uxb_works!Z14,uxb_works!AA14)","v":"OVERALL SCORE"}]
[null,{"$f":"IF(uxb_works!$B$14=1,\"\",uxb_works!Z14)","v":""},null,null,null,null,null,null,null,null,null,{"$f":"IF(uxb_works!$B$6=1,\"No Country Highlighted\",\"SELECTED COUNTRY\")","v":"No Country Highlighted"}]
[null,null,null,null,null,null,null,null,null,{"$f":"iMap_Rank!C9","v":"Click on map or select from the country highlight drop down box"}]
[]
[]
[]
[]
[]
[]
[]
[]
[]
[]
[]
[]
[]
[]
[]
[]
[]
[]
[]
[]
[]
[]
[]
[]
[]
[]
[]
[]
[]
[]
[null,"BEST ENVIRONMENT",null,null,"GOOD ENVIRONMENT",null,null,"MODERATE ENVIRONMENT",null,null,"NEEDS IMPROVEMENT"]
[null,{"$f":"iMap_Rank!AN15","v":"Score 71.9 to 85.2"},null,null,{"$f":"iMap_Rank!AQ15","v":"Score 61.7 to 71.8"},null,null,{"$f":"iMap_Rank!AT15","v":"Score 49.5 to 61.6"},null,null,{"$f":"iMap_Rank!AW15","v":"Score 10.8 to 49.4"}]
[{"$f":"iMap_Rank!AM19","v":1},{"$f":"iMap_Rank!AN19","v":"Australia"},{"$f":"iMap_Rank!AO19","v":85.2},{"$f":"iMap_Rank!AP19","v":1},{"$f":"iMap_Rank!AQ19","v":"South Korea"},{"$f":"iMap_Rank!AR19","v":71.8},{"$f":"iMap_Rank!AS19","v":1},{"$f":"iMap_Rank!AT19","v":"China"},{"$f":"iMap_Rank!AU19","v":61.6},{"$f":"iMap_Rank!AV19","v":1},{"$f":"iMap_Rank!AW19","v":"Vietnam "},{"$f":"iMap_Rank!AX19","v":49.4}]
[{"$f":"iMap_Rank!AM20","v":1},{"$f":"iMap_Rank!AN20","v":"New Zealand"},{"$f":"iMap_Rank!AO20","v":81.8},{"$f":"iMap_Rank!AP20","v":1},{"$f":"iMap_Rank!AQ20","v":"Malaysia"},{"$f":"iMap_Rank!AR20","v":71.8},{"$f":"iMap_Rank!AS20","v":1},{"$f":"iMap_Rank!AT20","v":"India"},{"$f":"iMap_Rank!AU20","v":54.1},{"$f":"iMap_Rank!AV20","v":1},{"$f":"iMap_Rank!AW20","v":"Indonesia"},{"$f":"iMap_Rank!AX20","v":46.1}]
[{"$f":"iMap_Rank!AM21","v":1},{"$f":"iMap_Rank!AN21","v":"Hong Kong"},{"$f":"iMap_Rank!AO21","v":81.400000000000006},{"$f":"iMap_Rank!AP21","v":1},{"$f":"iMap_Rank!AQ21","v":"Taiwan"},{"$f":"iMap_Rank!AR21","v":69.8},{"$f":"iMap_Rank!AS21","v":1},{"$f":"iMap_Rank!AT21","v":"Thailand"},{"$f":"iMap_Rank!AU21","v":53.1},{"$f":"iMap_Rank!AV21","v":1},{"$f":"iMap_Rank!AW21","v":"Cambodia"},{"$f":"iMap_Rank!AX21","v":23.9}]
[{"$f":"iMap_Rank!AM22","v":1},{"$f":"iMap_Rank!AN22","v":"Japan"},{"$f":"iMap_Rank!AO22","v":75.900000000000006},{"$f":"iMap_Rank!AP22","v":1},{"$f":"iMap_Rank!AQ22","v":"Singapore"},{"$f":"iMap_Rank!AR22","v":69.8},{"$f":"iMap_Rank!AS22","v":1},{"$f":"iMap_Rank!AT22","v":"Philippines"},{"$f":"iMap_Rank!AU22","v":50.4},{"$f":"iMap_Rank!AV22","v":1},{"$f":"iMap_Rank!AW22","v":"Laos "},{"$f":"iMap_Rank!AX22","v":12.9}]
[{"$f":"iMap_Rank!AM23","v":0},{"$f":"iMap_Rank!AN23","v":""},{"$f":"iMap_Rank!AO23","v":""},{"$f":"iMap_Rank!AP23","v":0},{"$f":"iMap_Rank!AQ23","v":""},{"$f":"iMap_Rank!AR23","v":""},{"$f":"iMap_Rank!AS23","v":0},{"$f":"iMap_Rank!AT23","v":""},{"$f":"iMap_Rank!AU23","v":""},{"$f":"iMap_Rank!AV23","v":1},{"$f":"iMap_Rank!AW23","v":"Myanmar"},{"$f":"iMap_Rank!AX23","v":10.8}]
[{"$f":"iMap_Rank!AM24","v":0},{"$f":"iMap_Rank!AN24","v":""},{"$f":"iMap_Rank!AO24","v":""},{"$f":"iMap_Rank!AP24","v":0},{"$f":"iMap_Rank!AQ24","v":""},{"$f":"iMap_Rank!AR24","v":""},{"$f":"iMap_Rank!AS24","v":0},{"$f":"iMap_Rank!AT24","v":""},{"$f":"iMap_Rank!AU24","v":""},{"$f":"iMap_Rank!AV24","v":0},{"$f":"iMap_Rank!AW24","v":""},{"$f":"iMap_Rank!AX24","v":""}]
[{"$f":"iMap_Rank!AM25","v":0},{"$f":"iMap_Rank!AN25","v":""},{"$f":"iMap_Rank!AO25","v":""},{"$f":"iMap_Rank!AP25","v":0},{"$f":"iMap_Rank!AQ25","v":""},{"$f":"iMap_Rank!AR25","v":""},{"$f":"iMap_Rank!AS25","v":0},{"$f":"iMap_Rank!AT25","v":""},{"$f":"iMap_Rank!AU25","v":""},{"$f":"iMap_Rank!AV25","v":0},{"$f":"iMap_Rank!AW25","v":""},{"$f":"iMap_Rank!AX25","v":""}]
[{"$f":"iMap_Rank!AM26","v":0},{"$f":"iMap_Rank!AN26","v":""},{"$f":"iMap_Rank!AO26","v":""},{"$f":"iMap_Rank!AP26","v":0},{"$f":"iMap_Rank!AQ26","v":""},{"$f":"iMap_Rank!AR26","v":""},{"$f":"iMap_Rank!AS26","v":0},{"$f":"iMap_Rank!AT26","v":""},{"$f":"iMap_Rank!AU26","v":""},{"$f":"iMap_Rank!AV26","v":0},{"$f":"iMap_Rank!AW26","v":""},{"$f":"iMap_Rank!AX26","v":""}]
[{"$f":"iMap_Rank!AM27","v":0},{"$f":"iMap_Rank!AN27","v":""},{"$f":"iMap_Rank!AO27","v":""},{"$f":"iMap_Rank!AP27","v":0},{"$f":"iMap_Rank!AQ27","v":""},{"$f":"iMap_Rank!AR27","v":""},{"$f":"iMap_Rank!AS27","v":0},{"$f":"iMap_Rank!AT27","v":""},{"$f":"iMap_Rank!AU27","v":""},{"$f":"iMap_Rank!AV27","v":0},{"$f":"iMap_Rank!AW27","v":""},{"$f":"iMap_Rank!AX27","v":""}]
[{"$f":"iMap_Rank!AM28","v":0},{"$f":"iMap_Rank!AN28","v":""},{"$f":"iMap_Rank!AO28","v":""},{"$f":"iMap_Rank!AP28","v":0},{"$f":"iMap_Rank!AQ28","v":""},{"$f":"iMap_Rank!AR28","v":""},{"$f":"iMap_Rank!AS28","v":0},{"$f":"iMap_Rank!AT28","v":""},{"$f":"iMap_Rank!AU28","v":""},{"$f":"iMap_Rank!AV28","v":0},{"$f":"iMap_Rank!AW28","v":""},{"$f":"iMap_Rank!AX28","v":""}]
[{"$f":"iMap_Rank!AM29","v":0},{"$f":"iMap_Rank!AN29","v":""},{"$f":"iMap_Rank!AO29","v":""},{"$f":"iMap_Rank!AP29","v":0},{"$f":"iMap_Rank!AQ29","v":""},{"$f":"iMap_Rank!AR29","v":""},{"$f":"iMap_Rank!AS29","v":0},{"$f":"iMap_Rank!AT29","v":""},{"$f":"iMap_Rank!AU29","v":""},{"$f":"iMap_Rank!AV29","v":0},{"$f":"iMap_Rank!AW29","v":""},{"$f":"iMap_Rank!AX29","v":""}]
[{"$f":"iMap_Rank!AM30","v":0},{"$f":"iMap_Rank!AN30","v":""},{"$f":"iMap_Rank!AO30","v":""},{"$f":"iMap_Rank!AP30","v":0},{"$f":"iMap_Rank!AQ30","v":""},{"$f":"iMap_Rank!AR30","v":""},{"$f":"iMap_Rank!AS30","v":0},{"$f":"iMap_Rank!AT30","v":""},{"$f":"iMap_Rank!AU30","v":""},{"$f":"iMap_Rank!AV30","v":0},{"$f":"iMap_Rank!AW30","v":""},{"$f":"iMap_Rank!AX30","v":""}]
[{"$f":"iMap_Rank!AM31","v":0},{"$f":"iMap_Rank!AN31","v":""},{"$f":"iMap_Rank!AO31","v":""},{"$f":"iMap_Rank!AP31","v":0},{"$f":"iMap_Rank!AQ31","v":""},{"$f":"iMap_Rank!AR31","v":""},{"$f":"iMap_Rank!AS31","v":0},{"$f":"iMap_Rank!AT31","v":""},{"$f":"iMap_Rank!AU31","v":""},{"$f":"iMap_Rank!AV31","v":0},{"$f":"iMap_Rank!AW31","v":""},{"$f":"iMap_Rank!AX31","v":""}]
[{"$f":"iMap_Rank!AM32","v":0},{"$f":"iMap_Rank!AN32","v":""},{"$f":"iMap_Rank!AO32","v":""},{"$f":"iMap_Rank!AP32","v":0},{"$f":"iMap_Rank!AQ32","v":""},{"$f":"iMap_Rank!AR32","v":""},{"$f":"iMap_Rank!AS32","v":0},{"$f":"iMap_Rank!AT32","v":""},{"$f":"iMap_Rank!AU32","v":""},{"$f":"iMap_Rank!AV32","v":0},{"$f":"iMap_Rank!AW32","v":""},{"$f":"iMap_Rank!AX32","v":""}]
[{"$f":"iMap_Rank!AM33","v":0},{"$f":"iMap_Rank!AN33","v":""},{"$f":"iMap_Rank!AO33","v":""},{"$f":"iMap_Rank!AP33","v":0},{"$f":"iMap_Rank!AQ33","v":""},{"$f":"iMap_Rank!AR33","v":""},{"$f":"iMap_Rank!AS33","v":0},{"$f":"iMap_Rank!AT33","v":""},{"$f":"iMap_Rank!AU33","v":""},{"$f":"iMap_Rank!AV33","v":0},{"$f":"iMap_Rank!AW33","v":""},{"$f":"iMap_Rank!AX33","v":""}]
[{"$f":"iMap_Rank!AM34","v":0},{"$f":"iMap_Rank!AN34","v":""},{"$f":"iMap_Rank!AO34","v":""},{"$f":"iMap_Rank!AP34","v":0},{"$f":"iMap_Rank!AQ34","v":""},{"$f":"iMap_Rank!AR34","v":""},{"$f":"iMap_Rank!AS34","v":0},{"$f":"iMap_Rank!AT34","v":""},{"$f":"iMap_Rank!AU34","v":""},{"$f":"iMap_Rank!AV34","v":0},{"$f":"iMap_Rank!AW34","v":""},{"$f":"iMap_Rank!AX34","v":""}]
[{"$f":"iMap_Rank!AM35","v":0},{"$f":"iMap_Rank!AN35","v":""},{"$f":"iMap_Rank!AO35","v":""},{"$f":"iMap_Rank!AP35","v":0},{"$f":"iMap_Rank!AQ35","v":""},{"$f":"iMap_Rank!AR35","v":""},{"$f":"iMap_Rank!AS35","v":0},{"$f":"iMap_Rank!AT35","v":""},{"$f":"iMap_Rank!AU35","v":""},{"$f":"iMap_Rank!AV35","v":0},{"$f":"iMap_Rank!AW35","v":""},{"$f":"iMap_Rank!AX35","v":""}]
[{"$f":"iMap_Rank!AM36","v":0},{"$f":"iMap_Rank!AN36","v":0},{"$f":"iMap_Rank!AO36","v":0},{"$f":"iMap_Rank!AP36","v":0},{"$f":"iMap_Rank!AQ36","v":0},{"$f":"iMap_Rank!AR36","v":0},{"$f":"iMap_Rank!AS36","v":0},{"$f":"iMap_Rank!AT36","v":0},{"$f":"iMap_Rank!AU36","v":0},{"$f":"iMap_Rank!AV36","v":0},{"$f":"iMap_Rank!AW36","v":0},{"$f":"iMap_Rank!AX36","v":0}]
[{"$f":"iMap_Rank!AM37","v":0},{"$f":"iMap_Rank!AN37","v":0},{"$f":"iMap_Rank!AO37","v":0},{"$f":"iMap_Rank!AP37","v":0},{"$f":"iMap_Rank!AQ37","v":0},{"$f":"iMap_Rank!AR37","v":0},{"$f":"iMap_Rank!AS37","v":0},{"$f":"iMap_Rank!AT37","v":0},{"$f":"iMap_Rank!AU37","v":0},{"$f":"iMap_Rank!AV37","v":0},{"$f":"iMap_Rank!AW37","v":0},{"$f":"iMap_Rank!AX37","v":0}]
[{"$f":"iMap_Rank!AM38","v":0},{"$f":"iMap_Rank!AN38","v":0},{"$f":"iMap_Rank!AO38","v":0},{"$f":"iMap_Rank!AP38","v":0},{"$f":"iMap_Rank!AQ38","v":0},{"$f":"iMap_Rank!AR38","v":0},{"$f":"iMap_Rank!AS38","v":0},{"$f":"iMap_Rank!AT38","v":0},{"$f":"iMap_Rank!AU38","v":0},{"$f":"iMap_Rank!AV38","v":0},{"$f":"iMap_Rank!AW38","v":0},{"$f":"iMap_Rank!AX38","v":0}]
[{"$f":"iMap_Rank!AM39","v":0},{"$f":"iMap_Rank!AN39","v":0},{"$f":"iMap_Rank!AO39","v":0},{"$f":"iMap_Rank!AP39","v":0},{"$f":"iMap_Rank!AQ39","v":0},{"$f":"iMap_Rank!AR39","v":0},{"$f":"iMap_Rank!AS39","v":0},{"$f":"iMap_Rank!AT39","v":0},{"$f":"iMap_Rank!AU39","v":0},{"$f":"iMap_Rank!AV39","v":0},{"$f":"iMap_Rank!AW39","v":0},{"$f":"iMap_Rank!AX39","v":0}]
[{"$f":"iMap_Rank!AM40","v":0},{"$f":"iMap_Rank!AN40","v":0},{"$f":"iMap_Rank!AO40","v":0},{"$f":"iMap_Rank!AP40","v":0},{"$f":"iMap_Rank!AQ40","v":0},{"$f":"iMap_Rank!AR40","v":0},{"$f":"iMap_Rank!AS40","v":0},{"$f":"iMap_Rank!AT40","v":0},{"$f":"iMap_Rank!AU40","v":0},{"$f":"iMap_Rank!AV40","v":0},{"$f":"iMap_Rank!AW40","v":0},{"$f":"iMap_Rank!AX40","v":0}]
[{"$f":"iMap_Rank!AM41","v":0},{"$f":"iMap_Rank!AN41","v":0},{"$f":"iMap_Rank!AO41","v":0},{"$f":"iMap_Rank!AP41","v":0},{"$f":"iMap_Rank!AQ41","v":0},{"$f":"iMap_Rank!AR41","v":0},{"$f":"iMap_Rank!AS41","v":0},{"$f":"iMap_Rank!AT41","v":0},{"$f":"iMap_Rank!AU41","v":0},{"$f":"iMap_Rank!AV41","v":0},{"$f":"iMap_Rank!AW41","v":0},{"$f":"iMap_Rank!AX41","v":0}]
[{"$f":"iMap_Rank!AM42","v":0},{"$f":"iMap_Rank!AN42","v":0},{"$f":"iMap_Rank!AO42","v":0},{"$f":"iMap_Rank!AP42","v":0},{"$f":"iMap_Rank!AQ42","v":0},{"$f":"iMap_Rank!AR42","v":0},{"$f":"iMap_Rank!AS42","v":0},{"$f":"iMap_Rank!AT42","v":0},{"$f":"iMap_Rank!AU42","v":0},{"$f":"iMap_Rank!AV42","v":0},{"$f":"iMap_Rank!AW42","v":0},{"$f":"iMap_Rank!AX42","v":0}]
[{"$f":"iMap_Rank!AM43","v":0},{"$f":"iMap_Rank!AN43","v":0},{"$f":"iMap_Rank!AO43","v":0},{"$f":"iMap_Rank!AP43","v":0},{"$f":"iMap_Rank!AQ43","v":0},{"$f":"iMap_Rank!AR43","v":0},{"$f":"iMap_Rank!AS43","v":0},{"$f":"iMap_Rank!AT43","v":0},{"$f":"iMap_Rank!AU43","v":0},{"$f":"iMap_Rank!AV43","v":0},{"$f":"iMap_Rank!AW43","v":0},{"$f":"iMap_Rank!AX43","v":0}]
[{"$f":"iMap_Rank!AM44","v":0},{"$f":"iMap_Rank!AN44","v":0},{"$f":"iMap_Rank!AO44","v":0},{"$f":"iMap_Rank!AP44","v":0},{"$f":"iMap_Rank!AQ44","v":0},{"$f":"iMap_Rank!AR44","v":0},{"$f":"iMap_Rank!AS44","v":0},{"$f":"iMap_Rank!AT44","v":0},{"$f":"iMap_Rank!AU44","v":0},{"$f":"iMap_Rank!AV44","v":0},{"$f":"iMap_Rank!AW44","v":0},{"$f":"iMap_Rank!AX44","v":0}]
[{"$f":"iMap_Rank!AM45","v":0},{"$f":"iMap_Rank!AN45","v":0},{"$f":"iMap_Rank!AO45","v":0},{"$f":"iMap_Rank!AP45","v":0},{"$f":"iMap_Rank!AQ45","v":0},{"$f":"iMap_Rank!AR45","v":0},{"$f":"iMap_Rank!AS45","v":0},{"$f":"iMap_Rank!AT45","v":0},{"$f":"iMap_Rank!AU45","v":0},{"$f":"iMap_Rank!AV45","v":0},{"$f":"iMap_Rank!AW45","v":0},{"$f":"iMap_Rank!AX45","v":0}]
[{"$f":"iMap_Rank!AM46","v":0},{"$f":"iMap_Rank!AN46","v":0},{"$f":"iMap_Rank!AO46","v":0},{"$f":"iMap_Rank!AP46","v":0},{"$f":"iMap_Rank!AQ46","v":0},{"$f":"iMap_Rank!AR46","v":0},{"$f":"iMap_Rank!AS46","v":0},{"$f":"iMap_Rank!AT46","v":0},{"$f":"iMap_Rank!AU46","v":0},{"$f":"iMap_Rank!AV46","v":0},{"$f":"iMap_Rank!AW46","v":0},{"$f":"iMap_Rank!AX46","v":0}]
[{"$f":"iMap_Rank!AM47","v":0},{"$f":"iMap_Rank!AN47","v":0},{"$f":"iMap_Rank!AO47","v":0},{"$f":"iMap_Rank!AP47","v":0},{"$f":"iMap_Rank!AQ47","v":0},{"$f":"iMap_Rank!AR47","v":0},{"$f":"iMap_Rank!AS47","v":0},{"$f":"iMap_Rank!AT47","v":0},{"$f":"iMap_Rank!AU47","v":0},{"$f":"iMap_Rank!AV47","v":0},{"$f":"iMap_Rank!AW47","v":0},{"$f":"iMap_Rank!AX47","v":0}]
[{"$f":"iMap_Rank!AM48","v":0},{"$f":"iMap_Rank!AN48","v":0},{"$f":"iMap_Rank!AO48","v":0},{"$f":"iMap_Rank!AP48","v":0},{"$f":"iMap_Rank!AQ48","v":0},{"$f":"iMap_Rank!AR48","v":0},{"$f":"iMap_Rank!AS48","v":0},{"$f":"iMap_Rank!AT48","v":0},{"$f":"iMap_Rank!AU48","v":0},{"$f":"iMap_Rank!AV48","v":0},{"$f":"iMap_Rank!AW48","v":0},{"$f":"iMap_Rank!AX48","v":0}]
[{"$f":"iMap_Rank!AM49","v":0},{"$f":"iMap_Rank!AN49","v":0},{"$f":"iMap_Rank!AO49","v":0},{"$f":"iMap_Rank!AP49","v":0},{"$f":"iMap_Rank!AQ49","v":0},{"$f":"iMap_Rank!AR49","v":0},{"$f":"iMap_Rank!AS49","v":0},{"$f":"iMap_Rank!AT49","v":0},{"$f":"iMap_Rank!AU49","v":0},{"$f":"iMap_Rank!AV49","v":0},{"$f":"iMap_Rank!AW49","v":0},{"$f":"iMap_Rank!AX49","v":0}]
[{"$f":"iMap_Rank!AM50","v":0},{"$f":"iMap_Rank!AN50","v":0},{"$f":"iMap_Rank!AO50","v":0},{"$f":"iMap_Rank!AP50","v":0},{"$f":"iMap_Rank!AQ50","v":0},{"$f":"iMap_Rank!AR50","v":0},{"$f":"iMap_Rank!AS50","v":0},{"$f":"iMap_Rank!AT50","v":0},{"$f":"iMap_Rank!AU50","v":0},{"$f":"iMap_Rank!AV50","v":0},{"$f":"iMap_Rank!AW50","v":0},{"$f":"iMap_Rank!AX50","v":0}]
[{"$f":"iMap_Rank!AM51","v":0},{"$f":"iMap_Rank!AN51","v":0},{"$f":"iMap_Rank!AO51","v":0},{"$f":"iMap_Rank!AP51","v":0},{"$f":"iMap_Rank!AQ51","v":0},{"$f":"iMap_Rank!AR51","v":0},{"$f":"iMap_Rank!AS51","v":0},{"$f":"iMap_Rank!AT51","v":0},{"$f":"iMap_Rank!AU51","v":0},{"$f":"iMap_Rank!AV51","v":0},{"$f":"iMap_Rank!AW51","v":0},{"$f":"iMap_Rank!AX51","v":0}]
[{"$f":"iMap_Rank!AM52","v":0},{"$f":"iMap_Rank!AN52","v":0},{"$f":"iMap_Rank!AO52","v":0},{"$f":"iMap_Rank!AP52","v":0},{"$f":"iMap_Rank!AQ52","v":0},{"$f":"iMap_Rank!AR52","v":0},{"$f":"iMap_Rank!AS52","v":0},{"$f":"iMap_Rank!AT52","v":0},{"$f":"iMap_Rank!AU52","v":0},{"$f":"iMap_Rank!AV52","v":0},{"$f":"iMap_Rank!AW52","v":0},{"$f":"iMap_Rank!AX52","v":0}]
[{"$f":"iMap_Rank!AM53","v":0},{"$f":"iMap_Rank!AN53","v":0},{"$f":"iMap_Rank!AO53","v":0},{"$f":"iMap_Rank!AP53","v":0},{"$f":"iMap_Rank!AQ53","v":0},{"$f":"iMap_Rank!AR53","v":0},{"$f":"iMap_Rank!AS53","v":0},{"$f":"iMap_Rank!AT53","v":0},{"$f":"iMap_Rank!AU53","v":0},{"$f":"iMap_Rank!AV53","v":0},{"$f":"iMap_Rank!AW53","v":0},{"$f":"iMap_Rank!AX53","v":0}]
[{"$f":"iMap_Rank!AM54","v":0},{"$f":"iMap_Rank!AN54","v":0},{"$f":"iMap_Rank!AO54","v":0},{"$f":"iMap_Rank!AP54","v":0},{"$f":"iMap_Rank!AQ54","v":0},{"$f":"iMap_Rank!AR54","v":0},{"$f":"iMap_Rank!AS54","v":0},{"$f":"iMap_Rank!AT54","v":0},{"$f":"iMap_Rank!AU54","v":0},{"$f":"iMap_Rank!AV54","v":0},{"$f":"iMap_Rank!AW54","v":0},{"$f":"iMap_Rank!AX54","v":0}]
[{"$f":"iMap_Rank!AM55","v":0},{"$f":"iMap_Rank!AN55","v":0},{"$f":"iMap_Rank!AO55","v":0},{"$f":"iMap_Rank!AP55","v":0},{"$f":"iMap_Rank!AQ55","v":0},{"$f":"iMap_Rank!AR55","v":0},{"$f":"iMap_Rank!AS55","v":0},{"$f":"iMap_Rank!AT55","v":0},{"$f":"iMap_Rank!AU55","v":0},{"$f":"iMap_Rank!AV55","v":0},{"$f":"iMap_Rank!AW55","v":0},{"$f":"iMap_Rank!AX55","v":0}]
[{"$f":"iMap_Rank!AM56","v":0},{"$f":"iMap_Rank!AN56","v":0},{"$f":"iMap_Rank!AO56","v":0},{"$f":"iMap_Rank!AP56","v":0},{"$f":"iMap_Rank!AQ56","v":0},{"$f":"iMap_Rank!AR56","v":0},{"$f":"iMap_Rank!AS56","v":0},{"$f":"iMap_Rank!AT56","v":0},{"$f":"iMap_Rank!AU56","v":0},{"$f":"iMap_Rank!AV56","v":0},{"$f":"iMap_Rank!AW56","v":0},{"$f":"iMap_Rank!AX56","v":0}]
[{"$f":"iMap_Rank!AM57","v":0},{"$f":"iMap_Rank!AN57","v":0},{"$f":"iMap_Rank!AO57","v":0},{"$f":"iMap_Rank!AP57","v":0},{"$f":"iMap_Rank!AQ57","v":0},{"$f":"iMap_Rank!AR57","v":0},{"$f":"iMap_Rank!AS57","v":0},{"$f":"iMap_Rank!AT57","v":0},{"$f":"iMap_Rank!AU57","v":0},{"$f":"iMap_Rank!AV57","v":0},{"$f":"iMap_Rank!AW57","v":0},{"$f":"iMap_Rank!AX57","v":0}]
[{"$f":"iMap_Rank!AM58","v":0},{"$f":"iMap_Rank!AN58","v":0},{"$f":"iMap_Rank!AO58","v":0},{"$f":"iMap_Rank!AP58","v":0},{"$f":"iMap_Rank!AQ58","v":0},{"$f":"iMap_Rank!AR58","v":0},{"$f":"iMap_Rank!AS58","v":0},{"$f":"iMap_Rank!AT58","v":0},{"$f":"iMap_Rank!AU58","v":0},{"$f":"iMap_Rank!AV58","v":0},{"$f":"iMap_Rank!AW58","v":0},{"$f":"iMap_Rank!AX58","v":0}]
[{"$f":"iMap_Rank!AM59","v":0},{"$f":"iMap_Rank!AN59","v":0},{"$f":"iMap_Rank!AO59","v":0},{"$f":"iMap_Rank!AP59","v":0},{"$f":"iMap_Rank!AQ59","v":0},{"$f":"iMap_Rank!AR59","v":0},{"$f":"iMap_Rank!AS59","v":0},{"$f":"iMap_Rank!AT59","v":0},{"$f":"iMap_Rank!AU59","v":0},{"$f":"iMap_Rank!AV59","v":0},{"$f":"iMap_Rank!AW59","v":0},{"$f":"iMap_Rank!AX59","v":0}]
[{"$f":"iMap_Rank!AM60","v":0},{"$f":"iMap_Rank!AN60","v":0},{"$f":"iMap_Rank!AO60","v":0},{"$f":"iMap_Rank!AP60","v":0},{"$f":"iMap_Rank!AQ60","v":0},{"$f":"iMap_Rank!AR60","v":0},{"$f":"iMap_Rank!AS60","v":0},{"$f":"iMap_Rank!AT60","v":0},{"$f":"iMap_Rank!AU60","v":0},{"$f":"iMap_Rank!AV60","v":0},{"$f":"iMap_Rank!AW60","v":0},{"$f":"iMap_Rank!AX60","v":0}]
[{"$f":"iMap_Rank!AM61","v":0},{"$f":"iMap_Rank!AN61","v":0},{"$f":"iMap_Rank!AO61","v":0},{"$f":"iMap_Rank!AP61","v":0},{"$f":"iMap_Rank!AQ61","v":0},{"$f":"iMap_Rank!AR61","v":0},{"$f":"iMap_Rank!AS61","v":0},{"$f":"iMap_Rank!AT61","v":0},{"$f":"iMap_Rank!AU61","v":0},{"$f":"iMap_Rank!AV61","v":0},{"$f":"iMap_Rank!AW61","v":0},{"$f":"iMap_Rank!AX61","v":0}]
[{"$f":"iMap_Rank!AM62","v":0},{"$f":"iMap_Rank!AN62","v":0},{"$f":"iMap_Rank!AO62","v":0},{"$f":"iMap_Rank!AP62","v":0},{"$f":"iMap_Rank!AQ62","v":0},{"$f":"iMap_Rank!AR62","v":0},{"$f":"iMap_Rank!AS62","v":0},{"$f":"iMap_Rank!AT62","v":0},{"$f":"iMap_Rank!AU62","v":0},{"$f":"iMap_Rank!AV62","v":0},{"$f":"iMap_Rank!AW62","v":0},{"$f":"iMap_Rank!AX62","v":0}]
[{"$f":"iMap_Rank!AM63","v":0},{"$f":"iMap_Rank!AN63","v":0},{"$f":"iMap_Rank!AO63","v":0},{"$f":"iMap_Rank!AP63","v":0},{"$f":"iMap_Rank!AQ63","v":0},{"$f":"iMap_Rank!AR63","v":0},{"$f":"iMap_Rank!AS63","v":0},{"$f":"iMap_Rank!AT63","v":0},{"$f":"iMap_Rank!AU63","v":0},{"$f":"iMap_Rank!AV63","v":0},{"$f":"iMap_Rank!AW63","v":0},{"$f":"iMap_Rank!AX63","v":0}]
[{"$f":"iMap_Rank!AM64","v":0},{"$f":"iMap_Rank!AN64","v":0},{"$f":"iMap_Rank!AO64","v":0},{"$f":"iMap_Rank!AP64","v":0},{"$f":"iMap_Rank!AQ64","v":0},{"$f":"iMap_Rank!AR64","v":0},{"$f":"iMap_Rank!AS64","v":0},{"$f":"iMap_Rank!AT64","v":0},{"$f":"iMap_Rank!AU64","v":0},{"$f":"iMap_Rank!AV64","v":0},{"$f":"iMap_Rank!AW64","v":0},{"$f":"iMap_Rank!AX64","v":0}]
[{"$f":"iMap_Rank!AM65","v":0},{"$f":"iMap_Rank!AN65","v":0},{"$f":"iMap_Rank!AO65","v":0},{"$f":"iMap_Rank!AP65","v":0},{"$f":"iMap_Rank!AQ65","v":0},{"$f":"iMap_Rank!AR65","v":0},{"$f":"iMap_Rank!AS65","v":0},{"$f":"iMap_Rank!AT65","v":0},{"$f":"iMap_Rank!AU65","v":0},{"$f":"iMap_Rank!AV65","v":0},{"$f":"iMap_Rank!AW65","v":0},{"$f":"iMap_Rank!AX65","v":0}]
[{"$f":"iMap_Rank!AM66","v":0},{"$f":"iMap_Rank!AN66","v":0},{"$f":"iMap_Rank!AO66","v":0},{"$f":"iMap_Rank!AP66","v":0},{"$f":"iMap_Rank!AQ66","v":0},{"$f":"iMap_Rank!AR66","v":0},{"$f":"iMap_Rank!AS66","v":0},{"$f":"iMap_Rank!AT66","v":0},{"$f":"iMap_Rank!AU66","v":0},{"$f":"iMap_Rank!AV66","v":0},{"$f":"iMap_Rank!AW66","v":0},{"$f":"iMap_Rank!AX66","v":0}]
[{"$f":"iMap_Rank!AM67","v":0},{"$f":"iMap_Rank!AN67","v":0},{"$f":"iMap_Rank!AO67","v":0},{"$f":"iMap_Rank!AP67","v":0},{"$f":"iMap_Rank!AQ67","v":0},{"$f":"iMap_Rank!AR67","v":0},{"$f":"iMap_Rank!AS67","v":0},{"$f":"iMap_Rank!AT67","v":0},{"$f":"iMap_Rank!AU67","v":0},{"$f":"iMap_Rank!AV67","v":0},{"$f":"iMap_Rank!AW67","v":0},{"$f":"iMap_Rank!AX67","v":0}]
[{"$f":"iMap_Rank!AM68","v":0},{"$f":"iMap_Rank!AN68","v":0},{"$f":"iMap_Rank!AO68","v":0},{"$f":"iMap_Rank!AP68","v":0},{"$f":"iMap_Rank!AQ68","v":0},{"$f":"iMap_Rank!AR68","v":0},{"$f":"iMap_Rank!AS68","v":0},{"$f":"iMap_Rank!AT68","v":0},{"$f":"iMap_Rank!AU68","v":0},{"$f":"iMap_Rank!AV68","v":0},{"$f":"iMap_Rank!AW68","v":0},{"$f":"iMap_Rank!AX68","v":0}]
[{"$f":"iMap_Rank!AM69","v":0},{"$f":"iMap_Rank!AN69","v":0},{"$f":"iMap_Rank!AO69","v":0},{"$f":"iMap_Rank!AP69","v":0},{"$f":"iMap_Rank!AQ69","v":0},{"$f":"iMap_Rank!AR69","v":0},{"$f":"iMap_Rank!AS69","v":0},{"$f":"iMap_Rank!AT69","v":0},{"$f":"iMap_Rank!AU69","v":0},{"$f":"iMap_Rank!AV69","v":0},{"$f":"iMap_Rank!AW69","v":0},{"$f":"iMap_Rank!AX69","v":0}]
[{"$f":"iMap_Rank!AM70","v":0},{"$f":"iMap_Rank!AN70","v":0},{"$f":"iMap_Rank!AO70","v":0},{"$f":"iMap_Rank!AP70","v":0},{"$f":"iMap_Rank!AQ70","v":0},{"$f":"iMap_Rank!AR70","v":0},{"$f":"iMap_Rank!AS70","v":0},{"$f":"iMap_Rank!AT70","v":0},{"$f":"iMap_Rank!AU70","v":0},{"$f":"iMap_Rank!AV70","v":0},{"$f":"iMap_Rank!AW70","v":0},{"$f":"iMap_Rank!AX70","v":0}]
[{"$f":"iMap_Rank!AM71","v":0},{"$f":"iMap_Rank!AN71","v":0},{"$f":"iMap_Rank!AO71","v":0},{"$f":"iMap_Rank!AP71","v":0},{"$f":"iMap_Rank!AQ71","v":0},{"$f":"iMap_Rank!AR71","v":0},{"$f":"iMap_Rank!AS71","v":0},{"$f":"iMap_Rank!AT71","v":0},{"$f":"iMap_Rank!AU71","v":0},{"$f":"iMap_Rank!AV71","v":0},{"$f":"iMap_Rank!AW71","v":0},{"$f":"iMap_Rank!AX71","v":0}]
[{"$f":"iMap_Rank!AM72","v":0},{"$f":"iMap_Rank!AN72","v":0},{"$f":"iMap_Rank!AO72","v":0},{"$f":"iMap_Rank!AP72","v":0},{"$f":"iMap_Rank!AQ72","v":0},{"$f":"iMap_Rank!AR72","v":0},{"$f":"iMap_Rank!AS72","v":0},{"$f":"iMap_Rank!AT72","v":0},{"$f":"iMap_Rank!AU72","v":0},{"$f":"iMap_Rank!AV72","v":0},{"$f":"iMap_Rank!AW72","v":0},{"$f":"iMap_Rank!AX72","v":0}]
[{"$f":"iMap_Rank!AM73","v":0},{"$f":"iMap_Rank!AN73","v":0},{"$f":"iMap_Rank!AO73","v":0},{"$f":"iMap_Rank!AP73","v":0},{"$f":"iMap_Rank!AQ73","v":0},{"$f":"iMap_Rank!AR73","v":0},{"$f":"iMap_Rank!AS73","v":0},{"$f":"iMap_Rank!AT73","v":0},{"$f":"iMap_Rank!AU73","v":0},{"$f":"iMap_Rank!AV73","v":0},{"$f":"iMap_Rank!AW73","v":0},{"$f":"iMap_Rank!AX73","v":0}]
[{"$f":"iMap_Rank!AM74","v":0},{"$f":"iMap_Rank!AN74","v":0},{"$f":"iMap_Rank!AO74","v":0},{"$f":"iMap_Rank!AP74","v":0},{"$f":"iMap_Rank!AQ74","v":0},{"$f":"iMap_Rank!AR74","v":0},{"$f":"iMap_Rank!AS74","v":0},{"$f":"iMap_Rank!AT74","v":0},{"$f":"iMap_Rank!AU74","v":0},{"$f":"iMap_Rank!AV74","v":0},{"$f":"iMap_Rank!AW74","v":0},{"$f":"iMap_Rank!AX74","v":0}]

{"sheet":"iMap_Rank","index":4,"n_rows":39,"n_cols":50,"rows_kept":39,"cut":false,"hidden":true,"merged":[]}
[null,null,{"$f":"uxb_works!C13","v":"IS_BG"},{"$f":"uxb_works!D13","v":"Spare1"},{"$f":"uxb_works!E13","v":"INDI_CODE"},{"$f":"uxb_works!F13","v":"PARENT_CODE"},{"$f":"uxb_works!G13","v":"DEPTH"},{"$f":"uxb_works!H13","v":"REF"},{"$f":"uxb_works!I13","v":"NDICATOR_SHORT"},{"$f":"uxb_works!J13","v":"DESCRITION"},{"$f":"uxb_works!K13","v":"INDICATOR_MULTI"},{"$f":"uxb_works!L13","v":"INDICATOR_UNIT"},{"$f":"uxb_works!M13","v":"Scoring Criteria (0-100 or 0-4 etc)"},{"$f":"uxb_works!N13","v":"Year"},{"$f":"uxb_works!O13","v":"Geography"},{"$f":"uxb_works!P13","v":"HIGH=Good"},{"$f":"uxb_works!Q13","v":"Format"},{"$f":"uxb_works!R13","v":"MAIN_SOURCE"},{"$f":"uxb_works!S13","v":"SOURCE_WS_ID"},{"$f":"uxb_works!T13","v":"HIGH_IS"},{"$f":"uxb_works!U13","v":"NORM_ID (1=sumproduct, 2=min max set by data values, 3=min max set by user here)"}]
[{"$f":"uxb_works!A19","v":"CITY1_ID"},{"$f":"uxb_works!B14","v":1},{"$f":"uxb_works!C14","v":0},{"$f":"uxb_works!D14","v":""},{"$f":"uxb_works!E14","v":"TOTAL"},{"$f":"uxb_works!F14","v":"OVERALL SCORE"},{"$f":"uxb_works!G14","v":0},{"$f":"uxb_works!H14","v":""},{"$f":"uxb_works!I14","v":"OVERALL SCORE"},{"$f":"uxb_works!J14","v":"The overall score is the weighted sum of the following categories scores:\n\n1) Intellectual property\n2) Transparency and trade\n3) Customs environment\n4) Supply and demand"},{"$f":"uxb_works!K14","v":"Index score/number"},{"$f":"uxb_works!L14","v":""},{"$f":"uxb_works!M14","v":"Index score/number"},{"$f":"uxb_works!N14","v":"Index score/number"},{"$f":"uxb_works!O14","v":""},{"$f":"uxb_works!P14","v":""},{"$f":"uxb_works!Q14","v":"0.0"},{"$f":"uxb_works!R14","v":"EIU Calculation"},{"$f":"uxb_works!S14","v":""},{"$f":"uxb_works!T14","v":""},{"$f":"uxb_works!U14","v":1}]
["INDI_IS_NATIONAL",{"$f":"D2","v":""},null,null,null,null,null,null,null,null,null,null,null,null,null,null,null,null,null,null,1]
[]
[null,null,null,null,null,null,null,null,null,null,null,null,null,null,null,null,null,"percentiles","equal buckets"]
["SERIES_LEVEL",1,null,null,null,null,null,null,null,null,null,null,null,null,"Fifths",null,0,{"$f":"IF($U$2=1,PERCENTILE(R$19:R$35,Q6),Q6*100)","v":10.8}]
["Rank_Order",0,null,null,null,null,null,null,null,null,null,null,null,null,null,null,0.25,{"$f":"IF($U$2=1,PERCENTILE(R$19:R$35,Q7),Q7*100)","v":49.4},null,1,null,null,null,null,null,{"$f":"56/6","v":9.3333333333333339}]
[null,null,null,null,null,null,null,null,null,null,null,null,null,null,null,null,0.5,{"$f":"IF($U$2=1,PERCENTILE(R$19:R$35,Q8),Q8*100)","v":61.6},{"$f":"AB32","v":46.1},2]
[{"$f":"uxb_works!A6","v":"CITY_HIGHLIGHT_DD"},{"$f":"uxb_works!B6","v":1},{"$f":"IF(uxb_works!C6=\"<none>\",\"Click on map or select from the country highlight drop down box\",uxb_works!C6)","v":"Click on map or select from the country highlight drop down box"},{"$f":"IF(ISNA(INDEX(P19:P35,MATCH(C9,N19:N35,0))),\"\",INDEX(P19:P35,MATCH(C9,N19:N35,0)))","v":""},null,null,null,null,null,null,null,null,null,null,null,null,0.75,{"$f":"IF($U$2=1,PERCENTILE(R$19:R$35,Q9),Q9*100)","v":71.8},{"$f":"AB27","v":61.6},3]
[null,null,null,null,null,null,null,null,null,null,null,null,null,null,null,null,1,{"$f":"IF($U$2=1,PERCENTILE(R$19:R$35,Q10),Q10*100)","v":85.2},{"$f":"AB22","v":75.900000000000006},4]
[null,null,null,null,null,null,null,null,null,null,null,null,null,null,null,null,null,null,{"$f":"AB19","v":85.2},5,{"$f":"80/5","v":16}]
[]
[null,null,null,null,null,null,null,null,null,null,null,null,null,null,null,null,null,null,{"$f":"PERCENTILE(R$19:R$35,Q11)","v":10.8}]
[null,null,null,null,null,null,null,null,null,null,null,null,null,null,null,null,null,null,null,null,null,null,null,null,null,null,null,null,null,null,null,null,null,null,"Buckets"]
[null,null,null,null,null,null,null,null,null,null,null,null,null,null,null,null,null,null,null,null,null,null,null,null,null,null,null,null,null,null,null,null,null,null,null,null,null,null,null,{"$f":"\"Score \"&ROUND($R$9+0.1,1)&\" to \"&$R$10","v":"Score 71.9 to 85.2"},null,null,{"$f":"\"Score \"&ROUND($R$8+0.1,1)&\" to \"&ROUND($R$9,1)","v":"Score 61.7 to 71.8"},null,null,{"$f":"\"Score \"&ROUND($R$7+0.1,1)&\" to \"&ROUND($R$8,1)","v":"Score 49.5 to 61.6"},null,null,{"$f":"\"Score \"&ROUND($R$6,1)&\" to \"&ROUND($R$7,1)","v":"Score 10.8 to 49.4"}]
[]
["SHOW_DATA",{"$f":"IF(OR(P2=1,AC2=0),FALSE,TRUE)","v":false},null,null,null,null,null,null,null,null,null,null,null,null,null,null,null,null,null,"ALL UNFILTERED DATA POINTS",null,"Country Highlight","Country Filter",null,null,null,null,null,null,null,null,null,null,null,4,3,2,1,null,1,3,null,1,3,null,1,3,null,1,3]
[null,null,null,"IsRegion",null,"ActiveStatus","Score (unrounded)","Rank unrounded","LU","yScatter","RankRounded",null,null,null,"Score","Score Display",{"$f":"IF($B$17,\"Data\",\"\")","v":""},"Map Display",null,"X","Y",null,null,null,null,null,null,null,null,null,null,"Main Set","Highlighted",null,0,0,0,0,{"$f":"$F$18","v":"ActiveStatus"},"B1","B1a",{"$f":"$F$18","v":"ActiveStatus"},"B2","B2a",{"$f":"$F$18","v":"ActiveStatus"},"B3","B3a",{"$f":"$F$18","v":"ActiveStatus"},"B4","B4a"]
[{"$f":"tblTerritories!A3","v":1},{"$f":"tblTerritories!B3","v":"AUS"},{"$f":"tblTerritories!C3","v":"Australia"},{"$f":"INDEX(tblTerritories!$R$3:$V$19,A19,uxb_works!$B$10)","v":1},null,{"$f":"IF(D19=0,0,tblTerritories!G3)","v":1},{"$f":"IF(F19=0,\"\",INDEX(aScores,$B$2,$A19))","v":85.203537454070016},{"$f":"IF(F19=0,\"\",RANK(G19,G$19:G$35,$B$7)+COUNTIF(G$19:G19,G19)-1)","v":1},{"$f":"IF(ISERROR(MATCH($A19,H$19:H$35,0)),\"\",MATCH($A19,H$19:H$35,0))","v":1},{"$f":"IF(I19=\"\",\"\",1)","v":1},{"$f":"IF(I19=\"\",\"\",RANK(O19,O$19:O$35,$B$7))","v":1},{"$f":"IF(I19=\"\",0,INDEX($F$19:$F$35,I19))","v":1},{"$f":"IF(I19=\"\",\"\",IF(OR(K19=K18,K19=K20),CONCATENATE(\"=\",K19),K19))","v":1},{"$f":"IF(I19=\"\",\"\",INDEX($C$19:$C$35,I19))","v":"Australia"},{"$f":"IF(I19=\"\",\"\",INDEX(aRoundedScores,$B$2,I19))","v":85.2},{"$f":"IF(L19=0,\"\",IF($C$2=1,\"-\",O19))","v":85.2},{"$f":"IF(ISNA(VLOOKUP(N19,uxb_regions!$C$3:$I$79,7,FALSE)),\"\",VLOOKUP(N19,uxb_regions!$C$3:$I$79,7,FALSE))","v":"AUS"},{"$f":"IF(L19=0,\"\",O19)","v":85.2},{"$f":"IF(Q19=\"\",\"\",CHOOSE($U$3,IF(R19<=R$7,1,IF(R19<=R$8,2,IF(R19<=R$9,3,IF(R19<=R$10,4))))))","v":4},{"$f":"IF(ISNUMBER(O19),O19,NA())","v":85.2},{"$f":"1","v":1},{"$f":"IF(ISNA(INDEX($F$19:$F$35,MATCH(N19,$C$19:$C$35,0))),0,INDEX($F$19:$F$35,MATCH(N19,$C$19:$C$35,0)))","v":1},{"$f":"IF(OR(V19=3,V19=2),Q19,0)","v":0},{"$f":"IF(ISNA(V19),\"\",Q19)","v":"AUS"},{"$f":"IF(L19=2,T19,NA())","v":{"$error":"#N/A"}},{"$f":"IF(L19=2,1,NA())","v":{"$error":"#N/A"}},null,{"$f":"LARGE($R$19:$R$35,ROW(R1)-ROW($R$1)+1)","v":85.2},null,null,{"$f":"IF(ISNUMBER(O19),N19,CONCATENATE(N19))","v":"Australia"},{"$f":"IF(ISNUMBER(P19),P19,\"-\")","v":85.2},{"$f":"IF(W19=0,NA(),AF19)","v":{"$error":"#N/A"}},{"$f":"TEXT(AF19,$Q$2)","v":"85.2"},{"$f":"AI18+MATCH(AI$17,OFFSET($S$19:$S$35,AI18,0),0)","v":1},{"$f":"AJ18+MATCH(AJ$17,OFFSET($S$19:$S$35,AJ18,0),0)","v":5},{"$f":"AK18+MATCH(AK$17,OFFSET($S$19:$S$35,AK18,0),0)","v":9},{"$f":"AL18+MATCH(AL$17,OFFSET($S$19:$S$35,AL18,0),0)","v":13},{"$f":"IF(AN19=\"\",0,INDEX($F$19:$F$35,MATCH(AN19,$C$19:$C$35,0)))","v":1},{"$f":"IF(ISNA(AI19),\"\",INDEX($N$19:$P$35,$AI19,AN$17))","v":"Australia"},{"$f":"IF(ISNA(AI19),\"\",INDEX($N$19:$P$35,$AI19,AO$17))","v":85.2},{"$f":"IF(AQ19=\"\",0,INDEX($F$19:$F$35,MATCH(AQ19,$C$19:$C$35,0)))","v":1},{"$f":"IF(ISNA(AJ19),\"\",INDEX($N$19:$P$35,$AJ19,AQ$17))","v":"South Korea"},{"$f":"IF(ISNA(AJ19),\"\",INDEX($N$19:$P$35,$AJ19,AR$17))","v":71.8},{"$f":"IF(AT19=\"\",0,INDEX($F$19:$F$35,MATCH(AT19,$C$19:$C$35,0)))","v":1},{"$f":"IF(ISNA(AK19),\"\",INDEX($N$19:$P$35,$AK19,AT$17))","v":"China"},{"$f":"IF(ISNA(AK19),\"\",INDEX($N$19:$P$35,$AK19,AU$17))","v":61.6},{"$f":"IF(AW19=\"\",0,INDEX($F$19:$F$35,MATCH(AW19,$C$19:$C$35,0)))","v":1},{"$f":"IF(ISNA(AL19),\"\",INDEX($N$19:$P$35,$AL19,AW$17))","v":"Vietnam "},{"$f":"IF(ISNA(AL19),\"\",INDEX($N$19:$P$35,$AL19,AX$17))","v":49.4}]
[{"$f":"tblTerritories!A4","v":2},{"$f":"tblTerritories!B4","v":"KHM"},{"$f":"tblTerritories!C4","v":"Cambodia"},{"$f":"INDEX(tblTerritories!$R$3:$V$19,A20,uxb_works!$B$10)","v":1},null,{"$f":"IF(D20=0,0,tblTerritories!G4)","v":1},{"$f":"IF(F20=0,\"\",INDEX(aScores,$B$2,$A20))","v":23.921744324970128},{"$f":"IF(F20=0,\"\",RANK(G20,G$19:G$35,$B$7)+COUNTIF(G$19:G20,G20)-1)","v":15},{"$f":"IF(ISERROR(MATCH($A20,H$19:H$35,0)),\"\",MATCH($A20,H$19:H$35,0))","v":11},{"$f":"IF(I20=\"\",\"\",1)","v":1},{"$f":"IF(I20=\"\",\"\",RANK(O20,O$19:O$35,$B$7))","v":2},{"$f":"IF(I20=\"\",0,INDEX($F$19:$F$35,I20))","v":1},{"$f":"IF(I20=\"\",\"\",IF(OR(K20=K19,K20=K21),CONCATENATE(\"=\",K20),K20))","v":2},{"$f":"IF(I20=\"\",\"\",INDEX($C$19:$C$35,I20))","v":"New Zealand"},{"$f":"IF(I20=\"\",\"\",INDEX(aRoundedScores,$B$2,I20))","v":81.8},{"$f":"IF(L20=0,\"\",IF($C$2=1,\"-\",O20))","v":81.8},{"$f":"IF(ISNA(VLOOKUP(N20,uxb_regions!$C$3:$I$79,7,FALSE)),\"\",VLOOKUP(N20,uxb_regions!$C$3:$I$79,7,FALSE))","v":"NZL"},{"$f":"IF(L20=0,\"\",O20)","v":81.8},{"$f":"IF(Q20=\"\",\"\",CHOOSE($U$3,IF(R20<=R$7,1,IF(R20<=R$8,2,IF(R20<=R$9,3,IF(R20<=R$10,4))))))","v":4},{"$f":"IF(ISNUMBER(O20),O20,NA())","v":81.8},{"$f":"1","v":1},{"$f":"IF(ISNA(INDEX($F$19:$F$35,MATCH(N20,$C$19:$C$35,0))),0,INDEX($F$19:$F$35,MATCH(N20,$C$19:$C$35,0)))","v":1},{"$f":"IF(OR(V20=3,V20=2),Q20,0)","v":0},{"$f":"IF(ISNA(V20),\"\",Q20)","v":"NZL"},{"$f":"IF(L20=2,T20,NA())","v":{"$error":"#N/A"}},{"$f":"IF(L20=2,1,NA())","v":{"$error":"#N/A"}},null,{"$f":"LARGE($R$19:$R$35,ROW(R2)-ROW($R$1)+1)","v":81.8},null,null,{"$f":"IF(ISNUMBER(O20),N20,CONCATENATE(N20))","v":"New Zealand"},{"$f":"IF(ISNUMBER(P20),P20,\"-\")","v":81.8},{"$f":"IF(W20=0,NA(),AF20)","v":{"$error":"#N/A"}},{"$f":"TEXT(AF20,$Q$2)","v":"81.8"},{"$f":"AI19+MATCH(AI$17,OFFSET($S$19:$S$35,AI19,0),0)","v":2},{"$f":"AJ19+MATCH(AJ$17,OFFSET($S$19:$S$35,AJ19,0),0)","v":6},{"$f":"AK19+MATCH(AK$17,OFFSET($S$19:$S$35,AK19,0),0)","v":10},{"$f":"AL19+MATCH(AL$17,OFFSET($S$19:$S$35,AL19,0),0)","v":14},{"$f":"IF(AN20=\"\",0,INDEX($F$19:$F$35,MATCH(AN20,$C$19:$C$35,0)))","v":1},{"$f":"IF(ISNA(AI20),\"\",INDEX($N$19:$P$35,$AI20,AN$17))","v":"New Zealand"},{"$f":"IF(ISNA(AI20),\"\",INDEX($N$19:$P$35,$AI20,AO$17))","v":81.8},{"$f":"IF(AQ20=\"\",0,INDEX($F$19:$F$35,MATCH(AQ20,$C$19:$C$35,0)))","v":1},{"$f":"IF(ISNA(AJ20),\"\",INDEX($N$19:$P$35,$AJ20,AQ$17))","v":"Malaysia"},{"$f":"IF(ISNA(AJ20),\"\",INDEX($N$19:$P$35,$AJ20,AR$17))","v":71.8},{"$f":"IF(AT20=\"\",0,INDEX($F$19:$F$35,MATCH(AT20,$C$19:$C$35,0)))","v":1},{"$f":"IF(ISNA(AK20),\"\",INDEX($N$19:$P$35,$AK20,AT$17))","v":"India"},{"$f":"IF(ISNA(AK20),\"\",INDEX($N$19:$P$35,$AK20,AU$17))","v":54.1},{"$f":"IF(AW20=\"\",0,INDEX($F$19:$F$35,MATCH(AW20,$C$19:$C$35,0)))","v":1},{"$f":"IF(ISNA(AL20),\"\",INDEX($N$19:$P$35,$AL20,AW$17))","v":"Indonesia"},{"$f":"IF(ISNA(AL20),\"\",INDEX($N$19:$P$35,$AL20,AX$17))","v":46.1}]
[{"$f":"tblTerritories!A5","v":3},{"$f":"tblTerritories!B5","v":"CHN"},{"$f":"tblTerritories!C5","v":"China"},{"$f":"INDEX(tblTerritories!$R$3:$V$19,A21,uxb_works!$B$10)","v":1},null,{"$f":"IF(D21=0,0,tblTerritories!G5)","v":1},61.576553729627371,{"$f":"IF(F21=0,\"\",RANK(G21,G$19:G$35,$B$7)+COUNTIF(G$19:G21,G21)-1)","v":9},4,1,3,1,3,"Hong Kong",81.400000000000006,81.400000000000006,{"$f":"IF(ISNA(VLOOKUP(N21,uxb_regions!$C$3:$I$79,7,FALSE)),\"\",VLOOKUP(N21,uxb_regions!$C$3:$I$79,7,FALSE))","v":"HKG"},81.400000000000006,4,81.400000000000006,{"$f":"1","v":1},1,0,"HKG",{"$error":"#N/A"},{"$error":"#N/A"},null,81.400000000000006,null,null,"Hong Kong",81.400000000000006,{"$error":"#N/A"},"81.4",3,7,11,15,1,"Hong Kong",81.400000000000006,1,"Taiwan",69.8,1,"Thailand",53.1,1,"Cambodia",23.9]
[{"$f":"tblTerritories!A6","v":4},{"$f":"tblTerritories!B6","v":"HKG"},{"$f":"tblTerritories!C6","v":"Hong Kong"},{"$f":"INDEX(tblTerritories!$R$3:$V$19,A22,uxb_works!$B$10)","v":1},null,{"$f":"IF(D22=0,0,tblTerritories!G6)","v":1},81.408892382948977,{"$f":"IF(F22=0,\"\",RANK(G22,G$19:G$35,$B$7)+COUNTIF(G$19:G22,G22)-1)","v":3},7,1,4,1,4,"Japan",75.900000000000006,75.900000000000006,{"$f":"IF(ISNA(VLOOKUP(N22,uxb_regions!$C$3:$I$79,7,FALSE)),\"\",VLOOKUP(N22,uxb_regions!$C$3:$I$79,7,FALSE))","v":"JPN"},75.900000000000006,4,75.900000000000006,{"$f":"1","v":1},1,0,"JPN",{"$error":"#N/A"},{"$error":"#N/A"},null,75.900000000000006,null,null,"Japan",75.900000000000006,{"$error":"#N/A"},"75.9",4,8,12,16,1,"Japan",75.900000000000006,1,"Singapore",69.8,1,"Philippines",50.4,1,"Laos ",12.9]
[{"$f":"tblTerritories!A7","v":5},{"$f":"tblTerritories!B7","v":"IND"},{"$f":"tblTerritories!C7","v":"India"},{"$f":"INDEX(tblTerritories!$R$3:$V$19,A23,uxb_works!$B$10)","v":1},null,{"$f":"IF(D23=0,0,tblTerritories!G7)","v":1},54.142809844232545,{"$f":"IF(F23=0,\"\",RANK(G23,G$19:G$35,$B$7)+COUNTIF(G$19:G23,G23)-1)","v":10},14,1,5,1,"=5","South Korea",71.8,71.8,{"$f":"IF(ISNA(VLOOKUP(N23,uxb_regions!$C$3:$I$79,7,FALSE)),\"\",VLOOKUP(N23,uxb_regions!$C$3:$I$79,7,FALSE))","v":"KOR"},71.8,3,71.8,{"$f":"1","v":1},1,0,"KOR",{"$error":"#N/A"},{"$error":"#N/A"},null,71.8,null,null,"South Korea",71.8,{"$error":"#N/A"},"71.8",{"$error":"#N/A"},{"$error":"#N/A"},{"$error":"#N/A"},17,0,"","",0,"","",0,"","",1,"Myanmar",10.8]
[{"$f":"tblTerritories!A8","v":6},{"$f":"tblTerritories!B8","v":"IDN"},{"$f":"tblTerritories!C8","v":"Indonesia"},{"$f":"INDEX(tblTerritories!$R$3:$V$19,A24,uxb_works!$B$10)","v":1},null,{"$f":"IF(D24=0,0,tblTerritories!G8)","v":1},46.066240616757959,{"$f":"IF(F24=0,\"\",RANK(G24,G$19:G$35,$B$7)+COUNTIF(G$19:G24,G24)-1)","v":14},9,1,5,1,"=5","Malaysia",71.8,71.8,{"$f":"IF(ISNA(VLOOKUP(N24,uxb_regions!$C$3:$I$79,7,FALSE)),\"\",VLOOKUP(N24,uxb_regions!$C$3:$I$79,7,FALSE))","v":"MYS"},71.8,3,71.8,{"$f":"1","v":1},1,0,"MYS",{"$error":"#N/A"},{"$error":"#N/A"},null,71.8,null,null,"Malaysia",71.8,{"$error":"#N/A"},"71.8",{"$error":"#N/A"},{"$error":"#N/A"},{"$error":"#N/A"},{"$error":"#N/A"},0,"","",0,"","",0,"","",0,"",""]
[{"$f":"tblTerritories!A9","v":7},{"$f":"tblTerritories!B9","v":"JPN"},{"$f":"tblTerritories!C9","v":"Japan"},{"$f":"INDEX(tblTerritories!$R$3:$V$19,A25,uxb_works!$B$10)","v":1},null,{"$f":"IF(D25=0,0,tblTerritories!G9)","v":1},75.85877093618268,{"$f":"IF(F25=0,\"\",RANK(G25,G$19:G$35,$B$7)+COUNTIF(G$19:G25,G25)-1)","v":4},15,1,7,1,"=7","Taiwan",69.8,69.8,{"$f":"IF(ISNA(VLOOKUP(N25,uxb_regions!$C$3:$I$79,7,FALSE)),\"\",VLOOKUP(N25,uxb_regions!$C$3:$I$79,7,FALSE))","v":"TWN"},69.8,3,69.8,{"$f":"1","v":1},1,0,"TWN",{"$error":"#N/A"},{"$error":"#N/A"},null,69.8,null,null,"Taiwan",69.8,{"$error":"#N/A"},"69.8",{"$error":"#N/A"},{"$error":"#N/A"},{"$error":"#N/A"},{"$error":"#N/A"},0,"","",0,"","",0,"","",0,"",""]
[{"$f":"tblTerritories!A10","v":8},{"$f":"tblTerritories!B10","v":"LAO"},{"$f":"tblTerritories!C10","v":"Laos "},{"$f":"INDEX(tblTerritories!$R$3:$V$19,A26,uxb_works!$B$10)","v":1},null,{"$f":"IF(D26=0,0,tblTerritories!G10)","v":1},12.935185185185183,{"$f":"IF(F26=0,\"\",RANK(G26,G$19:G$35,$B$7)+COUNTIF(G$19:G26,G26)-1)","v":16},13,1,7,1,"=7","Singapore",69.8,69.8,{"$f":"IF(ISNA(VLOOKUP(N26,uxb_regions!$C$3:$I$79,7,FALSE)),\"\",VLOOKUP(N26,uxb_regions!$C$3:$I$79,7,FALSE))","v":"SGP"},69.8,3,69.8,{"$f":"1","v":1},1,0,"SGP",{"$error":"#N/A"},{"$error":"#N/A"},null,69.8,null,null,"Singapore",69.8,{"$error":"#N/A"},"69.8",{"$error":"#N/A"},{"$error":"#N/A"},{"$error":"#N/A"},{"$error":"#N/A"},0,"","",0,"","",0,"","",0,"",""]
[{"$f":"tblTerritories!A11","v":9},{"$f":"tblTerritories!B11","v":"MYS"},{"$f":"tblTerritories!C11","v":"Malaysia"},{"$f":"INDEX(tblTerritories!$R$3:$V$19,A27,uxb_works!$B$10)","v":1},null,{"$f":"IF(D27=0,0,tblTerritories!G11)","v":1},71.800162304727124,{"$f":"IF(F27=0,\"\",RANK(G27,G$19:G$35,$B$7)+COUNTIF(G$19:G27,G27)-1)","v":6},3,1,9,1,9,"China",61.6,61.6,{"$f":"IF(ISNA(VLOOKUP(N27,uxb_regions!$C$3:$I$79,7,FALSE)),\"\",VLOOKUP(N27,uxb_regions!$C$3:$I$79,7,FALSE))","v":"CHN"},61.6,2,61.6,{"$f":"1","v":1},1,0,"CHN",{"$error":"#N/A"},{"$error":"#N/A"},null,61.6,null,null,"China",61.6,{"$error":"#N/A"},"61.6",{"$error":"#N/A"},{"$error":"#N/A"},{"$error":"#N/A"},{"$error":"#N/A"},0,"","",0,"","",0,"","",0,"",""]
[{"$f":"tblTerritories!A12","v":10},{"$f":"tblTerritories!B12","v":"MMR"},{"$f":"tblTerritories!C12","v":"Myanmar"},{"$f":"INDEX(tblTerritories!$R$3:$V$19,A28,uxb_works!$B$10)","v":1},null,{"$f":"IF(D28=0,0,tblTerritories!G12)","v":1},10.82037037037037,{"$f":"IF(F28=0,\"\",RANK(G28,G$19:G$35,$B$7)+COUNTIF(G$19:G28,G28)-1)","v":17},5,1,10,1,10,"India",54.1,54.1,{"$f":"IF(ISNA(VLOOKUP(N28,uxb_regions!$C$3:$I$79,7,FALSE)),\"\",VLOOKUP(N28,uxb_regions!$C$3:$I$79,7,FALSE))","v":"IND"},54.1,2,54.1,{"$f":"1","v":1},1,0,"IND",{"$error":"#N/A"},{"$error":"#N/A"},null,54.1,null,null,"India",54.1,{"$error":"#N/A"},"54.1",{"$error":"#N/A"},{"$error":"#N/A"},{"$error":"#N/A"},{"$error":"#N/A"},0,"","",0,"","",0,"","",0,"",""]
[{"$f":"tblTerritories!A13","v":11},{"$f":"tblTerritories!B13","v":"NZL"},{"$f":"tblTerritories!C13","v":"New Zealand"},{"$f":"INDEX(tblTerritories!$R$3:$V$19,A29,uxb_works!$B$10)","v":1},null,{"$f":"IF(D29=0,0,tblTerritories!G13)","v":1},81.806219145195101,{"$f":"IF(F29=0,\"\",RANK(G29,G$19:G$35,$B$7)+COUNTIF(G$19:G29,G29)-1)","v":2},16,1,11,1,11,"Thailand",53.1,53.1,{"$f":"IF(ISNA(VLOOKUP(N29,uxb_regions!$C$3:$I$79,7,FALSE)),\"\",VLOOKUP(N29,uxb_regions!$C$3:$I$79,7,FALSE))","v":"THA"},53.1,2,53.1,{"$f":"1","v":1},1,0,"THA",{"$error":"#N/A"},{"$error":"#N/A"},null,53.1,null,null,"Thailand",53.1,{"$error":"#N/A"},"53.1",{"$error":"#N/A"},{"$error":"#N/A"},{"$error":"#N/A"},{"$error":"#N/A"},0,"","",0,"","",0,"","",0,"",""]
[{"$f":"tblTerritories!A14","v":12},{"$f":"tblTerritories!B14","v":"PHL"},{"$f":"tblTerritories!C14","v":"Philippines"},{"$f":"INDEX(tblTerritories!$R$3:$V$19,A30,uxb_works!$B$10)","v":1},null,{"$f":"IF(D30=0,0,tblTerritories!G14)","v":1},50.411355131759876,{"$f":"IF(F30=0,\"\",RANK(G30,G$19:G$35,$B$7)+COUNTIF(G$19:G30,G30)-1)","v":12},12,1,12,1,12,"Philippines",50.4,50.4,{"$f":"IF(ISNA(VLOOKUP(N30,uxb_regions!$C$3:$I$79,7,FALSE)),\"\",VLOOKUP(N30,uxb_regions!$C$3:$I$79,7,FALSE))","v":"PHL"},50.4,2,50.4,{"$f":"1","v":1},1,0,"PHL",{"$error":"#N/A"},{"$error":"#N/A"},null,50.4,null,null,"Philippines",50.4,{"$error":"#N/A"},"50.4",{"$error":"#N/A"},{"$error":"#N/A"},{"$error":"#N/A"},{"$error":"#N/A"},0,"","",0,"","",0,"","",0,"",""]
[{"$f":"tblTerritories!A15","v":13},{"$f":"tblTerritories!B15","v":"SGP"},{"$f":"tblTerritories!C15","v":"Singapore"},{"$f":"INDEX(tblTerritories!$R$3:$V$19,A31,uxb_works!$B$10)","v":1},null,{"$f":"IF(D31=0,0,tblTerritories!G15)","v":1},69.755110062893081,{"$f":"IF(F31=0,\"\",RANK(G31,G$19:G$35,$B$7)+COUNTIF(G$19:G31,G31)-1)","v":8},17,1,13,1,13,"Vietnam ",49.4,49.4,{"$f":"IF(ISNA(VLOOKUP(N31,uxb_regions!$C$3:$I$79,7,FALSE)),\"\",VLOOKUP(N31,uxb_regions!$C$3:$I$79,7,FALSE))","v":"VNM"},49.4,1,49.4,{"$f":"1","v":1},1,0,"VNM",{"$error":"#N/A"},{"$error":"#N/A"},null,49.4,null,null,"Vietnam ",49.4,{"$error":"#N/A"},"49.4",{"$error":"#N/A"},{"$error":"#N/A"},{"$error":"#N/A"},{"$error":"#N/A"},0,"","",0,"","",0,"","",0,"",""]
[{"$f":"tblTerritories!A16","v":14},{"$f":"tblTerritories!B16","v":"KOR"},{"$f":"tblTerritories!C16","v":"South Korea"},{"$f":"INDEX(tblTerritories!$R$3:$V$19,A32,uxb_works!$B$10)","v":1},null,{"$f":"IF(D32=0,0,tblTerritories!G16)","v":1},71.827356799891803,{"$f":"IF(F32=0,\"\",RANK(G32,G$19:G$35,$B$7)+COUNTIF(G$19:G32,G32)-1)","v":5},6,1,14,1,14,"Indonesia",46.1,46.1,{"$f":"IF(ISNA(VLOOKUP(N32,uxb_regions!$C$3:$I$79,7,FALSE)),\"\",VLOOKUP(N32,uxb_regions!$C$3:$I$79,7,FALSE))","v":"IDN"},46.1,1,46.1,{"$f":"1","v":1},1,0,"IDN",{"$error":"#N/A"},{"$error":"#N/A"},null,46.1,null,null,"Indonesia",46.1,{"$error":"#N/A"},"46.1",{"$error":"#N/A"},{"$error":"#N/A"},{"$error":"#N/A"},{"$error":"#N/A"},0,"","",0,"","",0,"","",0,"",""]
[{"$f":"tblTerritories!A17","v":15},{"$f":"tblTerritories!B17","v":"TWN"},{"$f":"tblTerritories!C17","v":"Taiwan"},{"$f":"INDEX(tblTerritories!$R$3:$V$19,A33,uxb_works!$B$10)","v":1},null,{"$f":"IF(D33=0,0,tblTerritories!G17)","v":1},69.814499222289854,{"$f":"IF(F33=0,\"\",RANK(G33,G$19:G$35,$B$7)+COUNTIF(G$19:G33,G33)-1)","v":7},2,1,15,1,15,"Cambodia",23.9,23.9,{"$f":"IF(ISNA(VLOOKUP(N33,uxb_regions!$C$3:$I$79,7,FALSE)),\"\",VLOOKUP(N33,uxb_regions!$C$3:$I$79,7,FALSE))","v":"KHM"},23.9,1,23.9,{"$f":"1","v":1},1,0,"KHM",{"$error":"#N/A"},{"$error":"#N/A"},null,23.9,null,null,"Cambodia",23.9,{"$error":"#N/A"},"23.9",{"$error":"#N/A"},{"$error":"#N/A"},{"$error":"#N/A"},{"$error":"#N/A"},0,"","",0,"","",0,"","",0,"",""]
[{"$f":"tblTerritories!A18","v":16},{"$f":"tblTerritories!B18","v":"THA"},{"$f":"tblTerritories!C18","v":"Thailand"},{"$f":"INDEX(tblTerritories!$R$3:$V$19,A34,uxb_works!$B$10)","v":1},null,{"$f":"IF(D34=0,0,tblTerritories!G18)","v":1},53.103021234868464,{"$f":"IF(F34=0,\"\",RANK(G34,G$19:G$35,$B$7)+COUNTIF(G$19:G34,G34)-1)","v":11},8,1,16,1,16,"Laos ",12.9,12.9,{"$f":"IF(ISNA(VLOOKUP(N34,uxb_regions!$C$3:$I$79,7,FALSE)),\"\",VLOOKUP(N34,uxb_regions!$C$3:$I$79,7,FALSE))","v":"LAO"},12.9,1,12.9,{"$f":"1","v":1},1,0,"LAO",{"$error":"#N/A"},{"$error":"#N/A"},null,12.9,null,null,"Laos ",12.9,{"$error":"#N/A"},"12.9",{"$error":"#N/A"},{"$error":"#N/A"},{"$error":"#N/A"},{"$error":"#N/A"},0,"","",0,"","",0,"","",0,"",""]
[{"$f":"tblTerritories!A19","v":17},{"$f":"tblTerritories!B19","v":"VNM"},{"$f":"tblTerritories!C19","v":"Vietnam "},{"$f":"INDEX(tblTerritories!$R$3:$V$19,A35,uxb_works!$B$10)","v":1},null,{"$f":"IF(D35=0,0,tblTerritories!G19)","v":1},49.355062724014331,{"$f":"IF(F35=0,\"\",RANK(G35,G$19:G$35,$B$7)+COUNTIF(G$19:G35,G35)-1)","v":13},10,1,17,1,17,"Myanmar",10.8,10.8,{"$f":"IF(ISNA(VLOOKUP(N35,uxb_regions!$C$3:$I$79,7,FALSE)),\"\",VLOOKUP(N35,uxb_regions!$C$3:$I$79,7,FALSE))","v":"MMR"},10.8,1,10.8,{"$f":"1","v":1},1,0,"MMR",{"$error":"#N/A"},{"$error":"#N/A"},null,10.8,null,null,"Myanmar",10.8,{"$error":"#N/A"},"10.8",{"$error":"#N/A"},{"$error":"#N/A"},{"$error":"#N/A"},{"$error":"#N/A"},0,"","",0,"","",0,"","",0,"",""]
[]
[]
[]
[null,null,null,null,null,null,null,null,null,1,null,null,null,null,{"$f":"IF(uxb_works!B7>1,INDEX(G18:G35,uxb_works!B7),NA())","v":{"$error":"#N/A"}}]

{"sheet":"iMap_Graph","index":5,"n_rows":39,"n_cols":61,"rows_kept":39,"cut":false,"hidden":true,"merged":[]}
[null,{"$f":"uxb_works!B13","v":19},{"$f":"uxb_works!C13","v":"IS_BG"},{"$f":"uxb_works!D13","v":"Spare1"},{"$f":"uxb_works!E13","v":"INDI_CODE"},{"$f":"uxb_works!F13","v":"PARENT_CODE"},{"$f":"uxb_works!G13","v":"DEPTH"},{"$f":"uxb_works!H13","v":"REF"},{"$f":"uxb_works!I13","v":"NDICATOR_SHORT"},{"$f":"uxb_works!J13","v":"DESCRITION"},{"$f":"uxb_works!K13","v":"INDICATOR_MULTI"},{"$f":"uxb_works!L13","v":"INDICATOR_UNIT"},{"$f":"uxb_works!M13","v":"Scoring Criteria (0-100 or 0-4 etc)"},{"$f":"uxb_works!N13","v":"Year"},{"$f":"uxb_works!O13","v":"Geography"},{"$f":"uxb_works!P13","v":"HIGH=Good"},{"$f":"uxb_works!Q13","v":"Format"},{"$f":"uxb_works!R13","v":"MAIN_SOURCE"},{"$f":"uxb_works!S13","v":"SOURCE_WS_ID"},{"$f":"uxb_works!T13","v":"HIGH_IS"},{"$f":"uxb_works!U13","v":"NORM_ID (1=sumproduct, 2=min max set by data values, 3=min max set by user here)"}]
[{"$f":"uxb_works!A19","v":"CITY1_ID"},{"$f":"uxb_works!B14","v":1},{"$f":"uxb_works!C14","v":0},{"$f":"uxb_works!D14","v":""},{"$f":"uxb_works!E14","v":"TOTAL"},{"$f":"uxb_works!F14","v":"OVERALL SCORE"},{"$f":"uxb_works!G14","v":0},{"$f":"uxb_works!H14","v":""},{"$f":"uxb_works!I14","v":"OVERALL SCORE"},{"$f":"uxb_works!J14","v":"The overall score is the weighted sum of the following categories scores:\n\n1) Intellectual property\n2) Transparency and trade\n3) Customs environment\n4) Supply and demand"},{"$f":"uxb_works!K14","v":"Index score/number"},{"$f":"uxb_works!L14","v":""},{"$f":"uxb_works!M14","v":"Index score/number"},{"$f":"uxb_works!N14","v":"Index score/number"},{"$f":"uxb_works!O14","v":""},{"$f":"uxb_works!P14","v":""},{"$f":"uxb_works!Q14","v":"0.0"},{"$f":"uxb_works!R14","v":"EIU Calculation"},{"$f":"uxb_works!S14","v":""},{"$f":"uxb_works!T14","v":""},{"$f":"uxb_works!U14","v":1}]
["INDI_IS_NATIONAL",{"$f":"D2","v":""},null,null,null,null,null,null,null,null,null,null,null,null,null,null,null,null,null,null,1]
[]
[null,null,null,null,null,null,null,null,null,null,null,null,null,null,null,null,null,"percentiles","equal buckets"]
["SERIES_LEVEL",1,null,null,null,null,null,null,null,null,null,null,null,null,"Fifths",null,0,{"$f":"IF($U$2=1,PERCENTILE(R$19:R$35,Q6),Q6*100)","v":10.8}]
["Rank_Order",0,null,null,null,null,null,null,null,null,null,null,null,null,null,null,0.25,{"$f":"IF($U$2=1,PERCENTILE(R$19:R$35,Q7),Q7*100)","v":49.4},null,1,null,null,null,null,null,{"$f":"56/6","v":9.3333333333333339}]
[null,null,null,null,null,null,null,null,null,null,null,null,null,null,null,null,0.5,{"$f":"IF($U$2=1,PERCENTILE(R$19:R$35,Q8),Q8*100)","v":61.6},null,2]
[{"$f":"uxb_works!A6","v":"CITY_HIGHLIGHT_DD"},{"$f":"uxb_works!B6","v":1},{"$f":"uxb_works!C6","v":"<none>"},{"$f":"INDEX(P19:P35,MATCH(C9,N19:N35,0))","v":{"$error":"#N/A"}},null,null,null,null,null,null,null,null,null,null,null,null,0.75,{"$f":"IF($U$2=1,PERCENTILE(R$19:R$35,Q9),Q9*100)","v":71.8},null,3]
[null,null,null,null,null,null,null,null,null,null,null,null,null,null,null,null,1,{"$f":"IF($U$2=1,PERCENTILE(R$19:R$35,Q10),Q10*100)","v":85.2},null,4]
[null,null,null,null,null,null,null,null,null,null,null,null,null,null,null,null,null,null,null,5,{"$f":"80/5","v":16}]
[]
[null,null,null,null,null,null,null,null,null,null,null,null,null,null,null,null,null,null,{"$f":"PERCENTILE(R$19:R$35,Q11)","v":10.8}]
[null,null,null,null,null,null,null,null,null,null,null,null,null,null,null,null,null,null,null,null,null,null,null,null,null,null,null,null,null,null,null,null,null,null,null,null,null,null,null,null,null,null,null,null,null,"Buckets"]
[null,null,null,null,null,null,null,null,null,null,null,null,null,null,null,null,null,null,null,null,null,null,null,null,null,null,null,{"$f":"uxb_works!B10","v":1},null,null,{"$f":"uxb_works!B10","v":1},null,null,null,null,null,null,null,null,null,null,null,null,null,null,null,null,null,null,null,{"$f":"\"Score \"&ROUND($R$9+0.1,1)&\" to \"&$R$10","v":"Score 71.9 to 85.2"},null,null,{"$f":"\"Score \"&ROUND($R$8+0.1,1)&\" to \"&ROUND($R$9,1)","v":"Score 61.7 to 71.8"},null,null,{"$f":"\"Score \"&ROUND($R$7+0.1,1)&\" to \"&ROUND($R$8,1)","v":"Score 49.5 to 61.6"},null,null,{"$f":"\"Score \"&ROUND($R$6,1)&\" to \"&ROUND($R$7,1)","v":"Score 10.8 to 49.4"}]
[]
["SHOW_DATA",{"$f":"IF(OR(P2=1,AK2=0),FALSE,TRUE)","v":false},null,null,"Highlight",null,null,null,null,null,null,null,null,null,null,null,null,null,null,"ALL UNFILTERED DATA POINTS",null,"Country Highlight","Country Filter",null,null,null,null,"Region Filter",null,null,"Group Filter",null,null,null,null,null,null,null,null,null,null,null,null,null,null,4,3,2,1,null,1,3,null,1,3,null,1,3,null,1,3]
[null,null,null,"IsRegion","Status","ActiveStatus","Score (unrounded)","Rank unrounded","LU","yScatter","RankRounded",null,null,null,"Score","Score Display",{"$f":"IF($B$17,\"Data\",\"\")","v":""},"Map Display",null,"X","Y",null,null,null,null,null,null,"Unsorted","Sorted",null,"Unsorted","Sorted",null,null,null,null,null,null,null,"Main Set","Region Filter","Group Filter","Intersect","Highlighted",null,0,0,0,0,null,"B1","B1a",null,"B2","B2a",null,"B3","B3a",null,"B4","B4a"]
[{"$f":"tblTerritories!A3","v":1},{"$f":"tblTerritories!B3","v":"AUS"},{"$f":"tblTerritories!C3","v":"Australia"},null,{"$f":"tblTerritories!E3","v":"Australia"},{"$f":"IF(tblTerritories!G3=3,3,IF(tblTerritories!G3=2,2,1))","v":1},{"$f":"IF(F19=0,\"\",ROUND(INDEX(aScores,$B$2,$A19),2))","v":85.2},{"$f":"IF(F19=0,\"\",RANK(G19,G$19:G$35,$B$7)+COUNTIF(G$19:G19,G19)-1)","v":1},{"$f":"IF(ISERROR(MATCH($A19,H$19:H$35,0)),\"\",MATCH($A19,H$19:H$35,0))","v":1},{"$f":"IF(I19=\"\",\"\",1)","v":1},{"$f":"IF(I19=\"\",\"\",RANK(O19,O$19:O$35,$B$7))","v":1},{"$f":"IF(I19=\"\",0,INDEX($F$19:$F$35,I19))","v":1},{"$f":"IF(I19=\"\",\"\",IF(OR(K19=K18,K19=K20),CONCATENATE(\"=\",K19),K19))","v":1},{"$f":"IF(I19=\"\",\"\",INDEX($C$19:$C$35,I19))","v":"Australia"},{"$f":"IF(I19=\"\",\"\",INDEX(aRoundedScores,$B$2,I19))","v":85.2},{"$f":"IF(L19=0,\"\",IF($C$2=1,\"-\",O19))","v":85.2},{"$f":"IF(ISNA(VLOOKUP(N19,uxb_regions!$C$3:$I$79,7,FALSE)),\"\",VLOOKUP(N19,uxb_regions!$C$3:$I$79,7,FALSE))","v":"AUS"},{"$f":"IF(L19=0,\"\",O19)","v":85.2},{"$f":"IF(Q19=\"\",\"\",CHOOSE($U$3,IF(R19<R$7,1,IF(R19<R$8,2,IF(R19<R$9,3,IF(R19<=R$10,4))))))","v":4},{"$f":"IF(ISNUMBER(O19),O19,NA())","v":85.2},{"$f":"1","v":1},{"$f":"IF(ISNA(INDEX($F$19:$F$35,MATCH(N19,$C$19:$C$35,0))),0,INDEX($F$19:$F$35,MATCH(N19,$C$19:$C$35,0)))","v":1},{"$f":"IF(OR(V19=3,V19=2),Q19,0)","v":0},{"$f":"IF(ISNA(V19),\"\",Q19)","v":"AUS"},{"$f":"IF(L19=2,T19,NA())","v":{"$error":"#N/A"}},{"$f":"IF(L19=2,1,NA())","v":{"$error":"#N/A"}},null,null,null,null,{"$f":"IF($AE$15=1,0,INDEX(tblTerritories!$S$3:$V$19,A19,$AE$15-1))","v":0},{"$f":"IF(ISNA(INDEX($AE$19:$AE$35,MATCH(N19,$C$19:$C$35,0))),0,INDEX($AE$19:$AE$35,MATCH(N19,$C$19:$C$35,0)))","v":0},null,null,null,{"$f":"LARGE($R$19:$R$35,ROW(R1)-ROW($R$1)+1)","v":85.2},null,null,{"$f":"IF(ISNUMBER(O19),N19,CONCATENATE(N19))","v":"Australia"},{"$f":"IF(ISNUMBER(P19),P19,\"-\")","v":85.2},null,{"$f":"IF(AF19=0,NA(),$AN19)","v":{"$error":"#N/A"}},null,{"$f":"IF(W19=0,NA(),$AN19)","v":{"$error":"#N/A"}},{"$f":"TEXT(AN19,$Q$2)","v":"85.2"},{"$f":"AT18+MATCH(AT$17,OFFSET($S$19:$S$35,AT18,0),0)","v":1},{"$f":"AU18+MATCH(AU$17,OFFSET($S$19:$S$35,AU18,0),0)","v":7},{"$f":"AV18+MATCH(AV$17,OFFSET($S$19:$S$35,AV18,0),0)","v":10},{"$f":"AW18+MATCH(AW$17,OFFSET($S$19:$S$35,AW18,0),0)","v":14},null,{"$f":"IF(ISNA(AT19),\"\",INDEX($N$19:$P$35,$AT19,AY$17))","v":"Australia"},{"$f":"IF(ISNA(AT19),\"\",INDEX($N$19:$P$35,$AT19,AZ$17))","v":85.2},null,{"$f":"IF(ISNA(AU19),\"\",INDEX($N$19:$P$35,$AU19,BB$17))","v":"Taiwan"},{"$f":"IF(ISNA(AU19),\"\",INDEX($N$19:$P$35,$AU19,BC$17))","v":69.8},null,{"$f":"IF(ISNA(AV19),\"\",INDEX($N$19:$P$35,$AV19,BE$17))","v":"India"},{"$f":"IF(ISNA(AV19),\"\",INDEX($N$19:$P$35,$AV19,BF$17))","v":54.1},null,{"$f":"IF(ISNA(AW19),\"\",INDEX($N$19:$P$35,$AW19,BH$17))","v":"Indonesia"},{"$f":"IF(ISNA(AW19),\"\",INDEX($N$19:$P$35,$AW19,BI$17))","v":46.1}]
[{"$f":"tblTerritories!A4","v":2},{"$f":"tblTerritories!B4","v":"KHM"},{"$f":"tblTerritories!C4","v":"Cambodia"},null,{"$f":"tblTerritories!E4","v":"Cambodia"},{"$f":"IF(tblTerritories!G4=3,3,IF(tblTerritories!G4=2,2,1))","v":1},{"$f":"IF(F20=0,\"\",ROUND(INDEX(aScores,$B$2,$A20),2))","v":23.92},{"$f":"IF(F20=0,\"\",RANK(G20,G$19:G$35,$B$7)+COUNTIF(G$19:G20,G20)-1)","v":15},{"$f":"IF(ISERROR(MATCH($A20,H$19:H$35,0)),\"\",MATCH($A20,H$19:H$35,0))","v":11},{"$f":"IF(I20=\"\",\"\",1)","v":1},{"$f":"IF(I20=\"\",\"\",RANK(O20,O$19:O$35,$B$7))","v":2},{"$f":"IF(I20=\"\",0,INDEX($F$19:$F$35,I20))","v":1},{"$f":"IF(I20=\"\",\"\",IF(OR(K20=K19,K20=K21),CONCATENATE(\"=\",K20),K20))","v":2},{"$f":"IF(I20=\"\",\"\",INDEX($C$19:$C$35,I20))","v":"New Zealand"},{"$f":"IF(I20=\"\",\"\",INDEX(aRoundedScores,$B$2,I20))","v":81.8},{"$f":"IF(L20=0,\"\",IF($C$2=1,\"-\",O20))","v":81.8},{"$f":"IF(ISNA(VLOOKUP(N20,uxb_regions!$C$3:$I$79,7,FALSE)),\"\",VLOOKUP(N20,uxb_regions!$C$3:$I$79,7,FALSE))","v":"NZL"},{"$f":"IF(L20=0,\"\",O20)","v":81.8},{"$f":"IF(Q20=\"\",\"\",CHOOSE($U$3,IF(R20<R$7,1,IF(R20<R$8,2,IF(R20<R$9,3,IF(R20<=R$10,4))))))","v":4},{"$f":"IF(ISNUMBER(O20),O20,NA())","v":81.8},{"$f":"1","v":1},{"$f":"IF(ISNA(INDEX($F$19:$F$35,MATCH(N20,$C$19:$C$35,0))),0,INDEX($F$19:$F$35,MATCH(N20,$C$19:$C$35,0)))","v":1},{"$f":"IF(OR(V20=3,V20=2),Q20,0)","v":0},{"$f":"IF(ISNA(V20),\"\",Q20)","v":"NZL"},{"$f":"IF(L20=2,T20,NA())","v":{"$error":"#N/A"}},{"$f":"IF(L20=2,1,NA())","v":{"$error":"#N/A"}},null,null,null,null,{"$f":"IF($AE$15=1,0,INDEX(tblTerritories!$S$3:$V$19,A20,$AE$15-1))","v":0},{"$f":"IF(ISNA(INDEX($AE$19:$AE$35,MATCH(N20,$C$19:$C$35,0))),0,INDEX($AE$19:$AE$35,MATCH(N20,$C$19:$C$35,0)))","v":0},null,null,null,{"$f":"LARGE($R$19:$R$35,ROW(R2)-ROW($R$1)+1)","v":81.8},null,null,{"$f":"IF(ISNUMBER(O20),N20,CONCATENATE(N20))","v":"New Zealand"},{"$f":"IF(ISNUMBER(P20),P20,\"-\")","v":81.8},null,{"$f":"IF(AF20=0,NA(),$AN20)","v":{"$error":"#N/A"}},null,{"$f":"IF(W20=0,NA(),$AN20)","v":{"$error":"#N/A"}},{"$f":"TEXT(AN20,$Q$2)","v":"81.8"},{"$f":"AT19+MATCH(AT$17,OFFSET($S$19:$S$35,AT19,0),0)","v":2},{"$f":"AU19+MATCH(AU$17,OFFSET($S$19:$S$35,AU19,0),0)","v":8},{"$f":"AV19+MATCH(AV$17,OFFSET($S$19:$S$35,AV19,0),0)","v":11},{"$f":"AW19+MATCH(AW$17,OFFSET($S$19:$S$35,AW19,0),0)","v":15},null,{"$f":"IF(ISNA(AT20),\"\",INDEX($N$19:$P$35,$AT20,AY$17))","v":"New Zealand"},{"$f":"IF(ISNA(AT20),\"\",INDEX($N$19:$P$35,$AT20,AZ$17))","v":81.8},null,{"$f":"IF(ISNA(AU20),\"\",INDEX($N$19:$P$35,$AU20,BB$17))","v":"Singapore"},{"$f":"IF(ISNA(AU20),\"\",INDEX($N$19:$P$35,$AU20,BC$17))","v":69.8},null,{"$f":"IF(ISNA(AV20),\"\",INDEX($N$19:$P$35,$AV20,BE$17))","v":"Thailand"},{"$f":"IF(ISNA(AV20),\"\",INDEX($N$19:$P$35,$AV20,BF$17))","v":53.1},null,{"$f":"IF(ISNA(AW20),\"\",INDEX($N$19:$P$35,$AW20,BH$17))","v":"Cambodia"},{"$f":"IF(ISNA(AW20),\"\",INDEX($N$19:$P$35,$AW20,BI$17))","v":23.9}]
[{"$f":"tblTerritories!A5","v":3},{"$f":"tblTerritories!B5","v":"CHN"},{"$f":"tblTerritories!C5","v":"China"},null,{"$f":"tblTerritories!E5","v":"China"},{"$f":"IF(tblTerritories!G5=3,3,IF(tblTerritories!G5=2,2,1))","v":1},61.58,{"$f":"IF(F21=0,\"\",RANK(G21,G$19:G$35,$B$7)+COUNTIF(G$19:G21,G21)-1)","v":9},4,1,3,1,3,"Hong Kong",81.400000000000006,81.400000000000006,{"$f":"IF(ISNA(VLOOKUP(N21,uxb_regions!$C$3:$I$79,7,FALSE)),\"\",VLOOKUP(N21,uxb_regions!$C$3:$I$79,7,FALSE))","v":"HKG"},81.400000000000006,4,81.400000000000006,{"$f":"1","v":1},1,0,"HKG",{"$error":"#N/A"},{"$error":"#N/A"},null,null,null,null,{"$f":"IF($AE$15=1,0,INDEX(tblTerritories!$S$3:$V$19,A21,$AE$15-1))","v":0},0,null,null,null,81.400000000000006,null,null,"Hong Kong",81.400000000000006,null,{"$error":"#N/A"},null,{"$error":"#N/A"},"81.4",3,9,12,16,null,"Hong Kong",81.400000000000006,null,"China",61.6,null,"Philippines",50.4,null,"Laos ",12.9]
[{"$f":"tblTerritories!A6","v":4},{"$f":"tblTerritories!B6","v":"HKG"},{"$f":"tblTerritories!C6","v":"Hong Kong"},null,{"$f":"tblTerritories!E6","v":"Hong Kong"},{"$f":"IF(tblTerritories!G6=3,3,IF(tblTerritories!G6=2,2,1))","v":1},81.41,{"$f":"IF(F22=0,\"\",RANK(G22,G$19:G$35,$B$7)+COUNTIF(G$19:G22,G22)-1)","v":3},7,1,4,1,4,"Japan",75.900000000000006,75.900000000000006,{"$f":"IF(ISNA(VLOOKUP(N22,uxb_regions!$C$3:$I$79,7,FALSE)),\"\",VLOOKUP(N22,uxb_regions!$C$3:$I$79,7,FALSE))","v":"JPN"},75.900000000000006,4,75.900000000000006,{"$f":"1","v":1},1,0,"JPN",{"$error":"#N/A"},{"$error":"#N/A"},null,null,null,null,{"$f":"IF($AE$15=1,0,INDEX(tblTerritories!$S$3:$V$19,A22,$AE$15-1))","v":0},0,null,null,null,75.900000000000006,null,null,"Japan",75.900000000000006,null,{"$error":"#N/A"},null,{"$error":"#N/A"},"75.9",4,{"$error":"#N/A"},13,17,null,"Japan",75.900000000000006,null,"","",null,"Vietnam ",49.4,null,"Myanmar",10.8]
[{"$f":"tblTerritories!A7","v":5},{"$f":"tblTerritories!B7","v":"IND"},{"$f":"tblTerritories!C7","v":"India"},null,{"$f":"tblTerritories!E7","v":"India"},{"$f":"IF(tblTerritories!G7=3,3,IF(tblTerritories!G7=2,2,1))","v":1},54.14,{"$f":"IF(F23=0,\"\",RANK(G23,G$19:G$35,$B$7)+COUNTIF(G$19:G23,G23)-1)","v":10},14,1,5,1,"=5","South Korea",71.8,71.8,{"$f":"IF(ISNA(VLOOKUP(N23,uxb_regions!$C$3:$I$79,7,FALSE)),\"\",VLOOKUP(N23,uxb_regions!$C$3:$I$79,7,FALSE))","v":"KOR"},71.8,4,71.8,{"$f":"1","v":1},1,0,"KOR",{"$error":"#N/A"},{"$error":"#N/A"},null,null,null,null,{"$f":"IF($AE$15=1,0,INDEX(tblTerritories!$S$3:$V$19,A23,$AE$15-1))","v":0},0,null,null,null,71.8,null,null,"South Korea",71.8,null,{"$error":"#N/A"},null,{"$error":"#N/A"},"71.8",5,{"$error":"#N/A"},{"$error":"#N/A"},{"$error":"#N/A"},null,"South Korea",71.8,null,"","",null,"","",null,"",""]
[{"$f":"tblTerritories!A8","v":6},{"$f":"tblTerritories!B8","v":"IDN"},{"$f":"tblTerritories!C8","v":"Indonesia"},null,{"$f":"tblTerritories!E8","v":"Indonesia"},{"$f":"IF(tblTerritories!G8=3,3,IF(tblTerritories!G8=2,2,1))","v":1},46.07,{"$f":"IF(F24=0,\"\",RANK(G24,G$19:G$35,$B$7)+COUNTIF(G$19:G24,G24)-1)","v":14},9,1,5,1,"=5","Malaysia",71.8,71.8,{"$f":"IF(ISNA(VLOOKUP(N24,uxb_regions!$C$3:$I$79,7,FALSE)),\"\",VLOOKUP(N24,uxb_regions!$C$3:$I$79,7,FALSE))","v":"MYS"},71.8,4,71.8,{"$f":"1","v":1},1,0,"MYS",{"$error":"#N/A"},{"$error":"#N/A"},null,null,null,null,{"$f":"IF($AE$15=1,0,INDEX(tblTerritories!$S$3:$V$19,A24,$AE$15-1))","v":0},0,null,null,null,71.8,null,null,"Malaysia",71.8,null,{"$error":"#N/A"},null,{"$error":"#N/A"},"71.8",6,{"$error":"#N/A"},{"$error":"#N/A"},{"$error":"#N/A"},null,"Malaysia",71.8,null,"","",null,"","",null,"",""]
[{"$f":"tblTerritories!A9","v":7},{"$f":"tblTerritories!B9","v":"JPN"},{"$f":"tblTerritories!C9","v":"Japan"},null,{"$f":"tblTerritories!E9","v":"Japan"},{"$f":"IF(tblTerritories!G9=3,3,IF(tblTerritories!G9=2,2,1))","v":1},75.86,{"$f":"IF(F25=0,\"\",RANK(G25,G$19:G$35,$B$7)+COUNTIF(G$19:G25,G25)-1)","v":4},15,1,7,1,"=7","Taiwan",69.8,69.8,{"$f":"IF(ISNA(VLOOKUP(N25,uxb_regions!$C$3:$I$79,7,FALSE)),\"\",VLOOKUP(N25,uxb_regions!$C$3:$I$79,7,FALSE))","v":"TWN"},69.8,3,69.8,{"$f":"1","v":1},1,0,"TWN",{"$error":"#N/A"},{"$error":"#N/A"},null,null,null,null,{"$f":"IF($AE$15=1,0,INDEX(tblTerritories!$S$3:$V$19,A25,$AE$15-1))","v":0},0,null,null,null,69.8,null,null,"Taiwan",69.8,null,{"$error":"#N/A"},null,{"$error":"#N/A"},"69.8",{"$error":"#N/A"},{"$error":"#N/A"},{"$error":"#N/A"},{"$error":"#N/A"},null,"","",null,"","",null,"","",null,"",""]
[{"$f":"tblTerritories!A10","v":8},{"$f":"tblTerritories!B10","v":"LAO"},{"$f":"tblTerritories!C10","v":"Laos "},null,{"$f":"tblTerritories!E10","v":"Laos "},{"$f":"IF(tblTerritories!G10=3,3,IF(tblTerritories!G10=2,2,1))","v":1},12.94,{"$f":"IF(F26=0,\"\",RANK(G26,G$19:G$35,$B$7)+COUNTIF(G$19:G26,G26)-1)","v":16},13,1,7,1,"=7","Singapore",69.8,69.8,{"$f":"IF(ISNA(VLOOKUP(N26,uxb_regions!$C$3:$I$79,7,FALSE)),\"\",VLOOKUP(N26,uxb_regions!$C$3:$I$79,7,FALSE))","v":"SGP"},69.8,3,69.8,{"$f":"1","v":1},1,0,"SGP",{"$error":"#N/A"},{"$error":"#N/A"},null,null,null,null,{"$f":"IF($AE$15=1,0,INDEX(tblTerritories!$S$3:$V$19,A26,$AE$15-1))","v":0},0,null,null,null,69.8,null,null,"Singapore",69.8,null,{"$error":"#N/A"},null,{"$error":"#N/A"},"69.8",{"$error":"#N/A"},{"$error":"#N/A"},{"$error":"#N/A"},{"$error":"#N/A"},null,"","",null,"","",null,"","",null,"",""]
[{"$f":"tblTerritories!A11","v":9},{"$f":"tblTerritories!B11","v":"MYS"},{"$f":"tblTerritories!C11","v":"Malaysia"},null,{"$f":"tblTerritories!E11","v":"Malaysia"},{"$f":"IF(tblTerritories!G11=3,3,IF(tblTerritories!G11=2,2,1))","v":1},71.8,{"$f":"IF(F27=0,\"\",RANK(G27,G$19:G$35,$B$7)+COUNTIF(G$19:G27,G27)-1)","v":6},3,1,9,1,9,"China",61.6,61.6,{"$f":"IF(ISNA(VLOOKUP(N27,uxb_regions!$C$3:$I$79,7,FALSE)),\"\",VLOOKUP(N27,uxb_regions!$C$3:$I$79,7,FALSE))","v":"CHN"},61.6,3,61.6,{"$f":"1","v":1},1,0,"CHN",{"$error":"#N/A"},{"$error":"#N/A"},null,null,null,null,{"$f":"IF($AE$15=1,0,INDEX(tblTerritories!$S$3:$V$19,A27,$AE$15-1))","v":0},0,null,null,null,61.6,null,null,"China",61.6,null,{"$error":"#N/A"},null,{"$error":"#N/A"},"61.6",{"$error":"#N/A"},{"$error":"#N/A"},{"$error":"#N/A"},{"$error":"#N/A"},null,"","",null,"","",null,"","",null,"",""]
[{"$f":"tblTerritories!A12","v":10},{"$f":"tblTerritories!B12","v":"MMR"},{"$f":"tblTerritories!C12","v":"Myanmar"},null,{"$f":"tblTerritories!E12","v":"Myanmar"},{"$f":"IF(tblTerritories!G12=3,3,IF(tblTerritories!G12=2,2,1))","v":1},10.82,{"$f":"IF(F28=0,\"\",RANK(G28,G$19:G$35,$B$7)+COUNTIF(G$19:G28,G28)-1)","v":17},5,1,10,1,10,"India",54.1,54.1,{"$f":"IF(ISNA(VLOOKUP(N28,uxb_regions!$C$3:$I$79,7,FALSE)),\"\",VLOOKUP(N28,uxb_regions!$C$3:$I$79,7,FALSE))","v":"IND"},54.1,2,54.1,{"$f":"1","v":1},1,0,"IND",{"$error":"#N/A"},{"$error":"#N/A"},null,null,null,null,{"$f":"IF($AE$15=1,0,INDEX(tblTerritories!$S$3:$V$19,A28,$AE$15-1))","v":0},0,null,null,null,54.1,null,null,"India",54.1,null,{"$error":"#N/A"},null,{"$error":"#N/A"},"54.1",{"$error":"#N/A"},{"$error":"#N/A"},{"$error":"#N/A"},{"$error":"#N/A"},null,"","",null,"","",null,"","",null,"",""]
[{"$f":"tblTerritories!A13","v":11},{"$f":"tblTerritories!B13","v":"NZL"},{"$f":"tblTerritories!C13","v":"New Zealand"},null,{"$f":"tblTerritories!E13","v":"New Zealand"},{"$f":"IF(tblTerritories!G13=3,3,IF(tblTerritories!G13=2,2,1))","v":1},81.81,{"$f":"IF(F29=0,\"\",RANK(G29,G$19:G$35,$B$7)+COUNTIF(G$19:G29,G29)-1)","v":2},16,1,11,1,11,"Thailand",53.1,53.1,{"$f":"IF(ISNA(VLOOKUP(N29,uxb_regions!$C$3:$I$79,7,FALSE)),\"\",VLOOKUP(N29,uxb_regions!$C$3:$I$79,7,FALSE))","v":"THA"},53.1,2,53.1,{"$f":"1","v":1},1,0,"THA",{"$error":"#N/A"},{"$error":"#N/A"},null,null,null,null,{"$f":"IF($AE$15=1,0,INDEX(tblTerritories!$S$3:$V$19,A29,$AE$15-1))","v":0},0,null,null,null,53.1,null,null,"Thailand",53.1,null,{"$error":"#N/A"},null,{"$error":"#N/A"},"53.1",{"$error":"#N/A"},{"$error":"#N/A"},{"$error":"#N/A"},{"$error":"#N/A"},null,"","",null,"","",null,"","",null,"",""]
[{"$f":"tblTerritories!A14","v":12},{"$f":"tblTerritories!B14","v":"PHL"},{"$f":"tblTerritories!C14","v":"Philippines"},null,{"$f":"tblTerritories!E14","v":"Philippines"},{"$f":"IF(tblTerritories!G14=3,3,IF(tblTerritories!G14=2,2,1))","v":1},50.41,{"$f":"IF(F30=0,\"\",RANK(G30,G$19:G$35,$B$7)+COUNTIF(G$19:G30,G30)-1)","v":12},12,1,12,1,12,"Philippines",50.4,50.4,{"$f":"IF(ISNA(VLOOKUP(N30,uxb_regions!$C$3:$I$79,7,FALSE)),\"\",VLOOKUP(N30,uxb_regions!$C$3:$I$79,7,FALSE))","v":"PHL"},50.4,2,50.4,{"$f":"1","v":1},1,0,"PHL",{"$error":"#N/A"},{"$error":"#N/A"},null,null,null,null,{"$f":"IF($AE$15=1,0,INDEX(tblTerritories!$S$3:$V$19,A30,$AE$15-1))","v":0},0,null,null,null,50.4,null,null,"Philippines",50.4,null,{"$error":"#N/A"},null,{"$error":"#N/A"},"50.4",{"$error":"#N/A"},{"$error":"#N/A"},{"$error":"#N/A"},{"$error":"#N/A"},null,"","",null,"","",null,"","",null,"",""]
[{"$f":"tblTerritories!A15","v":13},{"$f":"tblTerritories!B15","v":"SGP"},{"$f":"tblTerritories!C15","v":"Singapore"},null,{"$f":"tblTerritories!E15","v":"Singapore"},{"$f":"IF(tblTerritories!G15=3,3,IF(tblTerritories!G15=2,2,1))","v":1},69.760000000000005,{"$f":"IF(F31=0,\"\",RANK(G31,G$19:G$35,$B$7)+COUNTIF(G$19:G31,G31)-1)","v":8},17,1,13,1,13,"Vietnam ",49.4,49.4,{"$f":"IF(ISNA(VLOOKUP(N31,uxb_regions!$C$3:$I$79,7,FALSE)),\"\",VLOOKUP(N31,uxb_regions!$C$3:$I$79,7,FALSE))","v":"VNM"},49.4,2,49.4,{"$f":"1","v":1},1,0,"VNM",{"$error":"#N/A"},{"$error":"#N/A"},null,null,null,null,{"$f":"IF($AE$15=1,0,INDEX(tblTerritories!$S$3:$V$19,A31,$AE$15-1))","v":0},0,null,null,null,49.4,null,null,"Vietnam ",49.4,null,{"$error":"#N/A"},null,{"$error":"#N/A"},"49.4",{"$error":"#N/A"},{"$error":"#N/A"},{"$error":"#N/A"},{"$error":"#N/A"},null,"","",null,"","",null,"","",null,"",""]
[{"$f":"tblTerritories!A16","v":14},{"$f":"tblTerritories!B16","v":"KOR"},{"$f":"tblTerritories!C16","v":"South Korea"},null,{"$f":"tblTerritories!E16","v":"South Korea"},{"$f":"IF(tblTerritories!G16=3,3,IF(tblTerritories!G16=2,2,1))","v":1},71.83,{"$f":"IF(F32=0,\"\",RANK(G32,G$19:G$35,$B$7)+COUNTIF(G$19:G32,G32)-1)","v":5},6,1,14,1,14,"Indonesia",46.1,46.1,{"$f":"IF(ISNA(VLOOKUP(N32,uxb_regions!$C$3:$I$79,7,FALSE)),\"\",VLOOKUP(N32,uxb_regions!$C$3:$I$79,7,FALSE))","v":"IDN"},46.1,1,46.1,{"$f":"1","v":1},1,0,"IDN",{"$error":"#N/A"},{"$error":"#N/A"},null,null,null,null,{"$f":"IF($AE$15=1,0,INDEX(tblTerritories!$S$3:$V$19,A32,$AE$15-1))","v":0},0,null,null,null,46.1,null,null,"Indonesia",46.1,null,{"$error":"#N/A"},null,{"$error":"#N/A"},"46.1",{"$error":"#N/A"},{"$error":"#N/A"},{"$error":"#N/A"},{"$error":"#N/A"},null,"","",null,"","",null,"","",null,"",""]
[{"$f":"tblTerritories!A17","v":15},{"$f":"tblTerritories!B17","v":"TWN"},{"$f":"tblTerritories!C17","v":"Taiwan"},null,{"$f":"tblTerritories!E17","v":"Taiwan"},{"$f":"IF(tblTerritories!G17=3,3,IF(tblTerritories!G17=2,2,1))","v":1},69.81,{"$f":"IF(F33=0,\"\",RANK(G33,G$19:G$35,$B$7)+COUNTIF(G$19:G33,G33)-1)","v":7},2,1,15,1,15,"Cambodia",23.9,23.9,{"$f":"IF(ISNA(VLOOKUP(N33,uxb_regions!$C$3:$I$79,7,FALSE)),\"\",VLOOKUP(N33,uxb_regions!$C$3:$I$79,7,FALSE))","v":"KHM"},23.9,1,23.9,{"$f":"1","v":1},1,0,"KHM",{"$error":"#N/A"},{"$error":"#N/A"},null,null,null,null,{"$f":"IF($AE$15=1,0,INDEX(tblTerritories!$S$3:$V$19,A33,$AE$15-1))","v":0},0,null,null,null,23.9,null,null,"Cambodia",23.9,null,{"$error":"#N/A"},null,{"$error":"#N/A"},"23.9",{"$error":"#N/A"},{"$error":"#N/A"},{"$error":"#N/A"},{"$error":"#N/A"},null,"","",null,"","",null,"","",null,"",""]
[{"$f":"tblTerritories!A18","v":16},{"$f":"tblTerritories!B18","v":"THA"},{"$f":"tblTerritories!C18","v":"Thailand"},null,{"$f":"tblTerritories!E18","v":"Thailand"},{"$f":"IF(tblTerritories!G18=3,3,IF(tblTerritories!G18=2,2,1))","v":1},53.1,{"$f":"IF(F34=0,\"\",RANK(G34,G$19:G$35,$B$7)+COUNTIF(G$19:G34,G34)-1)","v":11},8,1,16,1,16,"Laos ",12.9,12.9,{"$f":"IF(ISNA(VLOOKUP(N34,uxb_regions!$C$3:$I$79,7,FALSE)),\"\",VLOOKUP(N34,uxb_regions!$C$3:$I$79,7,FALSE))","v":"LAO"},12.9,1,12.9,{"$f":"1","v":1},1,0,"LAO",{"$error":"#N/A"},{"$error":"#N/A"},null,null,null,null,{"$f":"IF($AE$15=1,0,INDEX(tblTerritories!$S$3:$V$19,A34,$AE$15-1))","v":0},0,null,null,null,12.9,null,null,"Laos ",12.9,null,{"$error":"#N/A"},null,{"$error":"#N/A"},"12.9",{"$error":"#N/A"},{"$error":"#N/A"},{"$error":"#N/A"},{"$error":"#N/A"},null,"","",null,"","",null,"","",null,"",""]
[{"$f":"tblTerritories!A19","v":17},{"$f":"tblTerritories!B19","v":"VNM"},{"$f":"tblTerritories!C19","v":"Vietnam "},null,{"$f":"tblTerritories!E19","v":"Vietnam "},{"$f":"IF(tblTerritories!G19=3,3,IF(tblTerritories!G19=2,2,1))","v":1},49.36,{"$f":"IF(F35=0,\"\",RANK(G35,G$19:G$35,$B$7)+COUNTIF(G$19:G35,G35)-1)","v":13},10,1,17,1,17,"Myanmar",10.8,10.8,{"$f":"IF(ISNA(VLOOKUP(N35,uxb_regions!$C$3:$I$79,7,FALSE)),\"\",VLOOKUP(N35,uxb_regions!$C$3:$I$79,7,FALSE))","v":"MMR"},10.8,1,10.8,{"$f":"1","v":1},1,0,"MMR",{"$error":"#N/A"},{"$error":"#N/A"},null,null,null,null,{"$f":"IF($AE$15=1,0,INDEX(tblTerritories!$S$3:$V$19,A35,$AE$15-1))","v":0},0,null,null,null,10.8,null,null,"Myanmar",10.8,null,{"$error":"#N/A"},null,{"$error":"#N/A"},"10.8",{"$error":"#N/A"},{"$error":"#N/A"},{"$error":"#N/A"},{"$error":"#N/A"},null,"","",null,"","",null,"","",null,"",""]
[]
[]
[]
[null,null,null,null,null,null,null,null,null,1,null,null,null,null,{"$f":"IF(uxb_works!B7>1,INDEX(G18:G35,uxb_works!B7),NA())","v":{"$error":"#N/A"}}]

{"sheet":"uxb_mapdata","index":6,"n_rows":17,"n_cols":22,"rows_kept":17,"cut":false,"hidden":true,"merged":[]}
[null,null,null,null,null,null,null,null,null,null,null,null,null,1,null,2,null,3,null,4,null,5]
[]
[]
[]
[]
[]
[]
[]
[]
[]
[]
[null,null,null,null,null,null,null,null,"Highlight outline","Shape outline","N/A Fill",null,1,2,3,4]
[null,null,null,null,null,null,null,null,null,"x"]
[]
[]
[null,null,null,null,null,null,null,null,null,null,null,null,"Regions"]
[null,null,null,null,null,null,null,null,null,"x"]

{"sheet":"uxb_regions","index":7,"n_rows":19,"n_cols":9,"rows_kept":19,"cut":false,"hidden":true,"merged":[]}
[" ","RegionCode","<none>",null,null,null,null,null,"MAPCODE"]
[1,null,"<none>"]
[2,"AUS",{"$f":"tblTerritories!C3","v":"Australia"},null,{"$f":"B3","v":"AUS"},null,null,null,{"$f":"B3","v":"AUS"}]
[3,"KHM",{"$f":"tblTerritories!C4","v":"Cambodia"},null,{"$f":"B4","v":"KHM"},null,null,null,{"$f":"B4","v":"KHM"}]
[4,"CHN",{"$f":"tblTerritories!C5","v":"China"},null,"CHN",null,null,null,"CHN"]
[5,"HKG",{"$f":"tblTerritories!C6","v":"Hong Kong"},null,"HKG",null,null,null,"HKG"]
[6,"IND",{"$f":"tblTerritories!C7","v":"India"},null,"IND",null,null,null,"IND"]
[7,"IDN",{"$f":"tblTerritories!C8","v":"Indonesia"},null,"IDN",null,null,null,"IDN"]
[8,"JPN",{"$f":"tblTerritories!C9","v":"Japan"},null,"JPN",null,null,null,"JPN"]
[9,"LAO",{"$f":"tblTerritories!C10","v":"Laos "},null,"LAO",null,null,null,"LAO"]
[10,"MYS",{"$f":"tblTerritories!C11","v":"Malaysia"},null,"MYS",null,null,null,"MYS"]
[11,"MMR",{"$f":"tblTerritories!C12","v":"Myanmar"},null,"MMR",null,null,null,"MMR"]
[12,"NZL",{"$f":"tblTerritories!C13","v":"New Zealand"},null,"NZL",null,null,null,"NZL"]
[13,"PHL",{"$f":"tblTerritories!C14","v":"Philippines"},null,"PHL",null,null,null,"PHL"]
[14,"SGP",{"$f":"tblTerritories!C15","v":"Singapore"},null,"SGP",null,null,null,"SGP"]
[15,"KOR",{"$f":"tblTerritories!C16","v":"South Korea"},null,"KOR",null,null,null,"KOR"]
[16,"TWN",{"$f":"tblTerritories!C17","v":"Taiwan"},null,"TWN",null,null,null,"TWN"]
[17,"THA",{"$f":"tblTerritories!C18","v":"Thailand"},null,"THA",null,null,null,"THA"]
[18,"VNM",{"$f":"tblTerritories!C19","v":"Vietnam "},null,"VNM",null,null,null,"VNM"]

{"sheet":"tblIndicators","index":8,"n_rows":20,"n_cols":35,"rows_kept":20,"cut":false,"hidden":true,"merged":[]}
["ID","IS_BG","Spare1","INDI_CODE","PARENT_CODE","DEPTH","REF","NDICATOR_SHORT","DESCRITION OF CATEGORIES",null,"DESCRITION OF INDICATORS","DESCRITION","INDICATOR_MULTI","INDICATOR_UNIT","Scoring Criteria (0-100 or 0-4 etc)","Year","Geography","HIGH=Good","Format","MAIN_SOURCE","SOURCE_WS_ID","HIGH_IS","NORM_ID (1=sumproduct, 2=min max set by data values, 3=min max set by user here)","Set Min","Set Max","WEIGHT_NOM","WEIGHT_PERC","REF_INDI","PARENT","Weight_row","Weight_nom","Weight-%",null,"Weight_nom_2","Weight-%_2"]
[1,0,null,"TOTAL","OVERALL SCORE",0,null,"OVERALL SCORE",{"$f":"\"The overall score is the weighted sum of the following categories scores:\n\n\"&G3&\") \"&H3&\"\n\"&G6&\") \"&H6&\"\n\"&G11&\") \"&H11&\"\n\"&G17&\") \"&H17&\"\"","v":"The overall score is the weighted sum of the following categories scores:\n\n1) Intellectual property\n2) Transparency and trade\n3) Customs environment\n4) Supply and demand"},null,{"$f":"\"The overall score is the weighted sum of the following category scores:\n\n1) \"&G3&\"\n2) \"&G6&\"\n3) \"&G11&\"\n4) \"&G17&\"\"","v":"The overall score is the weighted sum of the following category scores:\n\n1) 1\n2) 2\n3) 3\n4) 4"},{"$f":"IF(F2=2,K2,I2)","v":"The overall score is the weighted sum of the following categories scores:\n\n1) Intellectual property\n2) Transparency and trade\n3) Customs environment\n4) Supply and demand"},"Index score/number",null,"Index score/number",{"$f":"O2","v":"Index score/number"},null,null,"0.0","EIU Calculation",null,{"$f":"IF(R2=\"\",\"\",IF(R2=\"High score = good\",0,1))","v":""},1,null,null,{"$f":"AF2","v":0},{"$f":"IF(F2=0,\"\",IF(SUMIF(E$3:E$113,E2,Z$3:Z$20)=0,0,Z2/SUMIF(E$3:E$20,E2,Z$3:Z$20)))","v":""},{"$f":"IF(G2=\"\",H2,CONCATENATE(G2,\") \",IF(F2>=2,H2,UPPER(H2))))","v":"OVERALL SCORE"}]
[2,0,null,"IP","TOTAL",1,1,"Intellectual property",{"$f":"\"Measures the overall intellectual property and whether a country offers brand-owners a customs recordal. \n\nThe category score is the weighted sum of the following indicator scores:\n\n\"&G4&\") \"&H4&\"\n\"&G5&\") \"&H5&\"\"","v":"Measures the overall intellectual property and whether a country offers brand-owners a customs recordal. \n\nThe category score is the weighted sum of the following indicator scores:\n\n1.1)   Protection of IP rights\n1.2)   Customs recordal system"},null,null,{"$f":"IF(F3=2,K3,I3)","v":"Measures the overall intellectual property and whether a country offers brand-owners a customs recordal. \n\nThe category score is the weighted sum of the following indicator scores:\n\n1.1)   Protection of IP rights\n1.2)   Customs recordal system"},"Index score/number",null,"Index score/number",{"$f":"O3","v":"Index score/number"},null,null,"#0.0","EIU Calculation",{"$f":"G3","v":1},{"$f":"IF(R3=\"\",\"\",IF(R3=\"High score = good\",0,1))","v":""},1,null,null,{"$f":"AF3","v":0.25},0.25,"1) INTELLECTUAL PROPERTY",{"$f":"$AB$2","v":"OVERALL SCORE"},{"$f":"MATCH($D3,Weights!$C$7:$C$38,0)","v":1},{"$f":"IF(ISERROR(AD3),1,INDEX(Weights!$G$7:$G$68,AD3))","v":1},{"$f":"IF(ISERROR(AE3/SUMIF($E$2:$E$29,$E3,AE$2:AE$20)),0,AE3/SUMIF($E$2:$E$29,$E3,AE$2:AE$20))","v":0.25},null,{"$f":"IF(ISERROR(AD3),1,INDEX(iWeights!$H$5:$Q$30,AD3,uxb_works!$B$34))","v":1},{"$f":"IF(ISERROR(AH3/SUMIF($E$2:$E$29,$E3,AH$2:AH$20)),0,AH3/SUMIF($E$2:$E$29,$E3,AH$2:AH$20))","v":0.25}]
[{"$f":"A3+1","v":3},0,null,"IP_11","IP",2,1.1000000000000001,"  Protection of IP rights","Extent to which a high standard of comprehensive IP laws are enforced",null,"Extent to which a high standard of comprehensive IP laws are enforced",{"$f":"IF(F4=2,K4,I4)","v":"Extent to which a high standard of comprehensive IP laws are enforced"},1,null,"0-4 (4 = bad/high risk)","Rating",null,"High score = good","#0","EIU Operational Risk Model",{"$f":"G4","v":1.1000000000000001},1,3,0,4,{"$f":"AF4","v":0.8},0.8,"1.1)   Protection of IP rights",{"$f":"$AB$3","v":"1) INTELLECTUAL PROPERTY"},{"$f":"MATCH($D4,Weights!$C$7:$C$38,0)","v":8},{"$f":"IF(ISERROR(AD4),1,INDEX(Weights!$G$7:$G$68,AD4))","v":4},0.8,null,{"$f":"IF(ISERROR(AD4),1,INDEX(iWeights!$H$5:$Q$30,AD4,uxb_works!$B$34))","v":4},0.8]
[{"$f":"A4+1","v":4},0,null,"IP_13","IP",2,1.2,"  Customs recordal system","Existence of a customs recordal system for brand owners",null,"Existence of a customs recordal system for brand owners",{"$f":"IF(F5=2,K5,I5)","v":"Existence of a customs recordal system for brand owners"},1,null,"0 = No, 1 = yes","Yes/no",null,"High score = good","#0","Baker McKenzie",1.2,0,3,0,1,0.2,0.2,"1.2)   Customs recordal system","1) INTELLECTUAL PROPERTY",{"$f":"MATCH($D5,Weights!$C$7:$C$38,0)","v":9},{"$f":"IF(ISERROR(AD5),1,INDEX(Weights!$G$7:$G$68,AD5))","v":1},0.2,null,{"$f":"IF(ISERROR(AD5),1,INDEX(iWeights!$H$5:$Q$30,AD5,uxb_works!$B$34))","v":1},0.2]
[5,0,null,"TT","TOTAL",1,2,"Transparency and trade",{"$f":"\"Measures the extent to which countries co-operator with national, regional, and international stakeholders and exercise governance over its free trade zones and similar areas.\n\nThe category score is the weighted sum of the following indicator scores:\n\n\"&G7&\") \"&H7&\"\n\"&G8&\") \"&H8&\"\n\"&G9&\") \"&H9&\"\n\"&G10&\") \"&H10&\"\"","v":"Measures the extent to which countries co-operator with national, regional, and international stakeholders and exercise governance over its free trade zones and similar areas.\n\nThe category score is the weighted sum of the following indicator scores:\n\n2.1)   Track and trace services\n2.2)   Adoption of Annex D of Revised Kyoto Convention  \n2.3)   Government cooperation\n2.4)   FTZ governance "},null,{"$f":"\"TBA - Descrition of \"&H6","v":"TBA - Descrition of Transparency and trade"},"Measures the extent to which countries co-operator with national, regional, and international stakeholders and exercise governance over its free trade zones and similar areas.\n\nThe category score is the weighted sum of the following indicator scores:\n\n2.1)   Track and trace services\n2.2)   Adoption of Annex D of Revised Kyoto Convention  \n2.3)   Government cooperation\n2.4)   FTZ governance ",1,null,"Index score/number",{"$f":"O6","v":"Index score/number"},null,null,"#0.0","EIU Calculation",2,"",1,null,null,0.25,0.25,"2) TRANSPARENCY AND TRADE",{"$f":"AB2","v":"OVERALL SCORE"},{"$f":"MATCH($D6,Weights!$C$7:$C$38,0)","v":2},{"$f":"IF(ISERROR(AD6),1,INDEX(Weights!$G$7:$G$68,AD6))","v":1},0.25,null,{"$f":"IF(ISERROR(AD6),1,INDEX(iWeights!$H$5:$Q$30,AD6,uxb_works!$B$34))","v":1},0.25]
[6,0,null,"TT_21","TT",2,2.1,"  Track and trace services","The ability to track and trace consignments ",null,"The ability to track and trace consignments ","The ability to track and trace consignments ",1,null,"0-5 (5 = high)","Rating",null,"High score = good","#0","WB Logistics Performance Index",2.1,0,3,0,5,0.25,0.25,"2.1)   Track and trace services",{"$f":"$AB$6","v":"2) TRANSPARENCY AND TRADE"},{"$f":"MATCH($D7,Weights!$C$7:$C$38,0)","v":11},{"$f":"IF(ISERROR(AD7),1,INDEX(Weights!$G$7:$G$68,AD7))","v":1},0.25,null,{"$f":"IF(ISERROR(AD7),1,INDEX(iWeights!$H$5:$Q$30,AD7,uxb_works!$B$34))","v":1},0.25]
[7,0,null,"TT_22","TT",2,2.2000000000000002,"  Adoption of Annex D of Revised Kyoto Convention  ","A country’s adoption of Annex D of the Revised Kyoto Convention, a commitment to best practices in customs warehouses and FTZs",null,"A country’s adoption of Annex D of the Revised Kyoto Convention, a commitment to best practices in customs warehouses and FTZs","A country’s adoption of Annex D of the Revised Kyoto Convention, a commitment to best practices in customs warehouses and FTZs",1,null,"0 = No, 1 = yes","Yes/no",null,"High score = good","#0","World Customs Organization",2.2000000000000002,0,3,0,1,0.25,0.25,"2.2)   Adoption of Annex D of Revised Kyoto Convention  ",{"$f":"$AB$6","v":"2) TRANSPARENCY AND TRADE"},{"$f":"MATCH($D8,Weights!$C$7:$C$38,0)","v":12},{"$f":"IF(ISERROR(AD8),1,INDEX(Weights!$G$7:$G$68,AD8))","v":1},0.25,null,{"$f":"IF(ISERROR(AD8),1,INDEX(iWeights!$H$5:$Q$30,AD8,uxb_works!$B$34))","v":1},0.25]
[8,0,null,"TT_23","TT",2,2.2999999999999998,"  Government cooperation","A government’s commitment to cooperate with stakeholders in the prevention of illicit trade",null,"A government’s commitment to cooperate with stakeholders in the prevention of illicit trade","A government’s commitment to cooperate with stakeholders in the prevention of illicit trade",1,null,"1 = No, 2 = yes","Yes/no",null,"High score = good","#0","Expert survey",2.2999999999999998,0,3,1,2,{"$f":"AF9","v":0.25},0.25,"2.3)   Government cooperation","2) TRANSPARENCY AND TRADE",{"$f":"MATCH($D9,Weights!$C$7:$C$38,0)","v":13},{"$f":"IF(ISERROR(AD9),1,INDEX(Weights!$G$7:$G$68,AD9))","v":1},0.25,null,{"$f":"IF(ISERROR(AD9),1,INDEX(iWeights!$H$5:$Q$30,AD9,uxb_works!$B$34))","v":1},0.25]
[9,0,null,"TT_24","TT",2,2.4,"  FTZ governance ","Extent to which a customs organization and other law enforcement agencies monitor FTZs in their jurisdiction ",null,"Extent to which a customs organization and other law enforcement agencies monitor FTZs in their jurisdiction ","Extent to which a customs organization and other law enforcement agencies monitor FTZs in their jurisdiction ",1,null,"0 - 4 (4 = good governance)","Rating",null,"High score = good","#0","Expert survey",2.4,0,3,0,4,0.25,0.25,"2.4)   FTZ governance ","2) TRANSPARENCY AND TRADE",{"$f":"MATCH($D10,Weights!$C$7:$C$38,0)","v":14},{"$f":"IF(ISERROR(AD10),1,INDEX(Weights!$G$7:$G$68,AD10))","v":1},0.25,null,{"$f":"IF(ISERROR(AD10),1,INDEX(iWeights!$H$5:$Q$30,AD10,uxb_works!$B$34))","v":1},0.25]
[10,0,null,"CE","TOTAL",1,3,"Customs environment",{"$f":"\"Measures the balance between trade facilitation and illicit trade considerations, including corruption and automation. \n\nThe category score is the weighted sum of the following indicator scores:\n\n\"&G12&\") \"&H12&\"\n\"&G13&\") \"&H13&\"\n\"&G14&\") \"&H14&\"\n\"&G15&\") \"&H15&\"\n\"&G16&\") \"&H16&\"\"","v":"Measures the balance between trade facilitation and illicit trade considerations, including corruption and automation. \n\nThe category score is the weighted sum of the following indicator scores:\n\n3.1) Percentage of shipments physically inspected\n3.2)   Customs clearance and inspection\n3.3)   Automation\n3.4)   Corruption\n3.5) Accredited Economic Operator programme"},null,{"$f":"\"The category score is the weighted sum of the following indicator scores:\n\n\"&I12&\") \"&J12&\"\n\"&I13&\") \"&J13&\"\n\"&I14&\") \"&J14&\"\n\"&I15&\") \"&J15&\"\n\"&I16&\") \"&J16&\"\"","v":"The category score is the weighted sum of the following indicator scores:\n\nProportion of shipments physically inspected. Data is underweighted on the advice of expert panel. ) \nAverage number of days for clearance with physical inspections) \nElectronic exchange of data, automated border procedures, and use of risk management) \n Extent of corruption among public officials ) \nExistence of an Accredited Economic Operator programme ) "},"Measures the balance between trade facilitation and illicit trade considerations, including corruption and automation. \n\nThe category score is the weighted sum of the following indicator scores:\n\n3.1) Percentage of shipments physically inspected\n3.2)   Customs clearance and inspection\n3.3)   Automation\n3.4)   Corruption\n3.5) Accredited Economic Operator programme",1,null,"Index score/number",{"$f":"O11","v":"Index score/number"},null,null,"#0.0","EIU Calculation",3,"",1,null,null,0.25,0.25,"3) CUSTOMS ENVIRONMENT",{"$f":"AB2","v":"OVERALL SCORE"},{"$f":"MATCH($D11,Weights!$C$7:$C$38,0)","v":3},{"$f":"IF(ISERROR(AD11),1,INDEX(Weights!$G$7:$G$68,AD11))","v":1},0.25,null,{"$f":"IF(ISERROR(AD11),1,INDEX(iWeights!$H$5:$Q$30,AD11,uxb_works!$B$34))","v":1},0.25]
[11,0,null,"CE_31","CE",2,3.1,"Percentage of shipments physically inspected","Proportion of shipments physically inspected. Data is underweighted on the advice of expert panel. ",null,"Proportion of shipments physically inspected. Data is underweighted on the advice of expert panel. ","Proportion of shipments physically inspected. Data is underweighted on the advice of expert panel. ",1,null,"Higher = better","%",null,"High score = good","#0","WB Logistics Performance Index; EIU analysis",3.1,0,2,null,null,0.1111111111111111,0.1111111111111111,"3.1) Percentage of shipments physically inspected",{"$f":"$AB$11","v":"3) CUSTOMS ENVIRONMENT"},{"$f":"MATCH($D12,Weights!$C$7:$C$38,0)","v":16},{"$f":"IF(ISERROR(AD12),1,INDEX(Weights!$G$7:$G$68,AD12))","v":0.5},0.1111111111111111,null,{"$f":"IF(ISERROR(AD12),1,INDEX(iWeights!$H$5:$Q$30,AD12,uxb_works!$B$34))","v":0.5},0.1111111111111111]
[12,0,null,"CE_32","CE",2,3.2,"  Customs clearance and inspection","Average number of days for clearance with physical inspections",null,"Average number of days for clearance with physical inspections","Average number of days for clearance with physical inspections",1,null,"Lower = better","# of days",null,"High score = bad","#0","WB/IFC Ease of Doing Business Ranking",3.2,1,2,null,null,0.22222222222222221,0.22222222222222221,"3.2)   Customs clearance and inspection",{"$f":"$AB$11","v":"3) CUSTOMS ENVIRONMENT"},{"$f":"MATCH($D13,Weights!$C$7:$C$38,0)","v":17},{"$f":"IF(ISERROR(AD13),1,INDEX(Weights!$G$7:$G$68,AD13))","v":1},0.22222222222222221,null,{"$f":"IF(ISERROR(AD13),1,INDEX(iWeights!$H$5:$Q$30,AD13,uxb_works!$B$34))","v":1},0.22222222222222221]
[13,0,null,"CE_33","CE",2,3.3,"  Automation","Electronic exchange of data, automated border procedures, and use of risk management",null,"Electronic exchange of data, automated border procedures, and use of risk management","Electronic exchange of data, automated border procedures, and use of risk management",1,null,"Higher = better","Rating",null,"High score = good","#0.00","OECD Trade Facilitation Index",3.3,0,2,null,null,0.22222222222222221,0.22222222222222221,"3.3)   Automation","3) CUSTOMS ENVIRONMENT",{"$f":"MATCH($D14,Weights!$C$7:$C$38,0)","v":18},{"$f":"IF(ISERROR(AD14),1,INDEX(Weights!$G$7:$G$68,AD14))","v":1},0.22222222222222221,null,{"$f":"IF(ISERROR(AD14),1,INDEX(iWeights!$H$5:$Q$30,AD14,uxb_works!$B$34))","v":1},0.22222222222222221]
[14,0,null,"CE_34","CE",2,3.4,"  Corruption"," Extent of corruption among public officials ",null," Extent of corruption among public officials "," Extent of corruption among public officials ",1,null,"0 - 4 (0 = best, 4 = worst)","EIU rating",null,"High score = bad","#0","EIU Operational Risk Review",3.4,1,3,0,4,0.22222222222222221,0.22222222222222221,"3.4)   Corruption","3) CUSTOMS ENVIRONMENT",{"$f":"MATCH($D15,Weights!$C$7:$C$38,0)","v":19},{"$f":"IF(ISERROR(AD15),1,INDEX(Weights!$G$7:$G$68,AD15))","v":1},0.22222222222222221,null,{"$f":"IF(ISERROR(AD15),1,INDEX(iWeights!$H$5:$Q$30,AD15,uxb_works!$B$34))","v":1},0.22222222222222221]
[15,0,null,"CE_35","CE",2,3.5,"Accredited Economic Operator programme","Existence of an Accredited Economic Operator programme ",null,"Existence of an Accredited Economic Operator programme ","Existence of an Accredited Economic Operator programme ",1,null,"3 = Programmes exist; 2 = Programme to be launched; 1 = No programme exists","Rating",null,"High score = good","#0","World Customs Organisation",3.5,0,3,1,3,0.22222222222222221,0.22222222222222221,"3.5) Accredited Economic Operator programme","3) CUSTOMS ENVIRONMENT",{"$f":"MATCH($D16,Weights!$C$7:$C$38,0)","v":20},{"$f":"IF(ISERROR(AD16),1,INDEX(Weights!$G$7:$G$68,AD16))","v":1},0.22222222222222221,null,{"$f":"IF(ISERROR(AD16),1,INDEX(iWeights!$H$5:$Q$30,AD16,uxb_works!$B$34))","v":1},0.22222222222222221]
[16,0,null,"SD","TOTAL",1,4,"Supply and demand",{"$f":"\"Measures the domestic policy environment for each country with regards to the supply and demand of illicit trade. \n\nThe category score is the weighted sum of the following indicator scores:\n\n\"&G18&\") \"&H18&\"\n\"&G19&\") \"&H19&\"\n\"&G20&\") \"&H20&\"\"","v":"Measures the domestic policy environment for each country with regards to the supply and demand of illicit trade. \n\nThe category score is the weighted sum of the following indicator scores:\n\n4.1)   Tax and social security burdens\n4.2)   Quality of state institutions\n4.3)   Labour market regulations"},null,{"$f":"\"The category score is the weighted sum of the following indicator scores:\n\n\"&I18&\") \"&J18&\"\n\"&I19&\") \"&J19&\"\n\"&I20&\") \"&J20&\"\"","v":"The category score is the weighted sum of the following indicator scores:\n\nExtend of corporate tax and social security contributions of companies ) \nEffectiveness of country’s public institutions) \nDegree of restrictiveness on hiring and firing ) "},"Measures the domestic policy environment for each country with regards to the supply and demand of illicit trade. \n\nThe category score is the weighted sum of the following indicator scores:\n\n4.1)   Tax and social security burdens\n4.2)   Quality of state institutions\n4.3)   Labour market regulations",1,null,"Index score/number",{"$f":"O17","v":"Index score/number"},null,null,"#0.0","EIU Calculation",4,"",1,null,null,0.25,0.25,"4) SUPPLY AND DEMAND",{"$f":"AB2","v":"OVERALL SCORE"},{"$f":"MATCH($D17,Weights!$C$7:$C$38,0)","v":4},{"$f":"IF(ISERROR(AD17),1,INDEX(Weights!$G$7:$G$68,AD17))","v":1},0.25,null,{"$f":"IF(ISERROR(AD17),1,INDEX(iWeights!$H$5:$Q$30,AD17,uxb_works!$B$34))","v":1},0.25]
[17,0,null,"SD_41","SD",2,4.0999999999999996,"  Tax and social security burdens","Extend of corporate tax and social security contributions of companies ",null,"Extend of corporate tax and social security contributions of companies ","Extend of corporate tax and social security contributions of companies ",1,null,"1-5 (5 = high)","EIU rating",null,"High score = good","#0","EIU Business Environment Rankings",4.0999999999999996,0,3,1,5,0.33333333333333331,0.33333333333333331,"4.1)   Tax and social security burdens",{"$f":"$AB$17","v":"4) SUPPLY AND DEMAND"},{"$f":"MATCH($D18,Weights!$C$7:$C$38,0)","v":22},{"$f":"IF(ISERROR(AD18),1,INDEX(Weights!$G$7:$G$68,AD18))","v":1},0.33333333333333331,null,{"$f":"IF(ISERROR(AD18),1,INDEX(iWeights!$H$5:$Q$30,AD18,uxb_works!$B$34))","v":1},0.33333333333333331]
[18,0,null,"SD_42","SD",2,4.2,"  Quality of state institutions","Effectiveness of country’s public institutions",null,"Effectiveness of country’s public institutions","Effectiveness of country’s public institutions",1,null,"1-10 (10 = high)","EIU rating",null,"High score = good","#0","EIU Operational Risk Review",4.2,0,3,1,10,0.33333333333333331,0.33333333333333331,"4.2)   Quality of state institutions",{"$f":"$AB$17","v":"4) SUPPLY AND DEMAND"},{"$f":"MATCH($D19,Weights!$C$7:$C$38,0)","v":23},{"$f":"IF(ISERROR(AD19),1,INDEX(Weights!$G$7:$G$68,AD19))","v":1},0.33333333333333331,null,{"$f":"IF(ISERROR(AD19),1,INDEX(iWeights!$H$5:$Q$30,AD19,uxb_works!$B$34))","v":1},0.33333333333333331]
[19,0,null,"SD_43","SD",2,4.3,"  Labour market regulations","Degree of restrictiveness on hiring and firing ",null,"Degree of restrictiveness on hiring and firing ","Degree of restrictiveness on hiring and firing ",1,null,"1-5 (5 = high)","EIU rating",null,"High score = good","#0","EIU Business Environment Rankings",4.3,0,3,1,5,0.33333333333333331,0.33333333333333331,"4.3)   Labour market regulations","4) SUPPLY AND DEMAND",{"$f":"MATCH($D20,Weights!$C$7:$C$38,0)","v":24},{"$f":"IF(ISERROR(AD20),1,INDEX(Weights!$G$7:$G$68,AD20))","v":1},0.33333333333333331,null,{"$f":"IF(ISERROR(AD20),1,INDEX(iWeights!$H$5:$Q$30,AD20,uxb_works!$B$34))","v":1},0.33333333333333331]

{"sheet":"tblIndiSets","index":9,"n_rows":99,"n_cols":22,"rows_kept":99,"cut":false,"hidden":true,"merged":[]}
[]
["CATEGORIES"]
[]
[]
["TOTAL",{"$f":"IF(A5=\"\",\"\",MATCH(A5,tblIndicators!D$2:D$20,0))","v":1},{"$f":"IF($A5=\"\",\"\",INDEX(tblIndicators!AB$2:AB$20,$B5))","v":"OVERALL SCORE"}]
["IP",{"$f":"IF(A6=\"\",\"\",MATCH(A6,tblIndicators!D$2:D$20,0))","v":2},{"$f":"IF($A6=\"\",\"\",INDEX(tblIndicators!AB$2:AB$20,$B6))","v":"1) INTELLECTUAL PROPERTY"},null,null,null,null,null,null,null,null,null,null,null,null,null,"TOTAL","TOTAL","TOTAL","TOTAL","TOTAL","TOTAL"]
["TT",{"$f":"IF(A7=\"\",\"\",MATCH(A7,tblIndicators!D$2:D$20,0))","v":5},{"$f":"IF($A7=\"\",\"\",INDEX(tblIndicators!AB$2:AB$20,$B7))","v":"2) TRANSPARENCY AND TRADE"},null,null,null,null,null,null,null,null,null,null,null,null,null,"IP","IP"]
["CE",{"$f":"IF(A8=\"\",\"\",MATCH(A8,tblIndicators!D$2:D$20,0))","v":10},{"$f":"IF($A8=\"\",\"\",INDEX(tblIndicators!AB$2:AB$20,$B8))","v":"3) CUSTOMS ENVIRONMENT"},null,null,null,null,null,null,null,null,null,null,null,null,null,"IP_11",{"$f":"Q11","v":"TT"}]
["SD",{"$f":"IF(A9=\"\",\"\",MATCH(A9,tblIndicators!D$2:D$20,0))","v":16},{"$f":"IF($A9=\"\",\"\",INDEX(tblIndicators!AB$2:AB$20,$B9))","v":"4) SUPPLY AND DEMAND"},null,null,null,null,null,null,null,null,null,null,null,null,null,"IP_12",{"$f":"#REF!","v":{"$error":"#REF!"}}]
[null,null,null,null,null,null,null,null,null,null,null,null,null,null,null,null,"IP_14",{"$f":"Q26","v":"IFF"}]
[null,null,null,null,null,null,null,null,null,null,null,null,null,null,null,null,"TT"]
["CATEGORIES + INDICATORS (SCORING ONES ONLY)",null,null,null,null,null,null,null,null,null,null,null,null,null,null,null,"TT_21"]
["TOTAL",{"$f":"IF(A13=\"\",\"\",MATCH(A13,tblIndicators!D$2:D$20,0))","v":1},{"$f":"IF($A13=\"\",\"\",INDEX(tblIndicators!AB$2:AB$20,$B13))","v":"OVERALL SCORE"},null,null,null,null,null,null,null,null,null,null,null,null,null,"TT_22"]
["IP",{"$f":"IF(A14=\"\",\"\",MATCH(A14,tblIndicators!D$2:D$20,0))","v":2},{"$f":"IF($A14=\"\",\"\",INDEX(tblIndicators!AB$2:AB$20,$B14))","v":"1) INTELLECTUAL PROPERTY"},null,null,null,null,null,null,null,null,null,null,null,null,null,"TT_23"]
["IP_11",{"$f":"IF(A15=\"\",\"\",MATCH(A15,tblIndicators!D$2:D$20,0))","v":3},{"$f":"IF($A15=\"\",\"\",INDEX(tblIndicators!AB$2:AB$20,$B15))","v":"1.1)   Protection of IP rights"},null,null,null,null,null,null,null,null,null,null,null,null,null,"TT_24"]
["IP_13",{"$f":"IF(A16=\"\",\"\",MATCH(A16,tblIndicators!D$2:D$20,0))","v":4},{"$f":"IF($A16=\"\",\"\",INDEX(tblIndicators!AB$2:AB$20,$B16))","v":"1.2)   Customs recordal system"},null,null,null,null,null,null,null,null,null,null,null,null,null,"CE_31"]
["TT",{"$f":"IF(A17=\"\",\"\",MATCH(A17,tblIndicators!D$2:D$20,0))","v":5},{"$f":"IF($A17=\"\",\"\",INDEX(tblIndicators!AB$2:AB$20,$B17))","v":"2) TRANSPARENCY AND TRADE"},null,null,null,null,null,null,null,null,null,null,null,null,null,"CE_32"]
["TT_21",{"$f":"IF(A18=\"\",\"\",MATCH(A18,tblIndicators!D$2:D$20,0))","v":6},{"$f":"IF($A18=\"\",\"\",INDEX(tblIndicators!AB$2:AB$20,$B18))","v":"2.1)   Track and trace services"},null,null,null,null,null,null,null,null,null,null,null,null,null,"CE_33"]
["TT_22",{"$f":"IF(A19=\"\",\"\",MATCH(A19,tblIndicators!D$2:D$20,0))","v":7},{"$f":"IF($A19=\"\",\"\",INDEX(tblIndicators!AB$2:AB$20,$B19))","v":"2.2)   Adoption of Annex D of Revised Kyoto Convention  "},null,null,null,null,null,null,null,null,null,null,null,null,null,"CE_34"]
["TT_23",{"$f":"IF(A20=\"\",\"\",MATCH(A20,tblIndicators!D$2:D$20,0))","v":8},{"$f":"IF($A20=\"\",\"\",INDEX(tblIndicators!AB$2:AB$20,$B20))","v":"2.3)   Government cooperation"},null,null,null,null,null,null,null,null,null,null,null,null,null,"CE_35"]
["TT_24",{"$f":"IF(A21=\"\",\"\",MATCH(A21,tblIndicators!D$2:D$20,0))","v":9},{"$f":"IF($A21=\"\",\"\",INDEX(tblIndicators!AB$2:AB$20,$B21))","v":"2.4)   FTZ governance "},null,null,null,null,null,null,null,null,null,null,null,null,null,"SD"]
["CE",{"$f":"IF(A22=\"\",\"\",MATCH(A22,tblIndicators!D$2:D$20,0))","v":10},{"$f":"IF($A22=\"\",\"\",INDEX(tblIndicators!AB$2:AB$20,$B22))","v":"3) CUSTOMS ENVIRONMENT"},null,null,null,null,null,null,null,null,null,null,null,null,null,"SD_42"]
["CE_31",{"$f":"IF(A23=\"\",\"\",MATCH(A23,tblIndicators!D$2:D$20,0))","v":11},{"$f":"IF($A23=\"\",\"\",INDEX(tblIndicators!AB$2:AB$20,$B23))","v":"3.1) Percentage of shipments physically inspected"},null,null,null,null,null,null,null,null,null,null,null,null,null,"SD_43"]
["CE_32",{"$f":"IF(A24=\"\",\"\",MATCH(A24,tblIndicators!D$2:D$20,0))","v":12},{"$f":"IF($A24=\"\",\"\",INDEX(tblIndicators!AB$2:AB$20,$B24))","v":"3.2)   Customs clearance and inspection"},null,null,null,null,null,null,null,null,null,null,null,null,null,"SD_44"]
["CE_33",{"$f":"IF(A25=\"\",\"\",MATCH(A25,tblIndicators!D$2:D$20,0))","v":13},{"$f":"IF($A25=\"\",\"\",INDEX(tblIndicators!AB$2:AB$20,$B25))","v":"3.3)   Automation"},null,null,null,null,null,null,null,null,null,null,null,null,null,"SD_45"]
["CE_34",{"$f":"IF(A26=\"\",\"\",MATCH(A26,tblIndicators!D$2:D$20,0))","v":14},{"$f":"IF($A26=\"\",\"\",INDEX(tblIndicators!AB$2:AB$20,$B26))","v":"3.4)   Corruption"},null,null,null,null,null,null,null,null,null,null,null,null,null,"IFF"]
["CE_35",{"$f":"IF(A27=\"\",\"\",MATCH(A27,tblIndicators!D$2:D$20,0))","v":15},{"$f":"IF($A27=\"\",\"\",INDEX(tblIndicators!AB$2:AB$20,$B27))","v":"3.5) Accredited Economic Operator programme"},null,null,null,null,null,null,null,null,null,null,null,null,null,"IFF_51"]
["SD",{"$f":"IF(A28=\"\",\"\",MATCH(A28,tblIndicators!D$2:D$20,0))","v":16},{"$f":"IF($A28=\"\",\"\",INDEX(tblIndicators!AB$2:AB$20,$B28))","v":"4) SUPPLY AND DEMAND"},null,null,null,null,null,null,null,null,null,null,null,null,null,"IFF_52"]
["SD_41",{"$f":"IF(A29=\"\",\"\",MATCH(A29,tblIndicators!D$2:D$20,0))","v":17},{"$f":"IF($A29=\"\",\"\",INDEX(tblIndicators!AB$2:AB$20,$B29))","v":"4.1)   Tax and social security burdens"},null,null,null,null,null,null,null,null,null,null,null,null,null,"IFF_53"]
["SD_42",{"$f":"IF(A30=\"\",\"\",MATCH(A30,tblIndicators!D$2:D$20,0))","v":18},{"$f":"IF($A30=\"\",\"\",INDEX(tblIndicators!AB$2:AB$20,$B30))","v":"4.2)   Quality of state institutions"},null,null,null,null,null,null,null,null,null,null,null,null,null,"IFF_54"]
["SD_43",{"$f":"IF(A31=\"\",\"\",MATCH(A31,tblIndicators!D$2:D$20,0))","v":19},{"$f":"IF($A31=\"\",\"\",INDEX(tblIndicators!AB$2:AB$20,$B31))","v":"4.3)   Labour market regulations"},null,null,null,null,null,null,null,null,null,null,null,null,null,"IFF_55"]
[]
[]
["INDICATOR RANKING","Cat, Indi + Sub Indi"]
[]
["TOTAL",{"$f":"IF(A36=\"\",\"\",MATCH(A36,tblIndicators!D$2:D$20,0))","v":1},{"$f":"IF($A36=\"\",\"\",REPT(\" \",D36)&INDEX(tblIndicators!AB$2:AB$20,$B36))","v":"OVERALL SCORE"},{"$f":"tblIndicators!F2*2","v":0}]
["IP",{"$f":"IF(A37=\"\",\"\",MATCH(A37,tblIndicators!D$2:D$20,0))","v":2},{"$f":"IF($A37=\"\",\"\",REPT(\" \",D37)&INDEX(tblIndicators!AB$2:AB$20,$B37))","v":"  1) INTELLECTUAL PROPERTY"},{"$f":"tblIndicators!F3*2","v":2}]
["IP_11",{"$f":"IF(A38=\"\",\"\",MATCH(A38,tblIndicators!D$2:D$20,0))","v":3},{"$f":"IF($A38=\"\",\"\",REPT(\" \",D38)&INDEX(tblIndicators!AB$2:AB$20,$B38))","v":"    1.1)   Protection of IP rights"},{"$f":"tblIndicators!F4*2","v":4}]
["IP_13",{"$f":"IF(A39=\"\",\"\",MATCH(A39,tblIndicators!D$2:D$20,0))","v":4},{"$f":"IF($A39=\"\",\"\",REPT(\" \",D39)&INDEX(tblIndicators!AB$2:AB$20,$B39))","v":"    1.2)   Customs recordal system"},{"$f":"tblIndicators!F5*2","v":4}]
["TT",{"$f":"IF(A40=\"\",\"\",MATCH(A40,tblIndicators!D$2:D$20,0))","v":5},{"$f":"IF($A40=\"\",\"\",REPT(\" \",D40)&INDEX(tblIndicators!AB$2:AB$20,$B40))","v":"  2) TRANSPARENCY AND TRADE"},{"$f":"tblIndicators!F6*2","v":2}]
["TT_21",{"$f":"IF(A41=\"\",\"\",MATCH(A41,tblIndicators!D$2:D$20,0))","v":6},{"$f":"IF($A41=\"\",\"\",REPT(\" \",D41)&INDEX(tblIndicators!AB$2:AB$20,$B41))","v":"    2.1)   Track and trace services"},{"$f":"tblIndicators!F7*2","v":4}]
["TT_22",{"$f":"IF(A42=\"\",\"\",MATCH(A42,tblIndicators!D$2:D$20,0))","v":7},{"$f":"IF($A42=\"\",\"\",REPT(\" \",D42)&INDEX(tblIndicators!AB$2:AB$20,$B42))","v":"    2.2)   Adoption of Annex D of Revised Kyoto Convention  "},{"$f":"tblIndicators!F8*2","v":4}]
["TT_23",{"$f":"IF(A43=\"\",\"\",MATCH(A43,tblIndicators!D$2:D$20,0))","v":8},{"$f":"IF($A43=\"\",\"\",REPT(\" \",D43)&INDEX(tblIndicators!AB$2:AB$20,$B43))","v":"    2.3)   Government cooperation"},{"$f":"tblIndicators!F9*2","v":4}]
["TT_24",{"$f":"IF(A44=\"\",\"\",MATCH(A44,tblIndicators!D$2:D$20,0))","v":9},{"$f":"IF($A44=\"\",\"\",REPT(\" \",D44)&INDEX(tblIndicators!AB$2:AB$20,$B44))","v":"    2.4)   FTZ governance "},{"$f":"tblIndicators!F10*2","v":4}]
["CE",{"$f":"IF(A45=\"\",\"\",MATCH(A45,tblIndicators!D$2:D$20,0))","v":10},{"$f":"IF($A45=\"\",\"\",REPT(\" \",D45)&INDEX(tblIndicators!AB$2:AB$20,$B45))","v":"  3) CUSTOMS ENVIRONMENT"},{"$f":"tblIndicators!F11*2","v":2}]
["CE_31",{"$f":"IF(A46=\"\",\"\",MATCH(A46,tblIndicators!D$2:D$20,0))","v":11},{"$f":"IF($A46=\"\",\"\",REPT(\" \",D46)&INDEX(tblIndicators!AB$2:AB$20,$B46))","v":"    3.1) Percentage of shipments physically inspected"},{"$f":"tblIndicators!F12*2","v":4}]
["CE_32",{"$f":"IF(A47=\"\",\"\",MATCH(A47,tblIndicators!D$2:D$20,0))","v":12},{"$f":"IF($A47=\"\",\"\",REPT(\" \",D47)&INDEX(tblIndicators!AB$2:AB$20,$B47))","v":"    3.2)   Customs clearance and inspection"},{"$f":"tblIndicators!F13*2","v":4}]
["CE_33",{"$f":"IF(A48=\"\",\"\",MATCH(A48,tblIndicators!D$2:D$20,0))","v":13},{"$f":"IF($A48=\"\",\"\",REPT(\" \",D48)&INDEX(tblIndicators!AB$2:AB$20,$B48))","v":"    3.3)   Automation"},{"$f":"tblIndicators!F14*2","v":4}]
["CE_34",{"$f":"IF(A49=\"\",\"\",MATCH(A49,tblIndicators!D$2:D$20,0))","v":14},{"$f":"IF($A49=\"\",\"\",REPT(\" \",D49)&INDEX(tblIndicators!AB$2:AB$20,$B49))","v":"    3.4)   Corruption"},{"$f":"tblIndicators!F15*2","v":4}]
["CE_35",{"$f":"IF(A50=\"\",\"\",MATCH(A50,tblIndicators!D$2:D$20,0))","v":15},{"$f":"IF($A50=\"\",\"\",REPT(\" \",D50)&INDEX(tblIndicators!AB$2:AB$20,$B50))","v":"    3.5) Accredited Economic Operator programme"},{"$f":"tblIndicators!F16*2","v":4}]
["SD",{"$f":"IF(A51=\"\",\"\",MATCH(A51,tblIndicators!D$2:D$20,0))","v":16},{"$f":"IF($A51=\"\",\"\",REPT(\" \",D51)&INDEX(tblIndicators!AB$2:AB$20,$B51))","v":"  4) SUPPLY AND DEMAND"},{"$f":"tblIndicators!F17*2","v":2}]
["SD_41",{"$f":"IF(A52=\"\",\"\",MATCH(A52,tblIndicators!D$2:D$20,0))","v":17},{"$f":"IF($A52=\"\",\"\",REPT(\" \",D52)&INDEX(tblIndicators!AB$2:AB$20,$B52))","v":"    4.1)   Tax and social security burdens"},{"$f":"tblIndicators!F18*2","v":4}]
["SD_42",{"$f":"IF(A53=\"\",\"\",MATCH(A53,tblIndicators!D$2:D$20,0))","v":18},{"$f":"IF($A53=\"\",\"\",REPT(\" \",D53)&INDEX(tblIndicators!AB$2:AB$20,$B53))","v":"    4.2)   Quality of state institutions"},{"$f":"tblIndicators!F19*2","v":4}]
["SD_43",{"$f":"IF(A54=\"\",\"\",MATCH(A54,tblIndicators!D$2:D$20,0))","v":19},{"$f":"IF($A54=\"\",\"\",REPT(\" \",D54)&INDEX(tblIndicators!AB$2:AB$20,$B54))","v":"    4.3)   Labour market regulations"},{"$f":"tblIndicators!F20*2","v":4}]
[]
[]
[]
["TOTAL",{"$f":"IF(A58=\"\",\"\",MATCH(A58,tblIndicators!D$2:D$20,0))","v":1},"VIEW ALL"]
["IP",{"$f":"IF(A59=\"\",\"\",MATCH(A59,tblIndicators!D$2:D$20,0))","v":2},{"$f":"IF($A59=\"\",\"\",INDEX(tblIndicators!AB$2:AB$20,$B59))","v":"1) INTELLECTUAL PROPERTY"}]
["TT",{"$f":"IF(A60=\"\",\"\",MATCH(A60,tblIndicators!D$2:D$20,0))","v":5},{"$f":"IF($A60=\"\",\"\",INDEX(tblIndicators!AB$2:AB$20,$B60))","v":"2) TRANSPARENCY AND TRADE"}]
["CE",{"$f":"IF(A61=\"\",\"\",MATCH(A61,tblIndicators!D$2:D$20,0))","v":10},{"$f":"IF($A61=\"\",\"\",INDEX(tblIndicators!AB$2:AB$20,$B61))","v":"3) CUSTOMS ENVIRONMENT"}]
["SD",{"$f":"IF(A62=\"\",\"\",MATCH(A62,tblIndicators!D$2:D$20,0))","v":16},{"$f":"IF($A62=\"\",\"\",INDEX(tblIndicators!AB$2:AB$20,$B62))","v":"4) SUPPLY AND DEMAND"}]
[]
[]
[]
[]
[]
[]
[]
[]
[]
[]
[]
[]
[]
[]
[]
[]
[]
["MAP"]
[]
[]
[]
[]
[]
[]
[]
[]
[]
[]
[]
["Weights Compare"]
[null,null,"Country Name"]
[null,null,"Score: Weight Profile 1"]
[null,null,"Score: Weight Profile 2"]
[null,null,"Change in Score"]
[null,null,"Rank: Weight Profile 1"]
[null,null,"Rank: Weight Profile 2"]
[null,null,"Change in Rank"]

{"sheet":"tblCategories","index":10,"n_rows":20,"n_cols":29,"rows_kept":20,"cut":false,"hidden":true,"merged":[]}
["CityID","ISO","Indicator","DisplayName","ISO/MAP","Display_Status","ParentCity",null,null,null,null,null,1,2,3,4,5,null,null,null,null,"For Spider Chart",null,null,1,2,3,4,5]
[0,null,"<none>",{"$f":"C2","v":"<none>"},null,0,null,null,null,null,{"$f":"tblIndiSets!C58","v":"VIEW ALL"},null,{"$f":"INDEX($K$2:$K$7,M1)","v":"VIEW ALL"},{"$f":"INDEX($K$2:$K$7,N1)","v":"1) INTELLECTUAL PROPERTY"},{"$f":"INDEX($K$2:$K$7,O1)","v":"2) TRANSPARENCY AND TRADE"},{"$f":"INDEX($K$2:$K$7,P1)","v":"4) SUPPLY AND DEMAND"},{"$f":"INDEX($K$2:$K$7,Q1)","v":0},null,null,null,null,null,"All",null,{"$f":"INDEX($K$2:$K$7,Y1)","v":"VIEW ALL"},{"$f":"INDEX($K$2:$K$7,Z1)","v":"1) INTELLECTUAL PROPERTY"},{"$f":"INDEX($K$2:$K$7,AA1)","v":"2) TRANSPARENCY AND TRADE"},{"$f":"INDEX($K$2:$K$7,AB1)","v":"4) SUPPLY AND DEMAND"},{"$f":"INDEX($K$2:$K$7,AC1)","v":0}]
[{"$f":"A2+1","v":1},null,{"$f":"tblIndicators!AB3","v":"1) INTELLECTUAL PROPERTY"},{"$f":"C3","v":"1) INTELLECTUAL PROPERTY"},null,{"$f":"INDEX(M3:Q3,uxb_works!$B$32)","v":1},null,"City_HIGHLIGHT_ID",{"$f":"uxb_works!B7","v":0},null,{"$f":"tblIndiSets!C59","v":"1) INTELLECTUAL PROPERTY"},1,1,1,0,0,0,null,null,null,{"$f":"INDEX(Y3:AC3,uxb_works!$B$32)","v":1},null,{"$f":"K3","v":"1) INTELLECTUAL PROPERTY"},1,1,0,0,0,0]
[{"$f":"A3+1","v":2},null,{"$f":"tblIndicators!AB4","v":"1.1)   Protection of IP rights"},{"$f":"C4","v":"1.1)   Protection of IP rights"},null,{"$f":"INDEX(M4:Q4,uxb_works!$B$32)","v":1},null,"GROUP_HIGHLIGHT_ID",1,null,{"$f":"tblIndiSets!C60","v":"2) TRANSPARENCY AND TRADE"},1,1,1,0,0,0,null,null,null,{"$f":"INDEX(Y4:AC4,uxb_works!$B$32)","v":0},null,{"$f":"K4","v":"2) TRANSPARENCY AND TRADE"},1,0,1,0,0,0]
[3,null,{"$f":"tblIndicators!AB5","v":"1.2)   Customs recordal system"},"1.2)   Customs recordal system",null,{"$f":"INDEX(M5:Q5,uxb_works!$B$32)","v":1},null,null,null,null,{"$f":"tblIndiSets!C62","v":"4) SUPPLY AND DEMAND"},1,1,1,0,0,0,null,null,null,{"$f":"INDEX(Y5:AC5,uxb_works!$B$32)","v":0},null,"4) SUPPLY AND DEMAND",1,0,1,0,0,0]
[4,null,{"$f":"tblIndicators!AB6","v":"2) TRANSPARENCY AND TRADE"},"2) TRANSPARENCY AND TRADE",null,{"$f":"INDEX(M6:Q6,uxb_works!$B$32)","v":1},null,null,null,null,null,1,1,0,1,0,0,null,null,null,{"$f":"INDEX(Y6:AC6,uxb_works!$B$32)","v":1},null,null,1,1,0,0,0,0]
[5,null,{"$f":"tblIndicators!AB7","v":"2.1)   Track and trace services"},"2.1)   Track and trace services",null,{"$f":"INDEX(M7:Q7,uxb_works!$B$32)","v":1},null,null,null,null,null,1,1,0,1,0,0,null,null,null,{"$f":"INDEX(Y7:AC7,uxb_works!$B$32)","v":0},null,null,1,0,0,1,0,0]
[6,null,{"$f":"tblIndicators!AB8","v":"2.2)   Adoption of Annex D of Revised Kyoto Convention  "},"2.2)   Adoption of Annex D of Revised Kyoto Convention  ",null,{"$f":"INDEX(M8:Q8,uxb_works!$B$32)","v":1},null,null,null,null,null,1,1,0,1,0,0,null,null,null,{"$f":"INDEX(Y8:AC8,uxb_works!$B$32)","v":0},null,null,1,0,0,1,0,0]
[7,null,{"$f":"tblIndicators!AB9","v":"2.3)   Government cooperation"},"2.3)   Government cooperation",null,{"$f":"INDEX(M9:Q9,uxb_works!$B$32)","v":1},null,null,null,null,null,1,1,0,1,0,0,null,null,null,{"$f":"INDEX(Y9:AC9,uxb_works!$B$32)","v":0},null,null,1,0,0,1,0,0]
[8,null,{"$f":"tblIndicators!AB10","v":"2.4)   FTZ governance "},"2.4)   FTZ governance ",null,{"$f":"INDEX(M10:Q10,uxb_works!$B$32)","v":1},null,null,null,null,null,1,1,0,1,0,0,null,null,null,{"$f":"INDEX(Y10:AC10,uxb_works!$B$32)","v":0},null,null,1,0,0,1,0,0]
[9,null,{"$f":"tblIndicators!AB11","v":"3) CUSTOMS ENVIRONMENT"},"3) CUSTOMS ENVIRONMENT",null,{"$f":"INDEX(M11:Q11,uxb_works!$B$32)","v":1},null,null,null,null,null,1,1,0,0,1,0,null,null,null,{"$f":"INDEX(Y11:AC11,uxb_works!$B$32)","v":1},null,null,1,1,0,0,0,0]
[10,null,{"$f":"tblIndicators!AB12","v":"3.1) Percentage of shipments physically inspected"},"3.1) Percentage of shipments physically inspected",null,{"$f":"INDEX(M12:Q12,uxb_works!$B$32)","v":1},null,null,null,null,null,1,1,0,0,1,0,null,null,null,{"$f":"INDEX(Y12:AC12,uxb_works!$B$32)","v":0},null,null,1,0,0,0,1,0]
[11,null,{"$f":"tblIndicators!AB13","v":"3.2)   Customs clearance and inspection"},"3.2)   Customs clearance and inspection",null,{"$f":"INDEX(M13:Q13,uxb_works!$B$32)","v":1},null,null,null,null,null,1,1,0,0,1,0,null,null,null,{"$f":"INDEX(Y13:AC13,uxb_works!$B$32)","v":0},null,null,1,0,0,0,1,0]
[12,null,{"$f":"tblIndicators!AB14","v":"3.3)   Automation"},"3.3)   Automation",null,{"$f":"INDEX(M14:Q14,uxb_works!$B$32)","v":1},null,null,null,null,null,1,1,0,0,1,0,null,null,null,{"$f":"INDEX(Y14:AC14,uxb_works!$B$32)","v":0},null,null,1,0,0,0,1,0]
[13,null,{"$f":"tblIndicators!AB15","v":"3.4)   Corruption"},"3.4)   Corruption",null,{"$f":"INDEX(M15:Q15,uxb_works!$B$32)","v":1},null,null,null,null,null,1,1,0,0,1,0,null,null,null,{"$f":"INDEX(Y15:AC15,uxb_works!$B$32)","v":0},null,null,1,0,0,0,1,0]
[14,null,{"$f":"tblIndicators!AB16","v":"3.5) Accredited Economic Operator programme"},"3.5) Accredited Economic Operator programme",null,{"$f":"INDEX(M16:Q16,uxb_works!$B$32)","v":1},null,null,null,null,null,1,1,0,0,1,0,null,null,null,{"$f":"INDEX(Y16:AC16,uxb_works!$B$32)","v":0},null,null,1,0,0,0,1,0]
[15,null,{"$f":"tblIndicators!AB17","v":"4) SUPPLY AND DEMAND"},"4) SUPPLY AND DEMAND",null,{"$f":"INDEX(M17:Q17,uxb_works!$B$32)","v":1},null,null,null,null,null,1,1,0,0,0,1,null,null,null,{"$f":"INDEX(Y17:AC17,uxb_works!$B$32)","v":1},null,null,1,1,0,0,0,0]
[16,null,{"$f":"tblIndicators!AB18","v":"4.1)   Tax and social security burdens"},"4.1)   Tax and social security burdens",null,{"$f":"INDEX(M18:Q18,uxb_works!$B$32)","v":1},null,null,null,null,null,1,1,0,0,0,1,null,null,null,{"$f":"INDEX(Y18:AC18,uxb_works!$B$32)","v":0},null,null,1,0,0,0,0,1]
[17,null,{"$f":"tblIndicators!AB19","v":"4.2)   Quality of state institutions"},"4.2)   Quality of state institutions",null,{"$f":"INDEX(M19:Q19,uxb_works!$B$32)","v":1},null,null,null,null,null,1,1,0,0,0,1,null,null,null,{"$f":"INDEX(Y19:AC19,uxb_works!$B$32)","v":0},null,null,1,0,0,0,0,1]
[18,null,{"$f":"tblIndicators!AB20","v":"4.3)   Labour market regulations"},"4.3)   Labour market regulations",null,{"$f":"INDEX(M20:Q20,uxb_works!$B$32)","v":1},null,null,null,null,null,1,1,0,0,0,1,null,null,null,{"$f":"INDEX(Y20:AC20,uxb_works!$B$32)","v":0},null,null,1,0,0,0,0,1]

{"sheet":"tblTerritories","index":11,"n_rows":21,"n_cols":25,"rows_kept":21,"cut":false,"hidden":true,"merged":[]}
["CityID",null,"City","RegionID","DisplayName","MAP OBJECT IDENTIFIER",null,"Display_Status","Parentcity",null,null,"Tier No.",null,null,null,null,1,2,3,4,5,6]
[0,null,"<none>",0,{"$f":"C2","v":"<none>"},null,0,null,null,null,null,null,null,null,"Groups",null,{"$f":"INDEX(luRegionsPlusNone,Q1)","v":"<none>"},"All Incomes","Upper income","Lower middle income","low income","Least developed"]
[1,{"$f":"uxb_regions!B3","v":"AUS"},"Australia",{"$f":"H3","v":0},{"$f":"C3","v":"Australia"},{"$f":"C3","v":"Australia"},{"$f":"IF(A3=$K$3,3,IF(INDEX($R3:$V3,$K$5)=0,0,IF(INDEX($Q3:$V3,$K$4)=1,2,1)))","v":1},null,null,"CITY_HIGHLIGHT_ID",{"$f":"uxb_works!B7","v":0},{"$f":"MATCH(1,S3:V3,0)","v":1},null,1,"<none>",null,0,1,1,0,0,0,null,null,{"$f":"O3","v":"<none>"}]
[2,{"$f":"uxb_regions!B4","v":"KHM"},"Cambodia",{"$f":"H4","v":0},{"$f":"C4","v":"Cambodia"},{"$f":"C4","v":"Cambodia"},1,null,null,"GROUP_HIGHLIGHT_ID",{"$f":"IF(uxb_works!B9=2,1,uxb_works!B9)","v":1},4,null,2,"All Incomes",null,0,1,0,0,0,1,null,null,{"$f":"O5","v":"Upper income"}]
[3,{"$f":"uxb_regions!B5","v":"CHN"},"China",0,"China","China",1,null,null,"GROUP_FILTER_ID",{"$f":"uxb_works!B10","v":1},2,1,3,"Upper income",null,0,1,0,1,0,0,null,null,{"$f":"O6","v":"Lower middle income"}]
[4,{"$f":"uxb_regions!B6","v":"HKG"},"Hong Kong",0,"Hong Kong","Hong Kong",{"$f":"IF(A6=$K$3,3,IF(INDEX($R6:$V6,$K$5)=0,0,IF(INDEX($Q6:$V6,$K$4)=1,2,1)))","v":1},null,null,null,null,{"$f":"MATCH(1,S6:V6,0)","v":1},2,4,"Lower middle income",null,0,1,1,0,0,0,null,null,"low income"]
[5,{"$f":"uxb_regions!B7","v":"IND"},"India",0,"India","India",1,null,null,null,null,2,3,5,"low income",null,0,1,0,1,0,0,null,null,"Least developed"]
[6,{"$f":"uxb_regions!B8","v":"IDN"},"Indonesia",0,"Indonesia","Indonesia",1,null,null,null,null,3,4,6,"Least developed",null,0,1,0,0,1,0]
[7,{"$f":"uxb_regions!B9","v":"JPN"},"Japan",0,"Japan","Japan",1,null,null,null,null,1,null,null,null,null,0,1,1,0,0,0]
[8,{"$f":"uxb_regions!B10","v":"LAO"},"Laos ",0,"Laos ","Laos ",1,null,null,null,null,4,null,null,null,null,0,1,0,0,0,1]
[9,{"$f":"uxb_regions!B11","v":"MYS"},"Malaysia",0,"Malaysia","Malaysia",1,null,null,null,null,2,null,null,null,null,0,1,0,1,0,0]
[10,{"$f":"uxb_regions!B12","v":"MMR"},"Myanmar",0,"Myanmar","Myanmar",1,null,null,null,null,4,null,null,null,null,0,1,0,0,0,1]
[11,{"$f":"uxb_regions!B13","v":"NZL"},"New Zealand",0,"New Zealand","New Zealand",1,null,null,null,null,1,null,null,null,null,0,1,1,0,0,0]
[12,{"$f":"uxb_regions!B14","v":"PHL"},"Philippines",0,"Philippines","Philippines",1,null,null,null,null,3,null,null,null,null,0,1,0,0,1,0]
[13,{"$f":"uxb_regions!B15","v":"SGP"},"Singapore",0,"Singapore","Singapore",1,null,null,null,null,1,null,null,null,null,0,1,1,0,0,0]
[14,{"$f":"uxb_regions!B16","v":"KOR"},"South Korea",0,"South Korea","South Korea",1,null,null,null,null,1,null,null,null,null,0,1,1,0,0,0]
[15,{"$f":"uxb_regions!B17","v":"TWN"},"Taiwan",0,"Taiwan","Taiwan",1,null,null,null,null,1,null,null,null,null,0,1,1,0,0,0]
[16,{"$f":"uxb_regions!B18","v":"THA"},"Thailand",0,"Thailand","Thailand",1,null,null,null,null,3,null,null,null,null,0,1,0,0,1,0]
[17,{"$f":"uxb_regions!B19","v":"VNM"},"Vietnam ",0,"Vietnam ","Vietnam ",1,null,null,null,null,4,null,null,null,null,0,1,0,0,0,1]
[]
[null,null,null,null,null,null,null,null,null,null,null,null,null,null,null,null,null,null,{"$f":"SUM(S3:S19)","v":7},{"$f":"SUM(T3:T19)","v":3},{"$f":"SUM(U3:U19)","v":3},{"$f":"SUM(V3:V19)","v":4}]

{"sheet":"iData","index":12,"n_rows":23,"n_cols":26,"rows_kept":23,"cut":false,"hidden":true,"merged":[]}
[]
[]
[null,null,null,null,null,null,null,null,null,3,4,5,6,7,8,9,10,11,12,13,14,15,16,17,18,19]
[null,{"$f":"tblIndicators!A1","v":"ID"},{"$f":"tblIndicators!B1","v":"IS_BG"},{"$f":"tblIndicators!D1","v":"INDI_CODE"},{"$f":"tblIndicators!E1","v":"PARENT_CODE"},"Name",{"$f":"tblIndicators!W1","v":"NORM_ID (1=sumproduct, 2=min max set by data values, 3=min max set by user here)"},"Indicator","Multiplication Factor",{"$f":"INDEX(tblTerritories!$C$3:$C$19,J3-2)","v":"Australia"},{"$f":"INDEX(tblTerritories!$C$3:$C$19,K3-2)","v":"Cambodia"},{"$f":"INDEX(tblTerritories!$C$3:$C$19,L3-2)","v":"China"},{"$f":"INDEX(tblTerritories!$C$3:$C$19,M3-2)","v":"Hong Kong"},{"$f":"INDEX(tblTerritories!$C$3:$C$19,N3-2)","v":"India"},{"$f":"INDEX(tblTerritories!$C$3:$C$19,O3-2)","v":"Indonesia"},{"$f":"INDEX(tblTerritories!$C$3:$C$19,P3-2)","v":"Japan"},{"$f":"INDEX(tblTerritories!$C$3:$C$19,Q3-2)","v":"Laos "},{"$f":"INDEX(tblTerritories!$C$3:$C$19,R3-2)","v":"Malaysia"},{"$f":"INDEX(tblTerritories!$C$3:$C$19,S3-2)","v":"Myanmar"},{"$f":"INDEX(tblTerritories!$C$3:$C$19,T3-2)","v":"New Zealand"},{"$f":"INDEX(tblTerritories!$C$3:$C$19,U3-2)","v":"Philippines"},{"$f":"INDEX(tblTerritories!$C$3:$C$19,V3-2)","v":"Singapore"},{"$f":"INDEX(tblTerritories!$C$3:$C$19,W3-2)","v":"South Korea"},{"$f":"INDEX(tblTerritories!$C$3:$C$19,X3-2)","v":"Taiwan"},{"$f":"INDEX(tblTerritories!$C$3:$C$19,Y3-2)","v":"Thailand"},{"$f":"INDEX(tblTerritories!$C$3:$C$19,Z3-2)","v":"Vietnam "}]
[null,{"$f":"tblIndicators!A2","v":1},{"$f":"tblIndicators!B2","v":0},{"$f":"tblIndicators!D2","v":"TOTAL"},{"$f":"tblIndicators!E2","v":"OVERALL SCORE"},{"$f":"tblIndicators!H2","v":"OVERALL SCORE"},{"$f":"tblIndicators!W2","v":1},{"$f":"tblIndicators!AB2","v":"OVERALL SCORE"},{"$f":"IF(G5=1,\"\",tblIndicators!M2)","v":""},{"$f":"IF($G5=1,\"\",$I5*Data!J5)","v":""},{"$f":"IF($G5=1,\"\",$I5*Data!K5)","v":""},{"$f":"IF($G5=1,\"\",$I5*Data!L5)","v":""},{"$f":"IF($G5=1,\"\",$I5*Data!M5)","v":""},{"$f":"IF($G5=1,\"\",$I5*Data!N5)","v":""},{"$f":"IF($G5=1,\"\",$I5*Data!O5)","v":""},{"$f":"IF($G5=1,\"\",$I5*Data!P5)","v":""},{"$f":"IF($G5=1,\"\",$I5*Data!Q5)","v":""},{"$f":"IF($G5=1,\"\",$I5*Data!R5)","v":""},{"$f":"IF($G5=1,\"\",$I5*Data!S5)","v":""},{"$f":"IF($G5=1,\"\",$I5*Data!T5)","v":""},{"$f":"IF($G5=1,\"\",$I5*Data!U5)","v":""},{"$f":"IF($G5=1,\"\",$I5*Data!V5)","v":""},{"$f":"IF($G5=1,\"\",$I5*Data!W5)","v":""},{"$f":"IF($G5=1,\"\",$I5*Data!X5)","v":""},{"$f":"IF($G5=1,\"\",$I5*Data!Y5)","v":""},{"$f":"IF($G5=1,\"\",$I5*Data!Z5)","v":""}]
[null,{"$f":"tblIndicators!A3","v":2},{"$f":"tblIndicators!B3","v":0},{"$f":"tblIndicators!D3","v":"IP"},{"$f":"tblIndicators!E3","v":"TOTAL"},{"$f":"tblIndicators!H3","v":"Intellectual property"},{"$f":"tblIndicators!W3","v":1},{"$f":"tblIndicators!AB3","v":"1) INTELLECTUAL PROPERTY"},{"$f":"IF(G6=1,\"\",tblIndicators!M3)","v":""},{"$f":"IF($G6=1,\"\",$I6*Data!J6)","v":""},{"$f":"IF($G6=1,\"\",$I6*Data!K6)","v":""},{"$f":"IF($G6=1,\"\",$I6*Data!L6)","v":""},{"$f":"IF($G6=1,\"\",$I6*Data!M6)","v":""},{"$f":"IF($G6=1,\"\",$I6*Data!N6)","v":""},{"$f":"IF($G6=1,\"\",$I6*Data!O6)","v":""},{"$f":"IF($G6=1,\"\",$I6*Data!P6)","v":""},{"$f":"IF($G6=1,\"\",$I6*Data!Q6)","v":""},{"$f":"IF($G6=1,\"\",$I6*Data!R6)","v":""},{"$f":"IF($G6=1,\"\",$I6*Data!S6)","v":""},{"$f":"IF($G6=1,\"\",$I6*Data!T6)","v":""},{"$f":"IF($G6=1,\"\",$I6*Data!U6)","v":""},{"$f":"IF($G6=1,\"\",$I6*Data!V6)","v":""},{"$f":"IF($G6=1,\"\",$I6*Data!W6)","v":""},{"$f":"IF($G6=1,\"\",$I6*Data!X6)","v":""},{"$f":"IF($G6=1,\"\",$I6*Data!Y6)","v":""},{"$f":"IF($G6=1,\"\",$I6*Data!Z6)","v":""}]
[null,{"$f":"tblIndicators!A4","v":3},{"$f":"tblIndicators!B4","v":0},{"$f":"tblIndicators!D4","v":"IP_11"},{"$f":"tblIndicators!E4","v":"IP"},{"$f":"tblIndicators!H4","v":"  Protection of IP rights"},{"$f":"tblIndicators!W4","v":3},{"$f":"tblIndicators!AB4","v":"1.1)   Protection of IP rights"},{"$f":"IF(G7=1,\"\",tblIndicators!M4)","v":1},{"$f":"IF(OR($G7=1,Data!J7=\"\"),\"\",$I7*Data!J7)","v":0},{"$f":"IF(OR($G7=1,Data!K7=\"\"),\"\",$I7*Data!K7)","v":3},{"$f":"IF(OR($G7=1,Data!L7=\"\"),\"\",$I7*Data!L7)","v":2},{"$f":"IF(OR($G7=1,Data!M7=\"\"),\"\",$I7*Data!M7)","v":1},{"$f":"IF(OR($G7=1,Data!N7=\"\"),\"\",$I7*Data!N7)","v":2},{"$f":"IF(OR($G7=1,Data!O7=\"\"),\"\",$I7*Data!O7)","v":3},{"$f":"IF(OR($G7=1,Data!P7=\"\"),\"\",$I7*Data!P7)","v":1},{"$f":"IF(OR($G7=1,Data!Q7=\"\"),\"\",$I7*Data!Q7)","v":4},{"$f":"IF(OR($G7=1,Data!R7=\"\"),\"\",$I7*Data!R7)","v":1},{"$f":"IF(OR($G7=1,Data!S7=\"\"),\"\",$I7*Data!S7)","v":4},{"$f":"IF(OR($G7=1,Data!T7=\"\"),\"\",$I7*Data!T7)","v":0},{"$f":"IF(OR($G7=1,Data!U7=\"\"),\"\",$I7*Data!U7)","v":3},{"$f":"IF(OR($G7=1,Data!V7=\"\"),\"\",$I7*Data!V7)","v":0},{"$f":"IF(OR($G7=1,Data!W7=\"\"),\"\",$I7*Data!W7)","v":2},{"$f":"IF(OR($G7=1,Data!X7=\"\"),\"\",$I7*Data!X7)","v":1},{"$f":"IF(OR($G7=1,Data!Y7=\"\"),\"\",$I7*Data!Y7)","v":3},{"$f":"IF(OR($G7=1,Data!Z7=\"\"),\"\",$I7*Data!Z7)","v":3}]
[null,{"$f":"tblIndicators!A5","v":4},{"$f":"tblIndicators!B5","v":0},{"$f":"tblIndicators!D5","v":"IP_13"},{"$f":"tblIndicators!E5","v":"IP"},{"$f":"tblIndicators!H5","v":"  Customs recordal system"},{"$f":"tblIndicators!W5","v":3},{"$f":"tblIndicators!AB5","v":"1.2)   Customs recordal system"},{"$f":"IF(G8=1,\"\",tblIndicators!M5)","v":1},{"$f":"IF(OR($G8=1,Data!J8=\"\"),\"\",$I8*Data!J8)","v":1},{"$f":"IF(OR($G8=1,Data!K8=\"\"),\"\",$I8*Data!K8)","v":0},{"$f":"IF(OR($G8=1,Data!L8=\"\"),\"\",$I8*Data!L8)","v":1},{"$f":"IF(OR($G8=1,Data!M8=\"\"),\"\",$I8*Data!M8)","v":1},{"$f":"IF(OR($G8=1,Data!N8=\"\"),\"\",$I8*Data!N8)","v":0},{"$f":"IF(OR($G8=1,Data!O8=\"\"),\"\",$I8*Data!O8)","v":0},{"$f":"IF(OR($G8=1,Data!P8=\"\"),\"\",$I8*Data!P8)","v":1},{"$f":"IF(OR($G8=1,Data!Q8=\"\"),\"\",$I8*Data!Q8)","v":0},{"$f":"IF(OR($G8=1,Data!R8=\"\"),\"\",$I8*Data!R8)","v":0},{"$f":"IF(OR($G8=1,Data!S8=\"\"),\"\",$I8*Data!S8)","v":0},{"$f":"IF(OR($G8=1,Data!T8=\"\"),\"\",$I8*Data!T8)","v":1},{"$f":"IF(OR($G8=1,Data!U8=\"\"),\"\",$I8*Data!U8)","v":1},{"$f":"IF(OR($G8=1,Data!V8=\"\"),\"\",$I8*Data!V8)","v":0},{"$f":"IF(OR($G8=1,Data!W8=\"\"),\"\",$I8*Data!W8)","v":1},{"$f":"IF(OR($G8=1,Data!X8=\"\"),\"\",$I8*Data!X8)","v":1},{"$f":"IF(OR($G8=1,Data!Y8=\"\"),\"\",$I8*Data!Y8)","v":0},{"$f":"IF(OR($G8=1,Data!Z8=\"\"),\"\",$I8*Data!Z8)","v":1}]
[null,{"$f":"tblIndicators!A6","v":5},{"$f":"tblIndicators!B6","v":0},{"$f":"tblIndicators!D6","v":"TT"},{"$f":"tblIndicators!E6","v":"TOTAL"},{"$f":"tblIndicators!H6","v":"Transparency and trade"},{"$f":"tblIndicators!W6","v":1},{"$f":"tblIndicators!AB6","v":"2) TRANSPARENCY AND TRADE"},{"$f":"IF(G9=1,\"\",tblIndicators!M6)","v":""},{"$f":"IF(OR($G9=1,Data!J9=\"\"),\"\",$I9*Data!J9)","v":""},{"$f":"IF(OR($G9=1,Data!K9=\"\"),\"\",$I9*Data!K9)","v":""},{"$f":"IF(OR($G9=1,Data!L9=\"\"),\"\",$I9*Data!L9)","v":""},{"$f":"IF(OR($G9=1,Data!M9=\"\"),\"\",$I9*Data!M9)","v":""},{"$f":"IF(OR($G9=1,Data!N9=\"\"),\"\",$I9*Data!N9)","v":""},{"$f":"IF(OR($G9=1,Data!O9=\"\"),\"\",$I9*Data!O9)","v":""},{"$f":"IF(OR($G9=1,Data!P9=\"\"),\"\",$I9*Data!P9)","v":""},{"$f":"IF(OR($G9=1,Data!Q9=\"\"),\"\",$I9*Data!Q9)","v":""},{"$f":"IF(OR($G9=1,Data!R9=\"\"),\"\",$I9*Data!R9)","v":""},{"$f":"IF(OR($G9=1,Data!S9=\"\"),\"\",$I9*Data!S9)","v":""},{"$f":"IF(OR($G9=1,Data!T9=\"\"),\"\",$I9*Data!T9)","v":""},{"$f":"IF(OR($G9=1,Data!U9=\"\"),\"\",$I9*Data!U9)","v":""},{"$f":"IF(OR($G9=1,Data!V9=\"\"),\"\",$I9*Data!V9)","v":""},{"$f":"IF(OR($G9=1,Data!W9=\"\"),\"\",$I9*Data!W9)","v":""},{"$f":"IF(OR($G9=1,Data!X9=\"\"),\"\",$I9*Data!X9)","v":""},{"$f":"IF(OR($G9=1,Data!Y9=\"\"),\"\",$I9*Data!Y9)","v":""},{"$f":"IF(OR($G9=1,Data!Z9=\"\"),\"\",$I9*Data!Z9)","v":""}]
[null,{"$f":"tblIndicators!A7","v":6},{"$f":"tblIndicators!B7","v":0},{"$f":"tblIndicators!D7","v":"TT_21"},{"$f":"tblIndicators!E7","v":"TT"},{"$f":"tblIndicators!H7","v":"  Track and trace services"},{"$f":"tblIndicators!W7","v":3},{"$f":"tblIndicators!AB7","v":"2.1)   Track and trace services"},{"$f":"IF(G10=1,\"\",tblIndicators!M7)","v":1},{"$f":"IF(OR($G10=1,Data!J10=\"\"),\"\",$I10*Data!J10)","v":3.8},{"$f":"IF(OR($G10=1,Data!K10=\"\"),\"\",$I10*Data!K10)","v":""},{"$f":"IF(OR($G10=1,Data!L10=\"\"),\"\",$I10*Data!L10)","v":3.5},{"$f":"IF(OR($G10=1,Data!M10=\"\"),\"\",$I10*Data!M10)","v":3.9},{"$f":"IF(OR($G10=1,Data!N10=\"\"),\"\",$I10*Data!N10)","v":3.1},{"$f":"IF(OR($G10=1,Data!O10=\"\"),\"\",$I10*Data!O10)","v":3.1},{"$f":"IF(OR($G10=1,Data!P10=\"\"),\"\",$I10*Data!P10)","v":4},{"$f":"IF(OR($G10=1,Data!Q10=\"\"),\"\",$I10*Data!Q10)","v":2.2000000000000002},{"$f":"IF(OR($G10=1,Data!R10=\"\"),\"\",$I10*Data!R10)","v":3.6},{"$f":"IF(OR($G10=1,Data!S10=\"\"),\"\",$I10*Data!S10)","v":2.36},{"$f":"IF(OR($G10=1,Data!T10=\"\"),\"\",$I10*Data!T10)","v":3.3},{"$f":"IF(OR($G10=1,Data!U10=\"\"),\"\",$I10*Data!U10)","v":3},{"$f":"IF(OR($G10=1,Data!V10=\"\"),\"\",$I10*Data!V10)","v":3.9},{"$f":"IF(OR($G10=1,Data!W10=\"\"),\"\",$I10*Data!W10)","v":3.7},{"$f":"IF(OR($G10=1,Data!X10=\"\"),\"\",$I10*Data!X10)","v":3.8},{"$f":"IF(OR($G10=1,Data!Y10=\"\"),\"\",$I10*Data!Y10)","v":3.5},{"$f":"IF(OR($G10=1,Data!Z10=\"\"),\"\",$I10*Data!Z10)","v":3.2}]
[null,{"$f":"tblIndicators!A8","v":7},{"$f":"tblIndicators!B8","v":0},{"$f":"tblIndicators!D8","v":"TT_22"},{"$f":"tblIndicators!E8","v":"TT"},{"$f":"tblIndicators!H8","v":"  Adoption of Annex D of Revised Kyoto Convention  "},{"$f":"tblIndicators!W8","v":3},{"$f":"tblIndicators!AB8","v":"2.2)   Adoption of Annex D of Revised Kyoto Convention  "},{"$f":"IF(G11=1,\"\",tblIndicators!M8)","v":1},{"$f":"IF(OR($G11=1,Data!J11=\"\"),\"\",$I11*Data!J11)","v":1},{"$f":"IF(OR($G11=1,Data!K11=\"\"),\"\",$I11*Data!K11)","v":1},{"$f":"IF(OR($G11=1,Data!L11=\"\"),\"\",$I11*Data!L11)","v":1},{"$f":"IF(OR($G11=1,Data!M11=\"\"),\"\",$I11*Data!M11)","v":0},{"$f":"IF(OR($G11=1,Data!N11=\"\"),\"\",$I11*Data!N11)","v":1},{"$f":"IF(OR($G11=1,Data!O11=\"\"),\"\",$I11*Data!O11)","v":1},{"$f":"IF(OR($G11=1,Data!P11=\"\"),\"\",$I11*Data!P11)","v":1},{"$f":"IF(OR($G11=1,Data!Q11=\"\"),\"\",$I11*Data!Q11)","v":0},{"$f":"IF(OR($G11=1,Data!R11=\"\"),\"\",$I11*Data!R11)","v":1},{"$f":"IF(OR($G11=1,Data!S11=\"\"),\"\",$I11*Data!S11)","v":0},{"$f":"IF(OR($G11=1,Data!T11=\"\"),\"\",$I11*Data!T11)","v":1},{"$f":"IF(OR($G11=1,Data!U11=\"\"),\"\",$I11*Data!U11)","v":1},{"$f":"IF(OR($G11=1,Data!V11=\"\"),\"\",$I11*Data!V11)","v":0},{"$f":"IF(OR($G11=1,Data!W11=\"\"),\"\",$I11*Data!W11)","v":1},{"$f":"IF(OR($G11=1,Data!X11=\"\"),\"\",$I11*Data!X11)","v":0},{"$f":"IF(OR($G11=1,Data!Y11=\"\"),\"\",$I11*Data!Y11)","v":1},{"$f":"IF(OR($G11=1,Data!Z11=\"\"),\"\",$I11*Data!Z11)","v":1}]
[null,{"$f":"tblIndicators!A9","v":8},{"$f":"tblIndicators!B9","v":0},{"$f":"tblIndicators!D9","v":"TT_23"},{"$f":"tblIndicators!E9","v":"TT"},{"$f":"tblIndicators!H9","v":"  Government cooperation"},{"$f":"tblIndicators!W9","v":3},{"$f":"tblIndicators!AB9","v":"2.3)   Government cooperation"},{"$f":"IF(G12=1,\"\",tblIndicators!M9)","v":1},{"$f":"IF(OR($G12=1,Data!J12=\"\"),\"\",$I12*Data!J12)","v":2},{"$f":"IF(OR($G12=1,Data!K12=\"\"),\"\",$I12*Data!K12)","v":1},{"$f":"IF(OR($G12=1,Data!L12=\"\"),\"\",$I12*Data!L12)","v":2},{"$f":"IF(OR($G12=1,Data!M12=\"\"),\"\",$I12*Data!M12)","v":2},{"$f":"IF(OR($G12=1,Data!N12=\"\"),\"\",$I12*Data!N12)","v":2},{"$f":"IF(OR($G12=1,Data!O12=\"\"),\"\",$I12*Data!O12)","v":2},{"$f":"IF(OR($G12=1,Data!P12=\"\"),\"\",$I12*Data!P12)","v":2},{"$f":"IF(OR($G12=1,Data!Q12=\"\"),\"\",$I12*Data!Q12)","v":1},{"$f":"IF(OR($G12=1,Data!R12=\"\"),\"\",$I12*Data!R12)","v":2},{"$f":"IF(OR($G12=1,Data!S12=\"\"),\"\",$I12*Data!S12)","v":1},{"$f":"IF(OR($G12=1,Data!T12=\"\"),\"\",$I12*Data!T12)","v":1},{"$f":"IF(OR($G12=1,Data!U12=\"\"),\"\",$I12*Data!U12)","v":2},{"$f":"IF(OR($G12=1,Data!V12=\"\"),\"\",$I12*Data!V12)","v":1},{"$f":"IF(OR($G12=1,Data!W12=\"\"),\"\",$I12*Data!W12)","v":2},{"$f":"IF(OR($G12=1,Data!X12=\"\"),\"\",$I12*Data!X12)","v":1},{"$f":"IF(OR($G12=1,Data!Y12=\"\"),\"\",$I12*Data!Y12)","v":1},{"$f":"IF(OR($G12=1,Data!Z12=\"\"),\"\",$I12*Data!Z12)","v":1}]
[null,{"$f":"tblIndicators!A10","v":9},{"$f":"tblIndicators!B10","v":0},{"$f":"tblIndicators!D10","v":"TT_24"},{"$f":"tblIndicators!E10","v":"TT"},{"$f":"tblIndicators!H10","v":"  FTZ governance "},{"$f":"tblIndicators!W10","v":3},{"$f":"tblIndicators!AB10","v":"2.4)   FTZ governance "},{"$f":"IF(G13=1,\"\",tblIndicators!M10)","v":1},{"$f":"IF(OR($G13=1,Data!J13=\"\"),\"\",$I13*Data!J13)","v":2},{"$f":"IF(OR($G13=1,Data!K13=\"\"),\"\",$I13*Data!K13)","v":0},{"$f":"IF(OR($G13=1,Data!L13=\"\"),\"\",$I13*Data!L13)","v":2},{"$f":"IF(OR($G13=1,Data!M13=\"\"),\"\",$I13*Data!M13)","v":4},{"$f":"IF(OR($G13=1,Data!N13=\"\"),\"\",$I13*Data!N13)","v":1},{"$f":"IF(OR($G13=1,Data!O13=\"\"),\"\",$I13*Data!O13)","v":2},{"$f":"IF(OR($G13=1,Data!P13=\"\"),\"\",$I13*Data!P13)","v":3},{"$f":"IF(OR($G13=1,Data!Q13=\"\"),\"\",$I13*Data!Q13)","v":0},{"$f":"IF(OR($G13=1,Data!R13=\"\"),\"\",$I13*Data!R13)","v":4},{"$f":"IF(OR($G13=1,Data!S13=\"\"),\"\",$I13*Data!S13)","v":0},{"$f":"IF(OR($G13=1,Data!T13=\"\"),\"\",$I13*Data!T13)","v":1},{"$f":"IF(OR($G13=1,Data!U13=\"\"),\"\",$I13*Data!U13)","v":2},{"$f":"IF(OR($G13=1,Data!V13=\"\"),\"\",$I13*Data!V13)","v":1},{"$f":"IF(OR($G13=1,Data!W13=\"\"),\"\",$I13*Data!W13)","v":4},{"$f":"IF(OR($G13=1,Data!X13=\"\"),\"\",$I13*Data!X13)","v":4},{"$f":"IF(OR($G13=1,Data!Y13=\"\"),\"\",$I13*Data!Y13)","v":4},{"$f":"IF(OR($G13=1,Data!Z13=\"\"),\"\",$I13*Data!Z13)","v":3}]
[null,{"$f":"tblIndicators!A11","v":10},{"$f":"tblIndicators!B11","v":0},{"$f":"tblIndicators!D11","v":"CE"},{"$f":"tblIndicators!E11","v":"TOTAL"},{"$f":"tblIndicators!H11","v":"Customs environment"},{"$f":"tblIndicators!W11","v":1},{"$f":"tblIndicators!AB11","v":"3) CUSTOMS ENVIRONMENT"},{"$f":"IF(G14=1,\"\",tblIndicators!M11)","v":""},{"$f":"IF(OR($G14=1,Data!J14=\"\"),\"\",$I14*Data!J14)","v":""},{"$f":"IF(OR($G14=1,Data!K14=\"\"),\"\",$I14*Data!K14)","v":""},{"$f":"IF(OR($G14=1,Data!L14=\"\"),\"\",$I14*Data!L14)","v":""},{"$f":"IF(OR($G14=1,Data!M14=\"\"),\"\",$I14*Data!M14)","v":""},{"$f":"IF(OR($G14=1,Data!N14=\"\"),\"\",$I14*Data!N14)","v":""},{"$f":"IF(OR($G14=1,Data!O14=\"\"),\"\",$I14*Data!O14)","v":""},{"$f":"IF(OR($G14=1,Data!P14=\"\"),\"\",$I14*Data!P14)","v":""},{"$f":"IF(OR($G14=1,Data!Q14=\"\"),\"\",$I14*Data!Q14)","v":""},{"$f":"IF(OR($G14=1,Data!R14=\"\"),\"\",$I14*Data!R14)","v":""},{"$f":"IF(OR($G14=1,Data!S14=\"\"),\"\",$I14*Data!S14)","v":""},{"$f":"IF(OR($G14=1,Data!T14=\"\"),\"\",$I14*Data!T14)","v":""},{"$f":"IF(OR($G14=1,Data!U14=\"\"),\"\",$I14*Data!U14)","v":""},{"$f":"IF(OR($G14=1,Data!V14=\"\"),\"\",$I14*Data!V14)","v":""},{"$f":"IF(OR($G14=1,Data!W14=\"\"),\"\",$I14*Data!W14)","v":""},{"$f":"IF(OR($G14=1,Data!X14=\"\"),\"\",$I14*Data!X14)","v":""},{"$f":"IF(OR($G14=1,Data!Y14=\"\"),\"\",$I14*Data!Y14)","v":""},{"$f":"IF(OR($G14=1,Data!Z14=\"\"),\"\",$I14*Data!Z14)","v":""}]
[null,{"$f":"tblIndicators!A12","v":11},{"$f":"tblIndicators!B12","v":0},{"$f":"tblIndicators!D12","v":"CE_31"},{"$f":"tblIndicators!E12","v":"CE"},{"$f":"tblIndicators!H12","v":"Percentage of shipments physically inspected"},{"$f":"tblIndicators!W12","v":2},{"$f":"tblIndicators!AB12","v":"3.1) Percentage of shipments physically inspected"},{"$f":"IF(G15=1,\"\",tblIndicators!M12)","v":1},{"$f":"IF(OR($G15=1,Data!J15=\"\"),\"\",$I15*Data!J15)","v":2},{"$f":"IF(OR($G15=1,Data!K15=\"\"),\"\",$I15*Data!K15)","v":0},{"$f":"IF(OR($G15=1,Data!L15=\"\"),\"\",$I15*Data!L15)","v":7},{"$f":"IF(OR($G15=1,Data!M15=\"\"),\"\",$I15*Data!M15)","v":1},{"$f":"IF(OR($G15=1,Data!N15=\"\"),\"\",$I15*Data!N15)","v":22},{"$f":"IF(OR($G15=1,Data!O15=\"\"),\"\",$I15*Data!O15)","v":8},{"$f":"IF(OR($G15=1,Data!P15=\"\"),\"\",$I15*Data!P15)","v":3},{"$f":"IF(OR($G15=1,Data!Q15=\"\"),\"\",$I15*Data!Q15)","v":0},{"$f":"IF(OR($G15=1,Data!R15=\"\"),\"\",$I15*Data!R15)","v":2},{"$f":"IF(OR($G15=1,Data!S15=\"\"),\"\",$I15*Data!S15)","v":0},{"$f":"IF(OR($G15=1,Data!T15=\"\"),\"\",$I15*Data!T15)","v":1},{"$f":"IF(OR($G15=1,Data!U15=\"\"),\"\",$I15*Data!U15)","v":10},{"$f":"IF(OR($G15=1,Data!V15=\"\"),\"\",$I15*Data!V15)","v":5},{"$f":"IF(OR($G15=1,Data!W15=\"\"),\"\",$I15*Data!W15)","v":18},{"$f":"IF(OR($G15=1,Data!X15=\"\"),\"\",$I15*Data!X15)","v":2},{"$f":"IF(OR($G15=1,Data!Y15=\"\"),\"\",$I15*Data!Y15)","v":3},{"$f":"IF(OR($G15=1,Data!Z15=\"\"),\"\",$I15*Data!Z15)","v":53}]
[null,{"$f":"tblIndicators!A13","v":12},{"$f":"tblIndicators!B13","v":0},{"$f":"tblIndicators!D13","v":"CE_32"},{"$f":"tblIndicators!E13","v":"CE"},{"$f":"tblIndicators!H13","v":"  Customs clearance and inspection"},{"$f":"tblIndicators!W13","v":2},{"$f":"tblIndicators!AB13","v":"3.2)   Customs clearance and inspection"},{"$f":"IF(G16=1,\"\",tblIndicators!M13)","v":1},{"$f":"IF(OR($G16=1,Data!J16=\"\"),\"\",$I16*Data!J16)","v":1},{"$f":"IF(OR($G16=1,Data!K16=\"\"),\"\",$I16*Data!K16)","v":3},{"$f":"IF(OR($G16=1,Data!L16=\"\"),\"\",$I16*Data!L16)","v":4},{"$f":"IF(OR($G16=1,Data!M16=\"\"),\"\",$I16*Data!M16)","v":1},{"$f":"IF(OR($G16=1,Data!N16=\"\"),\"\",$I16*Data!N16)","v":4},{"$f":"IF(OR($G16=1,Data!O16=\"\"),\"\",$I16*Data!O16)","v":4},{"$f":"IF(OR($G16=1,Data!P16=\"\"),\"\",$I16*Data!P16)","v":2},{"$f":"IF(OR($G16=1,Data!Q16=\"\"),\"\",$I16*Data!Q16)","v":7},{"$f":"IF(OR($G16=1,Data!R16=\"\"),\"\",$I16*Data!R16)","v":1},{"$f":"IF(OR($G16=1,Data!S16=\"\"),\"\",$I16*Data!S16)","v":4},{"$f":"IF(OR($G16=1,Data!T16=\"\"),\"\",$I16*Data!T16)","v":1},{"$f":"IF(OR($G16=1,Data!U16=\"\"),\"\",$I16*Data!U16)","v":2},{"$f":"IF(OR($G16=1,Data!V16=\"\"),\"\",$I16*Data!V16)","v":1},{"$f":"IF(OR($G16=1,Data!W16=\"\"),\"\",$I16*Data!W16)","v":1},{"$f":"IF(OR($G16=1,Data!X16=\"\"),\"\",$I16*Data!X16)","v":1},{"$f":"IF(OR($G16=1,Data!Y16=\"\"),\"\",$I16*Data!Y16)","v":2},{"$f":"IF(OR($G16=1,Data!Z16=\"\"),\"\",$I16*Data!Z16)","v":4}]
[null,{"$f":"tblIndicators!A14","v":13},{"$f":"tblIndicators!B14","v":0},{"$f":"tblIndicators!D14","v":"CE_33"},{"$f":"tblIndicators!E14","v":"CE"},{"$f":"tblIndicators!H14","v":"  Automation"},{"$f":"tblIndicators!W14","v":2},{"$f":"tblIndicators!AB14","v":"3.3)   Automation"},{"$f":"IF(G17=1,\"\",tblIndicators!M14)","v":1},{"$f":"IF(OR($G17=1,Data!J17=\"\"),\"\",$I17*Data!J17)","v":1.71},{"$f":"IF(OR($G17=1,Data!K17=\"\"),\"\",$I17*Data!K17)","v":0.75},{"$f":"IF(OR($G17=1,Data!L17=\"\"),\"\",$I17*Data!L17)","v":1.75},{"$f":"IF(OR($G17=1,Data!M17=\"\"),\"\",$I17*Data!M17)","v":1.8},{"$f":"IF(OR($G17=1,Data!N17=\"\"),\"\",$I17*Data!N17)","v":1.75},{"$f":"IF(OR($G17=1,Data!O17=\"\"),\"\",$I17*Data!O17)","v":1.5},{"$f":"IF(OR($G17=1,Data!P17=\"\"),\"\",$I17*Data!P17)","v":1.1399999999999999},{"$f":"IF(OR($G17=1,Data!Q17=\"\"),\"\",$I17*Data!Q17)","v":0.25},{"$f":"IF(OR($G17=1,Data!R17=\"\"),\"\",$I17*Data!R17)","v":1.25},{"$f":"IF(OR($G17=1,Data!S17=\"\"),\"\",$I17*Data!S17)","v":0.25},{"$f":"IF(OR($G17=1,Data!T17=\"\"),\"\",$I17*Data!T17)","v":1.71},{"$f":"IF(OR($G17=1,Data!U17=\"\"),\"\",$I17*Data!U17)","v":1},{"$f":"IF(OR($G17=1,Data!V17=\"\"),\"\",$I17*Data!V17)","v":1.8},{"$f":"IF(OR($G17=1,Data!W17=\"\"),\"\",$I17*Data!W17)","v":1.57},{"$f":"IF(OR($G17=1,Data!X17=\"\"),\"\",$I17*Data!X17)","v":1.75},{"$f":"IF(OR($G17=1,Data!Y17=\"\"),\"\",$I17*Data!Y17)","v":1.75},{"$f":"IF(OR($G17=1,Data!Z17=\"\"),\"\",$I17*Data!Z17)","v":1.25}]
[null,{"$f":"tblIndicators!A15","v":14},{"$f":"tblIndicators!B15","v":0},{"$f":"tblIndicators!D15","v":"CE_34"},{"$f":"tblIndicators!E15","v":"CE"},{"$f":"tblIndicators!H15","v":"  Corruption"},{"$f":"tblIndicators!W15","v":3},{"$f":"tblIndicators!AB15","v":"3.4)   Corruption"},{"$f":"IF(G18=1,\"\",tblIndicators!M15)","v":1},{"$f":"IF(OR($G18=1,Data!J18=\"\"),\"\",$I18*Data!J18)","v":0},{"$f":"IF(OR($G18=1,Data!K18=\"\"),\"\",$I18*Data!K18)","v":4},{"$f":"IF(OR($G18=1,Data!L18=\"\"),\"\",$I18*Data!L18)","v":3},{"$f":"IF(OR($G18=1,Data!M18=\"\"),\"\",$I18*Data!M18)","v":1},{"$f":"IF(OR($G18=1,Data!N18=\"\"),\"\",$I18*Data!N18)","v":3},{"$f":"IF(OR($G18=1,Data!O18=\"\"),\"\",$I18*Data!O18)","v":4},{"$f":"IF(OR($G18=1,Data!P18=\"\"),\"\",$I18*Data!P18)","v":1},{"$f":"IF(OR($G18=1,Data!Q18=\"\"),\"\",$I18*Data!Q18)","v":4},{"$f":"IF(OR($G18=1,Data!R18=\"\"),\"\",$I18*Data!R18)","v":2},{"$f":"IF(OR($G18=1,Data!S18=\"\"),\"\",$I18*Data!S18)","v":4},{"$f":"IF(OR($G18=1,Data!T18=\"\"),\"\",$I18*Data!T18)","v":0},{"$f":"IF(OR($G18=1,Data!U18=\"\"),\"\",$I18*Data!U18)","v":4},{"$f":"IF(OR($G18=1,Data!V18=\"\"),\"\",$I18*Data!V18)","v":0},{"$f":"IF(OR($G18=1,Data!W18=\"\"),\"\",$I18*Data!W18)","v":2},{"$f":"IF(OR($G18=1,Data!X18=\"\"),\"\",$I18*Data!X18)","v":1},{"$f":"IF(OR($G18=1,Data!Y18=\"\"),\"\",$I18*Data!Y18)","v":3},{"$f":"IF(OR($G18=1,Data!Z18=\"\"),\"\",$I18*Data!Z18)","v":3}]
[null,{"$f":"tblIndicators!A16","v":15},{"$f":"tblIndicators!B16","v":0},{"$f":"tblIndicators!D16","v":"CE_35"},{"$f":"tblIndicators!E16","v":"CE"},{"$f":"tblIndicators!H16","v":"Accredited Economic Operator programme"},{"$f":"tblIndicators!W16","v":3},{"$f":"tblIndicators!AB16","v":"3.5) Accredited Economic Operator programme"},{"$f":"IF(G19=1,\"\",tblIndicators!M16)","v":1},{"$f":"IF(OR($G19=1,Data!J19=\"\"),\"\",$I19*Data!J19)","v":3},{"$f":"IF(OR($G19=1,Data!K19=\"\"),\"\",$I19*Data!K19)","v":1},{"$f":"IF(OR($G19=1,Data!L19=\"\"),\"\",$I19*Data!L19)","v":3},{"$f":"IF(OR($G19=1,Data!M19=\"\"),\"\",$I19*Data!M19)","v":3},{"$f":"IF(OR($G19=1,Data!N19=\"\"),\"\",$I19*Data!N19)","v":3},{"$f":"IF(OR($G19=1,Data!O19=\"\"),\"\",$I19*Data!O19)","v":2},{"$f":"IF(OR($G19=1,Data!P19=\"\"),\"\",$I19*Data!P19)","v":3},{"$f":"IF(OR($G19=1,Data!Q19=\"\"),\"\",$I19*Data!Q19)","v":1},{"$f":"IF(OR($G19=1,Data!R19=\"\"),\"\",$I19*Data!R19)","v":3},{"$f":"IF(OR($G19=1,Data!S19=\"\"),\"\",$I19*Data!S19)","v":1},{"$f":"IF(OR($G19=1,Data!T19=\"\"),\"\",$I19*Data!T19)","v":3},{"$f":"IF(OR($G19=1,Data!U19=\"\"),\"\",$I19*Data!U19)","v":1},{"$f":"IF(OR($G19=1,Data!V19=\"\"),\"\",$I19*Data!V19)","v":3},{"$f":"IF(OR($G19=1,Data!W19=\"\"),\"\",$I19*Data!W19)","v":3},{"$f":"IF(OR($G19=1,Data!X19=\"\"),\"\",$I19*Data!X19)","v":3},{"$f":"IF(OR($G19=1,Data!Y19=\"\"),\"\",$I19*Data!Y19)","v":3},{"$f":"IF(OR($G19=1,Data!Z19=\"\"),\"\",$I19*Data!Z19)","v":2}]
[null,{"$f":"tblIndicators!A17","v":16},{"$f":"tblIndicators!B17","v":0},{"$f":"tblIndicators!D17","v":"SD"},{"$f":"tblIndicators!E17","v":"TOTAL"},{"$f":"tblIndicators!H17","v":"Supply and demand"},{"$f":"tblIndicators!W17","v":1},{"$f":"tblIndicators!AB17","v":"4) SUPPLY AND DEMAND"},{"$f":"IF(G20=1,\"\",tblIndicators!M17)","v":""},{"$f":"IF(OR($G20=1,Data!J20=\"\"),\"\",$I20*Data!J20)","v":""},{"$f":"IF(OR($G20=1,Data!K20=\"\"),\"\",$I20*Data!K20)","v":""},{"$f":"IF(OR($G20=1,Data!L20=\"\"),\"\",$I20*Data!L20)","v":""},{"$f":"IF(OR($G20=1,Data!M20=\"\"),\"\",$I20*Data!M20)","v":""},{"$f":"IF(OR($G20=1,Data!N20=\"\"),\"\",$I20*Data!N20)","v":""},{"$f":"IF(OR($G20=1,Data!O20=\"\"),\"\",$I20*Data!O20)","v":""},{"$f":"IF(OR($G20=1,Data!P20=\"\"),\"\",$I20*Data!P20)","v":""},{"$f":"IF(OR($G20=1,Data!Q20=\"\"),\"\",$I20*Data!Q20)","v":""},{"$f":"IF(OR($G20=1,Data!R20=\"\"),\"\",$I20*Data!R20)","v":""},{"$f":"IF(OR($G20=1,Data!S20=\"\"),\"\",$I20*Data!S20)","v":""},{"$f":"IF(OR($G20=1,Data!T20=\"\"),\"\",$I20*Data!T20)","v":""},{"$f":"IF(OR($G20=1,Data!U20=\"\"),\"\",$I20*Data!U20)","v":""},{"$f":"IF(OR($G20=1,Data!V20=\"\"),\"\",$I20*Data!V20)","v":""},{"$f":"IF(OR($G20=1,Data!W20=\"\"),\"\",$I20*Data!W20)","v":""},{"$f":"IF(OR($G20=1,Data!X20=\"\"),\"\",$I20*Data!X20)","v":""},{"$f":"IF(OR($G20=1,Data!Y20=\"\"),\"\",$I20*Data!Y20)","v":""},{"$f":"IF(OR($G20=1,Data!Z20=\"\"),\"\",$I20*Data!Z20)","v":""}]
[null,{"$f":"tblIndicators!A18","v":17},{"$f":"tblIndicators!B18","v":0},{"$f":"tblIndicators!D18","v":"SD_41"},{"$f":"tblIndicators!E18","v":"SD"},{"$f":"tblIndicators!H18","v":"  Tax and social security burdens"},{"$f":"tblIndicators!W18","v":3},{"$f":"tblIndicators!AB18","v":"4.1)   Tax and social security burdens"},{"$f":"IF(G21=1,\"\",tblIndicators!M18)","v":1},{"$f":"IF(OR($G21=1,Data!J21=\"\"),\"\",$I21*Data!J21)","v":4},{"$f":"IF(OR($G21=1,Data!K21=\"\"),\"\",$I21*Data!K21)","v":3},{"$f":"IF(OR($G21=1,Data!L21=\"\"),\"\",$I21*Data!L21)","v":3},{"$f":"IF(OR($G21=1,Data!M21=\"\"),\"\",$I21*Data!M21)","v":5},{"$f":"IF(OR($G21=1,Data!N21=\"\"),\"\",$I21*Data!N21)","v":3},{"$f":"IF(OR($G21=1,Data!O21=\"\"),\"\",$I21*Data!O21)","v":3},{"$f":"IF(OR($G21=1,Data!P21=\"\"),\"\",$I21*Data!P21)","v":4},{"$f":"IF(OR($G21=1,Data!Q21=\"\"),\"\",$I21*Data!Q21)","v":3},{"$f":"IF(OR($G21=1,Data!R21=\"\"),\"\",$I21*Data!R21)","v":4},{"$f":"IF(OR($G21=1,Data!S21=\"\"),\"\",$I21*Data!S21)","v":2},{"$f":"IF(OR($G21=1,Data!T21=\"\"),\"\",$I21*Data!T21)","v":5},{"$f":"IF(OR($G21=1,Data!U21=\"\"),\"\",$I21*Data!U21)","v":3},{"$f":"IF(OR($G21=1,Data!V21=\"\"),\"\",$I21*Data!V21)","v":4},{"$f":"IF(OR($G21=1,Data!W21=\"\"),\"\",$I21*Data!W21)","v":3},{"$f":"IF(OR($G21=1,Data!X21=\"\"),\"\",$I21*Data!X21)","v":4},{"$f":"IF(OR($G21=1,Data!Y21=\"\"),\"\",$I21*Data!Y21)","v":3},{"$f":"IF(OR($G21=1,Data!Z21=\"\"),\"\",$I21*Data!Z21)","v":3}]
[null,{"$f":"tblIndicators!A19","v":18},{"$f":"tblIndicators!B19","v":0},{"$f":"tblIndicators!D19","v":"SD_42"},{"$f":"tblIndicators!E19","v":"SD"},{"$f":"tblIndicators!H19","v":"  Quality of state institutions"},{"$f":"tblIndicators!W19","v":3},{"$f":"tblIndicators!AB19","v":"4.2)   Quality of state institutions"},{"$f":"IF(G22=1,\"\",tblIndicators!M19)","v":1},{"$f":"IF(OR($G22=1,Data!J22=\"\"),\"\",$I22*Data!J22)","v":9},{"$f":"IF(OR($G22=1,Data!K22=\"\"),\"\",$I22*Data!K22)","v":2},{"$f":"IF(OR($G22=1,Data!L22=\"\"),\"\",$I22*Data!L22)","v":4},{"$f":"IF(OR($G22=1,Data!M22=\"\"),\"\",$I22*Data!M22)","v":8},{"$f":"IF(OR($G22=1,Data!N22=\"\"),\"\",$I22*Data!N22)","v":5},{"$f":"IF(OR($G22=1,Data!O22=\"\"),\"\",$I22*Data!O22)","v":4},{"$f":"IF(OR($G22=1,Data!P22=\"\"),\"\",$I22*Data!P22)","v":7},{"$f":"IF(OR($G22=1,Data!Q22=\"\"),\"\",$I22*Data!Q22)","v":3},{"$f":"IF(OR($G22=1,Data!R22=\"\"),\"\",$I22*Data!R22)","v":7},{"$f":"IF(OR($G22=1,Data!S22=\"\"),\"\",$I22*Data!S22)","v":2},{"$f":"IF(OR($G22=1,Data!T22=\"\"),\"\",$I22*Data!T22)","v":10},{"$f":"IF(OR($G22=1,Data!U22=\"\"),\"\",$I22*Data!U22)","v":4},{"$f":"IF(OR($G22=1,Data!V22=\"\"),\"\",$I22*Data!V22)","v":10},{"$f":"IF(OR($G22=1,Data!W22=\"\"),\"\",$I22*Data!W22)","v":7},{"$f":"IF(OR($G22=1,Data!X22=\"\"),\"\",$I22*Data!X22)","v":7},{"$f":"IF(OR($G22=1,Data!Y22=\"\"),\"\",$I22*Data!Y22)","v":5},{"$f":"IF(OR($G22=1,Data!Z22=\"\"),\"\",$I22*Data!Z22)","v":4}]
[null,{"$f":"tblIndicators!A20","v":19},{"$f":"tblIndicators!B20","v":0},{"$f":"tblIndicators!D20","v":"SD_43"},{"$f":"tblIndicators!E20","v":"SD"},{"$f":"tblIndicators!H20","v":"  Labour market regulations"},{"$f":"tblIndicators!W20","v":3},{"$f":"tblIndicators!AB20","v":"4.3)   Labour market regulations"},{"$f":"IF(G23=1,\"\",tblIndicators!M20)","v":1},{"$f":"IF(OR($G23=1,Data!J23=\"\"),\"\",$I23*Data!J23)","v":3},{"$f":"IF(OR($G23=1,Data!K23=\"\"),\"\",$I23*Data!K23)","v":2},{"$f":"IF(OR($G23=1,Data!L23=\"\"),\"\",$I23*Data!L23)","v":3},{"$f":"IF(OR($G23=1,Data!M23=\"\"),\"\",$I23*Data!M23)","v":5},{"$f":"IF(OR($G23=1,Data!N23=\"\"),\"\",$I23*Data!N23)","v":2},{"$f":"IF(OR($G23=1,Data!O23=\"\"),\"\",$I23*Data!O23)","v":3},{"$f":"IF(OR($G23=1,Data!P23=\"\"),\"\",$I23*Data!P23)","v":3},{"$f":"IF(OR($G23=1,Data!Q23=\"\"),\"\",$I23*Data!Q23)","v":3},{"$f":"IF(OR($G23=1,Data!R23=\"\"),\"\",$I23*Data!R23)","v":3},{"$f":"IF(OR($G23=1,Data!S23=\"\"),\"\",$I23*Data!S23)","v":2},{"$f":"IF(OR($G23=1,Data!T23=\"\"),\"\",$I23*Data!T23)","v":4},{"$f":"IF(OR($G23=1,Data!U23=\"\"),\"\",$I23*Data!U23)","v":4},{"$f":"IF(OR($G23=1,Data!V23=\"\"),\"\",$I23*Data!V23)","v":4},{"$f":"IF(OR($G23=1,Data!W23=\"\"),\"\",$I23*Data!W23)","v":3},{"$f":"IF(OR($G23=1,Data!X23=\"\"),\"\",$I23*Data!X23)","v":4},{"$f":"IF(OR($G23=1,Data!Y23=\"\"),\"\",$I23*Data!Y23)","v":4},{"$f":"IF(OR($G23=1,Data!Z23=\"\"),\"\",$I23*Data!Z23)","v":3}]

{"sheet":"iSummary","index":13,"n_rows":28,"n_cols":71,"rows_kept":28,"cut":false,"hidden":true,"merged":[]}
["All tiers",{"$f":"uxb_works!B8","v":1},{"$f":"\"Average: \"&INDEX(luRegions,B2)","v":"Average: <none>"}]
[null,{"$f":"uxb_works!B10","v":1}]
["Rounding",1]
[]
[null,null,null,null,null,null,null,1,null,null,null,null,null,null,null,null,null,null,2,null,null,null,null,null,null,null,null,null,null,3,null,null,null,null,null,null,null,null,null,null,4,null,null,null,null,null,null,null,null,null,null,5,null,null,null,null,null,null,null,null,null,null,6]
[null,null,null,null,null,null,null,{"$f":"INDEX(tblIndiSets!$B$5:$B$10,H5)","v":1},null,null,null,null,null,{"$f":"INDEX(tblIndiSets!$C$5:$C$10,H5)","v":"OVERALL SCORE"},null,null,null,null,{"$f":"INDEX(tblIndiSets!$B$5:$B$10,S5)","v":2},null,null,null,null,null,{"$f":"INDEX(tblIndiSets!$C$5:$C$10,S5)","v":"1) INTELLECTUAL PROPERTY"},null,null,null,null,{"$f":"INDEX(tblIndiSets!$B$5:$B$10,AD5)","v":5},null,null,null,null,null,{"$f":"INDEX(tblIndiSets!$C$5:$C$10,AD5)","v":"2) TRANSPARENCY AND TRADE"},null,null,null,null,{"$f":"INDEX(tblIndiSets!$B$5:$B$10,AO5)","v":10},null,null,null,null,null,{"$f":"INDEX(tblIndiSets!$C$5:$C$10,AO5)","v":"3) CUSTOMS ENVIRONMENT"},null,null,null,null,{"$f":"INDEX(tblIndiSets!$B$5:$B$10,AZ5)","v":16},null,null,null,null,null,{"$f":"INDEX(tblIndiSets!$C$5:$C$10,AZ5)","v":"4) SUPPLY AND DEMAND"},null,null,null,null,{"$f":"INDEX(tblIndiSets!$B$5:$B$10,BK5)","v":0},null,null,null,null,null,{"$f":"INDEX(tblIndiSets!$C$5:$C$10,BK5)","v":0}]
[null,"IN/OUT Group",null,"IsRegion","ActiveStatus","All Tiers",null,"Score","Rank","LU","RankRounded",null,null,null,null,"Score",null,null,"Score","Rank","LU","RankRounded",null,null,null,null,"Score",null,null,"Score","Rank","LU","RankRounded",null,null,null,null,"Score",null,null,"Score","Rank","LU","RankRounded",null,null,null,null,"Score",null,null,"Score","Rank","LU","RankRounded",null,null,null,null,"Score",null,null,"Score","Rank","LU","RankRounded",null,null,null,null,"Score"]
[{"$f":"tblTerritories!A3","v":1},{"$f":"INDEX(tblTerritories!$R$3:$V$19,$A8,$B$1)","v":1},{"$f":"tblTerritories!E3","v":"Australia"},{"$f":"tblTerritories!D3","v":0},{"$f":"tblTerritories!G3","v":1},{"$f":"VLOOKUP(C8,tblTerritories!$F$3:$L$20,7,FALSE)+10","v":11},null,{"$f":"IF($E8=0,\"\",ROUND(INDEX(aScores,H$6,$A8),$B$3))","v":85.2},{"$f":"IF($E8=0,\"\",RANK(H8,H$8:H$24,0)+COUNTIF(H$8:H8,H8)-1)","v":1},{"$f":"IF(ISERROR(MATCH($A8,I$8:I$24,0)),\"\",MATCH($A8,I$8:I$24,0))","v":1},{"$f":"IF(J8=\"\",\"\",RANK(P8,P$8:P$24))","v":1},{"$f":"IF(J8=\"\",\"\",COUNTIF(P$8:P$24,P8))","v":1},{"$f":"IF(J8=\"\",0,INDEX($E$8:$E$24,J8))","v":1},{"$f":"IF(J8=\"\",\"\",IF(L8>1,CONCATENATE(\"=\",K8),K8))","v":1},{"$f":"IF(J8=\"\",\"\",INDEX($C$8:$C$24,J8))","v":"Australia"},{"$f":"IF(J8=\"\",\"\",INDEX(H$8:H$24,J8))","v":85.2},null,null,{"$f":"IF($E8=0,\"\",ROUND(INDEX(aScores,S$6,$A8),$B$3))","v":100},{"$f":"IF($E8=0,\"\",RANK(S8,S$8:S$24,0)+COUNTIF(S$8:S8,S8)-1)","v":1},{"$f":"IF(ISERROR(MATCH($A8,T$8:T$24,0)),\"\",MATCH($A8,T$8:T$24,0))","v":1},{"$f":"IF(U8=\"\",\"\",RANK(AA8,AA$8:AA$24))","v":1},{"$f":"IF(U8=\"\",\"\",COUNTIF(AA$8:AA$24,AA8))","v":2},{"$f":"IF(U8=\"\",0,INDEX($E$8:$E$24,U8))","v":1},{"$f":"IF(U8=\"\",\"\",IF(W8>1,CONCATENATE(\"=\",V8),V8))","v":"=1"},{"$f":"IF(U8=\"\",\"\",INDEX($C$8:$C$24,U8))","v":"Australia"},{"$f":"IF(U8=\"\",\"\",INDEX(S$8:S$24,U8))","v":100},null,null,{"$f":"IF($E8=0,\"\",ROUND(INDEX(aScores,AD$6,$A8),$B$3))","v":81.5},{"$f":"IF($E8=0,\"\",RANK(AD8,AD$8:AD$24,0)+COUNTIF(AD$8:AD8,AD8)-1)","v":4},{"$f":"IF(ISERROR(MATCH($A8,AE$8:AE$24,0)),\"\",MATCH($A8,AE$8:AE$24,0))","v":14},{"$f":"IF(AF8=\"\",\"\",RANK(AL8,AL$8:AL$24))","v":1},{"$f":"IF(AF8=\"\",\"\",COUNTIF(AL$8:AL$24,AL8))","v":1},{"$f":"IF(AF8=\"\",0,INDEX($E$8:$E$24,AF8))","v":1},{"$f":"IF(AF8=\"\",\"\",IF(AH8>1,CONCATENATE(\"=\",AG8),AG8))","v":1},{"$f":"IF(AF8=\"\",\"\",INDEX($C$8:$C$24,AF8))","v":"South Korea"},{"$f":"IF(AF8=\"\",\"\",INDEX(AD$8:AD$24,AF8))","v":93.5},null,null,{"$f":"IF($E8=0,\"\",ROUND(INDEX(aScores,AO$6,$A8),$B$3))","v":88},{"$f":"IF($E8=0,\"\",RANK(AO8,AO$8:AO$24,0)+COUNTIF(AO$8:AO8,AO8)-1)","v":2},{"$f":"IF(ISERROR(MATCH($A8,AP$8:AP$24,0)),\"\",MATCH($A8,AP$8:AP$24,0))","v":13},{"$f":"IF(AQ8=\"\",\"\",RANK(AW8,AW$8:AW$24))","v":1},{"$f":"IF(AQ8=\"\",\"\",COUNTIF(AW$8:AW$24,AW8))","v":1},{"$f":"IF(AQ8=\"\",0,INDEX($E$8:$E$24,AQ8))","v":1},{"$f":"IF(AQ8=\"\",\"\",IF(AS8>1,CONCATENATE(\"=\",AR8),AR8))","v":1},{"$f":"IF(AQ8=\"\",\"\",INDEX($C$8:$C$24,AQ8))","v":"Singapore"},{"$f":"IF(AQ8=\"\",\"\",INDEX(AO$8:AO$24,AQ8))","v":89.9},null,null,{"$f":"IF($E8=0,\"\",ROUND(INDEX(aScores,AZ$6,$A8),$B$3))","v":71.3},{"$f":"IF($E8=0,\"\",RANK(AZ8,AZ$8:AZ$24,0)+COUNTIF(AZ$8:AZ8,AZ8)-1)","v":5},{"$f":"IF(ISERROR(MATCH($A8,BA$8:BA$24,0)),\"\",MATCH($A8,BA$8:BA$24,0))","v":4},{"$f":"IF(BB8=\"\",\"\",RANK(BH8,BH$8:BH$24))","v":1},{"$f":"IF(BB8=\"\",\"\",COUNTIF(BH$8:BH$24,BH8))","v":1},{"$f":"IF(BB8=\"\",0,INDEX($E$8:$E$24,BB8))","v":1},{"$f":"IF(BB8=\"\",\"\",IF(BD8>1,CONCATENATE(\"=\",BC8),BC8))","v":1},{"$f":"IF(BB8=\"\",\"\",INDEX($C$8:$C$24,BB8))","v":"Hong Kong"},{"$f":"IF(BB8=\"\",\"\",INDEX(AZ$8:AZ$24,BB8))","v":92.6},null,null,{"$f":"IF($E8=0,\"\",ROUND(INDEX(aScores,BK$6,$A8),$B$3))","v":100},{"$f":"IF($E8=0,\"\",RANK(BK8,BK$8:BK$24,0)+COUNTIF(BK$8:BK8,BK8)-1)","v":{"$error":"#VALUE!"}},{"$f":"IF(ISERROR(MATCH($A8,BL$8:BL$24,0)),\"\",MATCH($A8,BL$8:BL$24,0))","v":""},{"$f":"IF(BM8=\"\",\"\",RANK(BS8,BS$8:BS$24))","v":""},{"$f":"IF(BM8=\"\",\"\",COUNTIF(BS$8:BS$24,BS8))","v":""},{"$f":"IF(BM8=\"\",0,INDEX($E$8:$E$24,BM8))","v":0},{"$f":"IF(BM8=\"\",\"\",IF(BO8>1,CONCATENATE(\"=\",BN8),BN8))","v":""},{"$f":"IF(BM8=\"\",\"\",INDEX($C$8:$C$24,BM8))","v":""},{"$f":"IF(BM8=\"\",\"\",INDEX(BK$8:BK$24,BM8))","v":""}]
[{"$f":"tblTerritories!A4","v":2},{"$f":"INDEX(tblTerritories!$R$3:$V$19,$A9,$B$1)","v":1},{"$f":"tblTerritories!E4","v":"Cambodia"},{"$f":"tblTerritories!D4","v":0},{"$f":"tblTerritories!G4","v":1},{"$f":"VLOOKUP(C9,tblTerritories!$F$3:$L$20,7,FALSE)+10","v":14},null,{"$f":"IF($E9=0,\"\",ROUND(INDEX(aScores,H$6,$A9),$B$3))","v":23.9},{"$f":"IF($E9=0,\"\",RANK(H9,H$8:H$24,0)+COUNTIF(H$8:H9,H9)-1)","v":15},11,2,1,1,{"$f":"IF(J9=\"\",\"\",IF(L9>1,CONCATENATE(\"=\",K9),K9))","v":2},"New Zealand",81.8,null,null,20,{"$f":"IF($E9=0,\"\",RANK(S9,S$8:S$24,0)+COUNTIF(S$8:S9,S9)-1)","v":13},11,1,2,1,{"$f":"IF(U9=\"\",\"\",IF(W9>1,CONCATENATE(\"=\",V9),V9))","v":"=1"},"New Zealand",100,null,null,25,{"$f":"IF($E9=0,\"\",RANK(AD9,AD$8:AD$24,0)+COUNTIF(AD$8:AD9,AD9)-1)","v":15},9,2,1,1,{"$f":"IF(AF9=\"\",\"\",IF(AH9>1,CONCATENATE(\"=\",AG9),AG9))","v":2},"Malaysia",93,null,null,22,{"$f":"IF($E9=0,\"\",RANK(AO9,AO$8:AO$24,0)+COUNTIF(AO$8:AO9,AO9)-1)","v":15},1,2,1,1,{"$f":"IF(AQ9=\"\",\"\",IF(AS9>1,CONCATENATE(\"=\",AR9),AR9))","v":2},"Australia",88,null,null,28.7,{"$f":"IF($E9=0,\"\",RANK(AZ9,AZ$8:AZ$24,0)+COUNTIF(AZ$8:AZ9,AZ9)-1)","v":16},11,2,1,1,{"$f":"IF(BB9=\"\",\"\",IF(BD9>1,CONCATENATE(\"=\",BC9),BC9))","v":2},"New Zealand",91.7,null,null,25,{"$f":"IF($E9=0,\"\",RANK(BK9,BK$8:BK$24,0)+COUNTIF(BK$8:BK9,BK9)-1)","v":{"$error":"#VALUE!"}},"","","",0,{"$f":"IF(BM9=\"\",\"\",IF(BO9>1,CONCATENATE(\"=\",BN9),BN9))","v":""},"",""]
[{"$f":"tblTerritories!A5","v":3},{"$f":"INDEX(tblTerritories!$R$3:$V$19,$A10,$B$1)","v":1},{"$f":"tblTerritories!E5","v":"China"},{"$f":"tblTerritories!D5","v":0},{"$f":"tblTerritories!G5","v":1},{"$f":"VLOOKUP(C10,tblTerritories!$F$3:$L$20,7,FALSE)+10","v":12},null,61.6,{"$f":"IF($E10=0,\"\",RANK(H10,H$8:H$24,0)+COUNTIF(H$8:H10,H10)-1)","v":9},4,3,1,1,3,"Hong Kong",81.400000000000006,null,null,60,{"$f":"IF($E10=0,\"\",RANK(S10,S$8:S$24,0)+COUNTIF(S$8:S10,S10)-1)","v":7},4,3,4,1,"=3","Hong Kong",80,null,null,80,{"$f":"IF($E10=0,\"\",RANK(AD10,AD$8:AD$24,0)+COUNTIF(AD$8:AD10,AD10)-1)","v":5},7,3,1,1,3,"Japan",88.8,null,null,61.9,{"$f":"IF($E10=0,\"\",RANK(AO10,AO$8:AO$24,0)+COUNTIF(AO$8:AO10,AO10)-1)","v":11},11,3,1,1,3,"New Zealand",87.8,null,null,44.4,{"$f":"IF($E10=0,\"\",RANK(AZ10,AZ$8:AZ$24,0)+COUNTIF(AZ$8:AZ10,AZ10)-1)","v":11},13,3,1,1,3,"Singapore",83.3,null,null,70,{"$f":"IF($E10=0,\"\",RANK(BK10,BK$8:BK$24,0)+COUNTIF(BK$8:BK10,BK10)-1)","v":{"$error":"#VALUE!"}},"","","",0,"","",""]
[{"$f":"tblTerritories!A6","v":4},{"$f":"INDEX(tblTerritories!$R$3:$V$19,$A11,$B$1)","v":1},{"$f":"tblTerritories!E6","v":"Hong Kong"},{"$f":"tblTerritories!D6","v":0},{"$f":"tblTerritories!G6","v":1},{"$f":"VLOOKUP(C11,tblTerritories!$F$3:$L$20,7,FALSE)+10","v":11},null,81.400000000000006,{"$f":"IF($E11=0,\"\",RANK(H11,H$8:H$24,0)+COUNTIF(H$8:H11,H11)-1)","v":3},7,4,1,1,4,"Japan",75.900000000000006,null,null,80,{"$f":"IF($E11=0,\"\",RANK(S11,S$8:S$24,0)+COUNTIF(S$8:S11,S11)-1)","v":3},7,3,4,1,"=3","Japan",80,null,null,69.5,{"$f":"IF($E11=0,\"\",RANK(AD11,AD$8:AD$24,0)+COUNTIF(AD$8:AD11,AD11)-1)","v":9},1,4,1,1,4,"Australia",81.5,null,null,83.5,{"$f":"IF($E11=0,\"\",RANK(AO11,AO$8:AO$24,0)+COUNTIF(AO$8:AO11,AO11)-1)","v":4},4,4,1,1,4,"Hong Kong",83.5,null,null,92.6,{"$f":"IF($E11=0,\"\",RANK(AZ11,AZ$8:AZ$24,0)+COUNTIF(AZ$8:AZ11,AZ11)-1)","v":1},15,4,1,1,4,"Taiwan",72.2,null,null,0,{"$f":"IF($E11=0,\"\",RANK(BK11,BK$8:BK$24,0)+COUNTIF(BK$8:BK11,BK11)-1)","v":{"$error":"#VALUE!"}},"","","",0,"","",""]
[{"$f":"tblTerritories!A7","v":5},{"$f":"INDEX(tblTerritories!$R$3:$V$19,$A12,$B$1)","v":1},{"$f":"tblTerritories!E7","v":"India"},{"$f":"tblTerritories!D7","v":0},{"$f":"tblTerritories!G7","v":1},{"$f":"VLOOKUP(C12,tblTerritories!$F$3:$L$20,7,FALSE)+10","v":12},null,54.1,{"$f":"IF($E12=0,\"\",RANK(H12,H$8:H$24,0)+COUNTIF(H$8:H12,H12)-1)","v":10},9,5,2,1,"=5","Malaysia",71.8,null,null,40,{"$f":"IF($E12=0,\"\",RANK(S12,S$8:S$24,0)+COUNTIF(S$8:S12,S12)-1)","v":10},13,3,4,1,"=3","Singapore",80,null,null,71.8,{"$f":"IF($E12=0,\"\",RANK(AD12,AD$8:AD$24,0)+COUNTIF(AD$8:AD12,AD12)-1)","v":8},3,5,1,1,5,"China",80,null,null,65,{"$f":"IF($E12=0,\"\",RANK(AO12,AO$8:AO$24,0)+COUNTIF(AO$8:AO12,AO12)-1)","v":10},15,5,1,1,5,"Taiwan",83,null,null,39.799999999999997,{"$f":"IF($E12=0,\"\",RANK(AZ12,AZ$8:AZ$24,0)+COUNTIF(AZ$8:AZ12,AZ12)-1)","v":15},1,5,1,1,5,"Australia",71.3,null,null,100,{"$f":"IF($E12=0,\"\",RANK(BK12,BK$8:BK$24,0)+COUNTIF(BK$8:BK12,BK12)-1)","v":{"$error":"#VALUE!"}},"","","",0,"","",""]
[{"$f":"tblTerritories!A8","v":6},{"$f":"INDEX(tblTerritories!$R$3:$V$19,$A13,$B$1)","v":1},{"$f":"tblTerritories!E8","v":"Indonesia"},{"$f":"tblTerritories!D8","v":0},{"$f":"tblTerritories!G8","v":1},{"$f":"VLOOKUP(C13,tblTerritories!$F$3:$L$20,7,FALSE)+10","v":13},null,46.1,{"$f":"IF($E13=0,\"\",RANK(H13,H$8:H$24,0)+COUNTIF(H$8:H13,H13)-1)","v":14},14,5,2,1,"=5","South Korea",71.8,null,null,20,{"$f":"IF($E13=0,\"\",RANK(S13,S$8:S$24,0)+COUNTIF(S$8:S13,S13)-1)","v":14},15,3,4,1,"=3","Taiwan",80,null,null,78,{"$f":"IF($E13=0,\"\",RANK(AD13,AD$8:AD$24,0)+COUNTIF(AD$8:AD13,AD13)-1)","v":6},6,6,1,1,6,"Indonesia",78,null,null,41.8,{"$f":"IF($E13=0,\"\",RANK(AO13,AO$8:AO$24,0)+COUNTIF(AO$8:AO13,AO13)-1)","v":13},14,6,1,1,6,"South Korea",78.3,null,null,44.4,{"$f":"IF($E13=0,\"\",RANK(AZ13,AZ$8:AZ$24,0)+COUNTIF(AZ$8:AZ13,AZ13)-1)","v":12},7,6,2,1,"=6","Japan",63.9,null,null,50,{"$f":"IF($E13=0,\"\",RANK(BK13,BK$8:BK$24,0)+COUNTIF(BK$8:BK13,BK13)-1)","v":{"$error":"#VALUE!"}},"","","",0,"","",""]
[{"$f":"tblTerritories!A9","v":7},{"$f":"INDEX(tblTerritories!$R$3:$V$19,$A14,$B$1)","v":1},{"$f":"tblTerritories!E9","v":"Japan"},{"$f":"tblTerritories!D9","v":0},{"$f":"tblTerritories!G9","v":1},{"$f":"VLOOKUP(C14,tblTerritories!$F$3:$L$20,7,FALSE)+10","v":11},null,75.900000000000006,{"$f":"IF($E14=0,\"\",RANK(H14,H$8:H$24,0)+COUNTIF(H$8:H14,H14)-1)","v":4},13,7,2,1,"=7","Singapore",69.8,null,null,80,{"$f":"IF($E14=0,\"\",RANK(S14,S$8:S$24,0)+COUNTIF(S$8:S14,S14)-1)","v":4},3,7,3,1,"=7","China",60,null,null,88.8,{"$f":"IF($E14=0,\"\",RANK(AD14,AD$8:AD$24,0)+COUNTIF(AD$8:AD14,AD14)-1)","v":3},12,7,1,1,7,"Philippines",77.5,null,null,70.8,{"$f":"IF($E14=0,\"\",RANK(AO14,AO$8:AO$24,0)+COUNTIF(AO$8:AO14,AO14)-1)","v":7},7,7,1,1,7,"Japan",70.8,null,null,63.9,{"$f":"IF($E14=0,\"\",RANK(AZ14,AZ$8:AZ$24,0)+COUNTIF(AZ$8:AZ14,AZ14)-1)","v":6},9,6,2,1,"=6","Malaysia",63.9,null,null,70.8,{"$f":"IF($E14=0,\"\",RANK(BK14,BK$8:BK$24,0)+COUNTIF(BK$8:BK14,BK14)-1)","v":{"$error":"#VALUE!"}},"","","",0,"","",""]
[{"$f":"tblTerritories!A10","v":8},{"$f":"INDEX(tblTerritories!$R$3:$V$19,$A15,$B$1)","v":1},{"$f":"tblTerritories!E10","v":"Laos "},{"$f":"tblTerritories!D10","v":0},{"$f":"tblTerritories!G10","v":1},{"$f":"VLOOKUP(C15,tblTerritories!$F$3:$L$20,7,FALSE)+10","v":14},null,12.9,{"$f":"IF($E15=0,\"\",RANK(H15,H$8:H$24,0)+COUNTIF(H$8:H15,H15)-1)","v":16},15,7,2,1,"=7","Taiwan",69.8,null,null,0,{"$f":"IF($E15=0,\"\",RANK(S15,S$8:S$24,0)+COUNTIF(S$8:S15,S15)-1)","v":16},9,7,3,1,"=7","Malaysia",60,null,null,11,{"$f":"IF($E15=0,\"\",RANK(AD15,AD$8:AD$24,0)+COUNTIF(AD$8:AD15,AD15)-1)","v":17},5,8,1,1,8,"India",71.8,null,null,0,{"$f":"IF($E15=0,\"\",RANK(AO15,AO$8:AO$24,0)+COUNTIF(AO$8:AO15,AO15)-1)","v":17},9,8,1,1,8,"Malaysia",70.3,null,null,40.700000000000003,{"$f":"IF($E15=0,\"\",RANK(AZ15,AZ$8:AZ$24,0)+COUNTIF(AZ$8:AZ15,AZ15)-1)","v":14},16,8,1,1,8,"Thailand",56.5,null,null,0,{"$f":"IF($E15=0,\"\",RANK(BK15,BK$8:BK$24,0)+COUNTIF(BK$8:BK15,BK15)-1)","v":{"$error":"#VALUE!"}},"","","",0,"","",""]
[{"$f":"tblTerritories!A11","v":9},{"$f":"INDEX(tblTerritories!$R$3:$V$19,$A16,$B$1)","v":1},{"$f":"tblTerritories!E11","v":"Malaysia"},{"$f":"tblTerritories!D11","v":0},{"$f":"tblTerritories!G11","v":1},{"$f":"VLOOKUP(C16,tblTerritories!$F$3:$L$20,7,FALSE)+10","v":12},null,71.8,{"$f":"IF($E16=0,\"\",RANK(H16,H$8:H$24,0)+COUNTIF(H$8:H16,H16)-1)","v":5},3,9,1,1,{"$f":"IF(J16=\"\",\"\",IF(L16>1,CONCATENATE(\"=\",K16),K16))","v":9},"China",61.6,null,null,60,{"$f":"IF($E16=0,\"\",RANK(S16,S$8:S$24,0)+COUNTIF(S$8:S16,S16)-1)","v":8},14,7,3,1,"=7","South Korea",60,null,null,93,{"$f":"IF($E16=0,\"\",RANK(AD16,AD$8:AD$24,0)+COUNTIF(AD$8:AD16,AD16)-1)","v":2},4,9,1,1,9,"Hong Kong",69.5,null,null,70.3,{"$f":"IF($E16=0,\"\",RANK(AO16,AO$8:AO$24,0)+COUNTIF(AO$8:AO16,AO16)-1)","v":8},16,9,1,1,9,"Thailand",68.400000000000006,null,null,63.9,{"$f":"IF($E16=0,\"\",RANK(AZ16,AZ$8:AZ$24,0)+COUNTIF(AZ$8:AZ16,AZ16)-1)","v":7},14,9,1,1,9,"South Korea",55.6,null,null,100,{"$f":"IF($E16=0,\"\",RANK(BK16,BK$8:BK$24,0)+COUNTIF(BK$8:BK16,BK16)-1)","v":{"$error":"#VALUE!"}},"","","",0,"","",""]
[{"$f":"tblTerritories!A12","v":10},{"$f":"INDEX(tblTerritories!$R$3:$V$19,$A17,$B$1)","v":1},{"$f":"tblTerritories!E12","v":"Myanmar"},{"$f":"tblTerritories!D12","v":0},{"$f":"tblTerritories!G12","v":1},{"$f":"VLOOKUP(C17,tblTerritories!$F$3:$L$20,7,FALSE)+10","v":14},null,10.8,{"$f":"IF($E17=0,\"\",RANK(H17,H$8:H$24,0)+COUNTIF(H$8:H17,H17)-1)","v":17},5,10,1,1,10,"India",54.1,null,null,0,{"$f":"IF($E17=0,\"\",RANK(S17,S$8:S$24,0)+COUNTIF(S$8:S17,S17)-1)","v":17},5,10,3,1,"=10","India",40,null,null,11.8,{"$f":"IF($E17=0,\"\",RANK(AD17,AD$8:AD$24,0)+COUNTIF(AD$8:AD17,AD17)-1)","v":16},16,10,1,1,10,"Thailand",67.5,null,null,11.1,{"$f":"IF($E17=0,\"\",RANK(AO17,AO$8:AO$24,0)+COUNTIF(AO$8:AO17,AO17)-1)","v":16},5,10,1,1,10,"India",65,null,null,20.399999999999999,{"$f":"IF($E17=0,\"\",RANK(AZ17,AZ$8:AZ$24,0)+COUNTIF(AZ$8:AZ17,AZ17)-1)","v":17},12,10,1,1,10,"Philippines",52.8,null,null,0,{"$f":"IF($E17=0,\"\",RANK(BK17,BK$8:BK$24,0)+COUNTIF(BK$8:BK17,BK17)-1)","v":{"$error":"#VALUE!"}},"","","",0,"","",""]
[{"$f":"tblTerritories!A13","v":11},{"$f":"INDEX(tblTerritories!$R$3:$V$19,$A18,$B$1)","v":1},{"$f":"tblTerritories!E13","v":"New Zealand"},{"$f":"tblTerritories!D13","v":0},{"$f":"tblTerritories!G13","v":1},{"$f":"VLOOKUP(C18,tblTerritories!$F$3:$L$20,7,FALSE)+10","v":11},null,81.8,{"$f":"IF($E18=0,\"\",RANK(H18,H$8:H$24,0)+COUNTIF(H$8:H18,H18)-1)","v":2},16,11,1,1,11,"Thailand",53.1,null,null,100,{"$f":"IF($E18=0,\"\",RANK(S18,S$8:S$24,0)+COUNTIF(S$8:S18,S18)-1)","v":2},12,10,3,1,"=10","Philippines",40,null,null,47.8,{"$f":"IF($E18=0,\"\",RANK(AD18,AD$8:AD$24,0)+COUNTIF(AD$8:AD18,AD18)-1)","v":12},17,11,1,1,11,"Vietnam ",59.8,null,null,87.8,{"$f":"IF($E18=0,\"\",RANK(AO18,AO$8:AO$24,0)+COUNTIF(AO$8:AO18,AO18)-1)","v":3},3,11,1,1,11,"China",61.9,null,null,91.7,{"$f":"IF($E18=0,\"\",RANK(AZ18,AZ$8:AZ$24,0)+COUNTIF(AZ$8:AZ18,AZ18)-1)","v":2},3,11,3,1,"=11","China",44.4,null,null,100,{"$f":"IF($E18=0,\"\",RANK(BK18,BK$8:BK$24,0)+COUNTIF(BK$8:BK18,BK18)-1)","v":{"$error":"#VALUE!"}},"","","",0,"","",""]
[{"$f":"tblTerritories!A14","v":12},{"$f":"INDEX(tblTerritories!$R$3:$V$19,$A19,$B$1)","v":1},{"$f":"tblTerritories!E14","v":"Philippines"},{"$f":"tblTerritories!D14","v":0},{"$f":"tblTerritories!G14","v":1},{"$f":"VLOOKUP(C19,tblTerritories!$F$3:$L$20,7,FALSE)+10","v":13},null,50.4,{"$f":"IF($E19=0,\"\",RANK(H19,H$8:H$24,0)+COUNTIF(H$8:H19,H19)-1)","v":12},12,12,1,1,12,"Philippines",50.4,null,null,40,{"$f":"IF($E19=0,\"\",RANK(S19,S$8:S$24,0)+COUNTIF(S$8:S19,S19)-1)","v":11},17,10,3,1,"=10","Vietnam ",40,null,null,77.5,{"$f":"IF($E19=0,\"\",RANK(AD19,AD$8:AD$24,0)+COUNTIF(AD$8:AD19,AD19)-1)","v":7},11,12,1,1,12,"New Zealand",47.8,null,null,31.4,{"$f":"IF($E19=0,\"\",RANK(AO19,AO$8:AO$24,0)+COUNTIF(AO$8:AO19,AO19)-1)","v":14},17,12,1,1,12,"Vietnam ",53.2,null,null,52.8,{"$f":"IF($E19=0,\"\",RANK(AZ19,AZ$8:AZ$24,0)+COUNTIF(AZ$8:AZ19,AZ19)-1)","v":10},6,11,3,1,"=11","Indonesia",44.4,null,null,0,{"$f":"IF($E19=0,\"\",RANK(BK19,BK$8:BK$24,0)+COUNTIF(BK$8:BK19,BK19)-1)","v":{"$error":"#VALUE!"}},"","","",0,"","",""]
[{"$f":"tblTerritories!A15","v":13},{"$f":"INDEX(tblTerritories!$R$3:$V$19,$A20,$B$1)","v":1},{"$f":"tblTerritories!E15","v":"Singapore"},{"$f":"tblTerritories!D15","v":0},{"$f":"tblTerritories!G15","v":1},{"$f":"VLOOKUP(C20,tblTerritories!$F$3:$L$20,7,FALSE)+10","v":11},null,69.8,{"$f":"IF($E20=0,\"\",RANK(H20,H$8:H$24,0)+COUNTIF(H$8:H20,H20)-1)","v":7},17,13,1,1,13,"Vietnam ",49.4,null,null,80,{"$f":"IF($E20=0,\"\",RANK(S20,S$8:S$24,0)+COUNTIF(S$8:S20,S20)-1)","v":5},2,13,3,1,"=13","Cambodia",20,null,null,25.8,{"$f":"IF($E20=0,\"\",RANK(AD20,AD$8:AD$24,0)+COUNTIF(AD$8:AD20,AD20)-1)","v":14},15,13,1,1,13,"Taiwan",44,null,null,89.9,{"$f":"IF($E20=0,\"\",RANK(AO20,AO$8:AO$24,0)+COUNTIF(AO$8:AO20,AO20)-1)","v":1},6,13,1,1,13,"Indonesia",41.8,null,null,83.3,{"$f":"IF($E20=0,\"\",RANK(AZ20,AZ$8:AZ$24,0)+COUNTIF(AZ$8:AZ20,AZ20)-1)","v":3},17,11,3,1,"=11","Vietnam ",44.4,null,null,83.3,{"$f":"IF($E20=0,\"\",RANK(BK20,BK$8:BK$24,0)+COUNTIF(BK$8:BK20,BK20)-1)","v":{"$error":"#VALUE!"}},"","","",0,"","",""]
[{"$f":"tblTerritories!A16","v":14},{"$f":"INDEX(tblTerritories!$R$3:$V$19,$A21,$B$1)","v":1},{"$f":"tblTerritories!E16","v":"South Korea"},{"$f":"tblTerritories!D16","v":0},{"$f":"tblTerritories!G16","v":1},{"$f":"VLOOKUP(C21,tblTerritories!$F$3:$L$20,7,FALSE)+10","v":11},null,71.8,{"$f":"IF($E21=0,\"\",RANK(H21,H$8:H$24,0)+COUNTIF(H$8:H21,H21)-1)","v":6},6,14,1,1,14,"Indonesia",46.1,null,null,60,{"$f":"IF($E21=0,\"\",RANK(S21,S$8:S$24,0)+COUNTIF(S$8:S21,S21)-1)","v":9},6,13,3,1,"=13","Indonesia",20,null,null,93.5,{"$f":"IF($E21=0,\"\",RANK(AD21,AD$8:AD$24,0)+COUNTIF(AD$8:AD21,AD21)-1)","v":1},13,14,1,1,14,"Singapore",25.8,null,null,78.3,{"$f":"IF($E21=0,\"\",RANK(AO21,AO$8:AO$24,0)+COUNTIF(AO$8:AO21,AO21)-1)","v":6},12,14,1,1,14,"Philippines",31.4,null,null,55.6,{"$f":"IF($E21=0,\"\",RANK(AZ21,AZ$8:AZ$24,0)+COUNTIF(AZ$8:AZ21,AZ21)-1)","v":9},8,14,1,1,14,"Laos ",40.700000000000003,null,null,50,{"$f":"IF($E21=0,\"\",RANK(BK21,BK$8:BK$24,0)+COUNTIF(BK$8:BK21,BK21)-1)","v":{"$error":"#VALUE!"}},"","","",0,"","",""]
[{"$f":"tblTerritories!A17","v":15},{"$f":"INDEX(tblTerritories!$R$3:$V$19,$A22,$B$1)","v":1},{"$f":"tblTerritories!E17","v":"Taiwan"},{"$f":"tblTerritories!D17","v":0},{"$f":"tblTerritories!G17","v":1},{"$f":"VLOOKUP(C22,tblTerritories!$F$3:$L$20,7,FALSE)+10","v":11},null,69.8,{"$f":"IF($E22=0,\"\",RANK(H22,H$8:H$24,0)+COUNTIF(H$8:H22,H22)-1)","v":8},2,15,1,1,15,"Cambodia",23.9,null,null,80,{"$f":"IF($E22=0,\"\",RANK(S22,S$8:S$24,0)+COUNTIF(S$8:S22,S22)-1)","v":6},16,13,3,1,"=13","Thailand",20,null,null,44,{"$f":"IF($E22=0,\"\",RANK(AD22,AD$8:AD$24,0)+COUNTIF(AD$8:AD22,AD22)-1)","v":13},2,15,1,1,15,"Cambodia",25,null,null,83,{"$f":"IF($E22=0,\"\",RANK(AO22,AO$8:AO$24,0)+COUNTIF(AO$8:AO22,AO22)-1)","v":5},2,15,1,1,15,"Cambodia",22,null,null,72.2,{"$f":"IF($E22=0,\"\",RANK(AZ22,AZ$8:AZ$24,0)+COUNTIF(AZ$8:AZ22,AZ22)-1)","v":4},5,15,1,1,15,"India",39.799999999999997,null,null,66.7,{"$f":"IF($E22=0,\"\",RANK(BK22,BK$8:BK$24,0)+COUNTIF(BK$8:BK22,BK22)-1)","v":{"$error":"#VALUE!"}},"","","",0,"","",""]
[{"$f":"tblTerritories!A18","v":16},{"$f":"INDEX(tblTerritories!$R$3:$V$19,$A23,$B$1)","v":1},{"$f":"tblTerritories!E18","v":"Thailand"},{"$f":"tblTerritories!D18","v":0},{"$f":"tblTerritories!G18","v":1},{"$f":"VLOOKUP(C23,tblTerritories!$F$3:$L$20,7,FALSE)+10","v":13},null,53.1,{"$f":"IF($E23=0,\"\",RANK(H23,H$8:H$24,0)+COUNTIF(H$8:H23,H23)-1)","v":11},8,16,1,1,16,"Laos ",12.9,null,null,20,{"$f":"IF($E23=0,\"\",RANK(S23,S$8:S$24,0)+COUNTIF(S$8:S23,S23)-1)","v":15},8,16,2,1,"=16","Laos ",0,null,null,67.5,{"$f":"IF($E23=0,\"\",RANK(AD23,AD$8:AD$24,0)+COUNTIF(AD$8:AD23,AD23)-1)","v":10},10,16,1,1,16,"Myanmar",11.8,null,null,68.400000000000006,{"$f":"IF($E23=0,\"\",RANK(AO23,AO$8:AO$24,0)+COUNTIF(AO$8:AO23,AO23)-1)","v":9},10,16,1,1,16,"Myanmar",11.1,null,null,56.5,{"$f":"IF($E23=0,\"\",RANK(AZ23,AZ$8:AZ$24,0)+COUNTIF(AZ$8:AZ23,AZ23)-1)","v":8},2,16,1,1,16,"Cambodia",28.7,null,null,75,{"$f":"IF($E23=0,\"\",RANK(BK23,BK$8:BK$24,0)+COUNTIF(BK$8:BK23,BK23)-1)","v":{"$error":"#VALUE!"}},"","","",0,"","",""]
[{"$f":"tblTerritories!A19","v":17},{"$f":"INDEX(tblTerritories!$R$3:$V$19,$A24,$B$1)","v":1},{"$f":"tblTerritories!E19","v":"Vietnam "},{"$f":"tblTerritories!D19","v":0},{"$f":"tblTerritories!G19","v":1},{"$f":"VLOOKUP(C24,tblTerritories!$F$3:$L$20,7,FALSE)+10","v":14},null,49.4,{"$f":"IF($E24=0,\"\",RANK(H24,H$8:H$24,0)+COUNTIF(H$8:H24,H24)-1)","v":13},10,17,1,1,{"$f":"IF(J24=\"\",\"\",IF(L24>1,CONCATENATE(\"=\",K24),K24))","v":17},"Myanmar",10.8,null,null,40,{"$f":"IF($E24=0,\"\",RANK(S24,S$8:S$24,0)+COUNTIF(S$8:S24,S24)-1)","v":12},10,16,2,1,{"$f":"IF(U24=\"\",\"\",IF(W24>1,CONCATENATE(\"=\",V24),V24))","v":"=16"},"Myanmar",0,null,null,59.8,{"$f":"IF($E24=0,\"\",RANK(AD24,AD$8:AD$24,0)+COUNTIF(AD$8:AD24,AD24)-1)","v":11},8,17,1,1,{"$f":"IF(AF24=\"\",\"\",IF(AH24>1,CONCATENATE(\"=\",AG24),AG24))","v":17},"Laos ",11,null,null,53.2,{"$f":"IF($E24=0,\"\",RANK(AO24,AO$8:AO$24,0)+COUNTIF(AO$8:AO24,AO24)-1)","v":12},8,17,1,1,{"$f":"IF(AQ24=\"\",\"\",IF(AS24>1,CONCATENATE(\"=\",AR24),AR24))","v":17},"Laos ",0,null,null,44.4,{"$f":"IF($E24=0,\"\",RANK(AZ24,AZ$8:AZ$24,0)+COUNTIF(AZ$8:AZ24,AZ24)-1)","v":13},10,17,1,1,17,"Myanmar",20.399999999999999,null,null,{"$error":"#VALUE!"},{"$f":"IF($E24=0,\"\",RANK(BK24,BK$8:BK$24,0)+COUNTIF(BK$8:BK24,BK24)-1)","v":{"$error":"#VALUE!"}},"","","",0,"","",""]
[]
[]
[null,{"$f":"SUM(B8:B24)","v":17},null,null,null,{"$f":"C1","v":"Average: <none>"},{"$f":"RANK(H27,H8:H27)","v":10},{"$f":"AVERAGE(H8:H24)","v":57.047058823529397},null,null,null,null,null,null,null,null,null,{"$f":"RANK(S27,S8:S27)","v":10},{"$f":"AVERAGE(S8:S24)","v":51.764705882352942},null,null,null,null,null,null,null,null,null,{"$f":"RANK(AD27,AD8:AD27)","v":11},{"$f":"AVERAGE(AD8:AD24)","v":60.370588235294115},null,null,null,null,null,null,null,null,null,{"$f":"RANK(AO27,AO8:AO27)","v":12},{"$f":"AVERAGE(AO8:AO24)","v":59.199999999999989},null,null,null,null,null,null,null,null,null,{"$f":"RANK(AZ27,AZ8:AZ27)","v":8},{"$f":"AVERAGE(AZ8:AZ24)","v":56.858823529411758},null,null,null,null,null,null,null,null,null,{"$f":"RANK(BK27,BK8:BK27)","v":{"$error":"#VALUE!"}},{"$f":"AVERAGE(BK8:BK24)","v":{"$error":"#VALUE!"}}]
[null,null,null,null,null,null,{"$f":"G27-1&\" < x < \"&G27","v":"9 < x < 10"},{"$f":"COUNT(H8:H24)","v":17},null,null,null,null,null,null,null,null,null,{"$f":"R27-1&\" < x < \"&R27","v":"9 < x < 10"},{"$f":"COUNT(S8:S24)","v":17},null,null,null,null,null,null,null,null,null,{"$f":"AC27-1&\" < x < \"&AC27","v":"10 < x < 11"},null,null,null,null,null,null,null,null,null,null,{"$f":"AN27-1&\" < x < \"&AN27","v":"11 < x < 12"},null,null,null,null,null,null,null,null,null,null,{"$f":"AY27-1&\" < x < \"&AY27","v":"7 < x < 8"},null,null,null,null,null,null,null,null,null,null,{"$f":"BJ27-1&\" < x < \"&BJ27","v":{"$error":"#VALUE!"}}]

{"sheet":"Summary","index":14,"n_rows":29,"n_cols":35,"rows_kept":29,"cut":false,"hidden":true,"merged":[[7,31,7,34],[7,24,7,27],[2,4,2,14],[3,4,3,14],[7,3,7,6],[7,10,7,13],[7,17,7,20],[27,4,27,5],[27,11,27,12],[27,18,27,19],[27,25,27,26],[27,32,27,33]]}
[]
[]
[null,null,null,null,"Normalised scores 0-100, where 100 = most favourable conditions"]
[null,null,null,null,"= before the rank indicates a tie in rank with another geography"]
[]
[]
[]
[null,null,null,{"$f":"iSummary!N6","v":"OVERALL SCORE"},null,null,null,null,null,null,{"$f":"iSummary!Y6","v":"1) INTELLECTUAL PROPERTY"},null,null,null,null,null,null,{"$f":"iSummary!AJ6","v":"2) TRANSPARENCY AND TRADE"},null,null,null,null,null,null,{"$f":"iSummary!AU6","v":"3) CUSTOMS ENVIRONMENT"},null,null,null,null,null,null,{"$f":"iSummary!BF6","v":"4) SUPPLY AND DEMAND"}]
[null,{"$f":"iSummary!M8","v":1},{"$f":"IF(G9<=30,0,IF(G9<=50,1,IF(G9<=70,2,3)))","v":3},null,{"$f":"iSummary!N8","v":1},{"$f":"iSummary!O8","v":"Australia"},{"$f":"iSummary!P8","v":85.2},null,{"$f":"iSummary!X8","v":1},{"$f":"IF(N9<=30,0,IF(N9<=50,1,IF(N9<=70,2,3)))","v":3},null,{"$f":"iSummary!Y8","v":"=1"},{"$f":"iSummary!Z8","v":"Australia"},{"$f":"iSummary!AA8","v":100},null,{"$f":"iSummary!AI8","v":1},{"$f":"IF(U9<=30,0,IF(U9<=50,1,IF(U9<=70,2,3)))","v":3},null,{"$f":"iSummary!AJ8","v":1},{"$f":"iSummary!AK8","v":"South Korea"},{"$f":"iSummary!AL8","v":93.5},null,{"$f":"iSummary!AT8","v":1},{"$f":"IF(AB9<=30,0,IF(AB9<=50,1,IF(AB9<=70,2,3)))","v":3},null,{"$f":"iSummary!AU8","v":1},{"$f":"iSummary!AV8","v":"Singapore"},{"$f":"iSummary!AW8","v":89.9},null,{"$f":"iSummary!BE8","v":1},{"$f":"IF(AI9<=30,0,IF(AI9<=50,1,IF(AI9<=70,2,3)))","v":3},null,{"$f":"iSummary!BF8","v":1},{"$f":"iSummary!BG8","v":"Hong Kong"},{"$f":"iSummary!BH8","v":92.6}]
[null,{"$f":"iSummary!M9","v":1},{"$f":"IF(G10<=30,0,IF(G10<=50,1,IF(G10<=70,2,3)))","v":3},null,{"$f":"iSummary!N9","v":2},{"$f":"iSummary!O9","v":"New Zealand"},{"$f":"iSummary!P9","v":81.8},null,{"$f":"iSummary!X9","v":1},{"$f":"IF(N10<=30,0,IF(N10<=50,1,IF(N10<=70,2,3)))","v":3},null,{"$f":"iSummary!Y9","v":"=1"},{"$f":"iSummary!Z9","v":"New Zealand"},{"$f":"iSummary!AA9","v":100},null,{"$f":"iSummary!AI9","v":1},{"$f":"IF(U10<=30,0,IF(U10<=50,1,IF(U10<=70,2,3)))","v":3},null,{"$f":"iSummary!AJ9","v":2},{"$f":"iSummary!AK9","v":"Malaysia"},{"$f":"iSummary!AL9","v":93},null,{"$f":"iSummary!AT9","v":1},{"$f":"IF(AB10<=30,0,IF(AB10<=50,1,IF(AB10<=70,2,3)))","v":3},null,{"$f":"iSummary!AU9","v":2},{"$f":"iSummary!AV9","v":"Australia"},{"$f":"iSummary!AW9","v":88},null,{"$f":"iSummary!BE9","v":1},{"$f":"IF(AI10<=30,0,IF(AI10<=50,1,IF(AI10<=70,2,3)))","v":3},null,{"$f":"iSummary!BF9","v":2},{"$f":"iSummary!BG9","v":"New Zealand"},{"$f":"iSummary!BH9","v":91.7}]
[null,{"$f":"iSummary!M10","v":1},3,null,{"$f":"iSummary!N10","v":3},{"$f":"iSummary!O10","v":"Hong Kong"},{"$f":"iSummary!P10","v":81.400000000000006},null,{"$f":"iSummary!X10","v":1},3,null,{"$f":"iSummary!Y10","v":"=3"},{"$f":"iSummary!Z10","v":"Hong Kong"},{"$f":"iSummary!AA10","v":80},null,{"$f":"iSummary!AI10","v":1},3,null,{"$f":"iSummary!AJ10","v":3},{"$f":"iSummary!AK10","v":"Japan"},{"$f":"iSummary!AL10","v":88.8},null,{"$f":"iSummary!AT10","v":1},3,null,{"$f":"iSummary!AU10","v":3},{"$f":"iSummary!AV10","v":"New Zealand"},{"$f":"iSummary!AW10","v":87.8},null,{"$f":"iSummary!BE10","v":1},3,null,{"$f":"iSummary!BF10","v":3},{"$f":"iSummary!BG10","v":"Singapore"},{"$f":"iSummary!BH10","v":83.3}]
[null,{"$f":"iSummary!M11","v":1},3,null,{"$f":"iSummary!N11","v":4},{"$f":"iSummary!O11","v":"Japan"},{"$f":"iSummary!P11","v":75.900000000000006},null,{"$f":"iSummary!X11","v":1},3,null,{"$f":"iSummary!Y11","v":"=3"},{"$f":"iSummary!Z11","v":"Japan"},{"$f":"iSummary!AA11","v":80},null,{"$f":"iSummary!AI11","v":1},3,null,{"$f":"iSummary!AJ11","v":4},{"$f":"iSummary!AK11","v":"Australia"},{"$f":"iSummary!AL11","v":81.5},null,{"$f":"iSummary!AT11","v":1},3,null,{"$f":"iSummary!AU11","v":4},{"$f":"iSummary!AV11","v":"Hong Kong"},{"$f":"iSummary!AW11","v":83.5},null,{"$f":"iSummary!BE11","v":1},3,null,{"$f":"iSummary!BF11","v":4},{"$f":"iSummary!BG11","v":"Taiwan"},{"$f":"iSummary!BH11","v":72.2}]
[null,{"$f":"iSummary!M12","v":1},3,null,{"$f":"iSummary!N12","v":"=5"},{"$f":"iSummary!O12","v":"Malaysia"},{"$f":"iSummary!P12","v":71.8},null,{"$f":"iSummary!X12","v":1},3,null,{"$f":"iSummary!Y12","v":"=3"},{"$f":"iSummary!Z12","v":"Singapore"},{"$f":"iSummary!AA12","v":80},null,{"$f":"iSummary!AI12","v":1},3,null,{"$f":"iSummary!AJ12","v":5},{"$f":"iSummary!AK12","v":"China"},{"$f":"iSummary!AL12","v":80},null,{"$f":"iSummary!AT12","v":1},3,null,{"$f":"iSummary!AU12","v":5},{"$f":"iSummary!AV12","v":"Taiwan"},{"$f":"iSummary!AW12","v":83},null,{"$f":"iSummary!BE12","v":1},3,null,{"$f":"iSummary!BF12","v":5},{"$f":"iSummary!BG12","v":"Australia"},{"$f":"iSummary!BH12","v":71.3}]
[null,{"$f":"iSummary!M13","v":1},3,null,{"$f":"iSummary!N13","v":"=5"},{"$f":"iSummary!O13","v":"South Korea"},{"$f":"iSummary!P13","v":71.8},null,{"$f":"iSummary!X13","v":1},3,null,{"$f":"iSummary!Y13","v":"=3"},{"$f":"iSummary!Z13","v":"Taiwan"},{"$f":"iSummary!AA13","v":80},null,{"$f":"iSummary!AI13","v":1},3,null,{"$f":"iSummary!AJ13","v":6},{"$f":"iSummary!AK13","v":"Indonesia"},{"$f":"iSummary!AL13","v":78},null,{"$f":"iSummary!AT13","v":1},3,null,{"$f":"iSummary!AU13","v":6},{"$f":"iSummary!AV13","v":"South Korea"},{"$f":"iSummary!AW13","v":78.3},null,{"$f":"iSummary!BE13","v":1},2,null,{"$f":"iSummary!BF13","v":"=6"},{"$f":"iSummary!BG13","v":"Japan"},{"$f":"iSummary!BH13","v":63.9}]
[null,{"$f":"iSummary!M14","v":1},2,null,{"$f":"iSummary!N14","v":"=7"},{"$f":"iSummary!O14","v":"Singapore"},{"$f":"iSummary!P14","v":69.8},null,{"$f":"iSummary!X14","v":1},2,null,{"$f":"iSummary!Y14","v":"=7"},{"$f":"iSummary!Z14","v":"China"},{"$f":"iSummary!AA14","v":60},null,{"$f":"iSummary!AI14","v":1},3,null,{"$f":"iSummary!AJ14","v":7},{"$f":"iSummary!AK14","v":"Philippines"},{"$f":"iSummary!AL14","v":77.5},null,{"$f":"iSummary!AT14","v":1},3,null,{"$f":"iSummary!AU14","v":7},{"$f":"iSummary!AV14","v":"Japan"},{"$f":"iSummary!AW14","v":70.8},null,{"$f":"iSummary!BE14","v":1},2,null,{"$f":"iSummary!BF14","v":"=6"},{"$f":"iSummary!BG14","v":"Malaysia"},{"$f":"iSummary!BH14","v":63.9}]
[null,{"$f":"iSummary!M15","v":1},2,null,{"$f":"iSummary!N15","v":"=7"},{"$f":"iSummary!O15","v":"Taiwan"},{"$f":"iSummary!P15","v":69.8},null,{"$f":"iSummary!X15","v":1},2,null,{"$f":"iSummary!Y15","v":"=7"},{"$f":"iSummary!Z15","v":"Malaysia"},{"$f":"iSummary!AA15","v":60},null,{"$f":"iSummary!AI15","v":1},3,null,{"$f":"iSummary!AJ15","v":8},{"$f":"iSummary!AK15","v":"India"},{"$f":"iSummary!AL15","v":71.8},null,{"$f":"iSummary!AT15","v":1},3,null,{"$f":"iSummary!AU15","v":8},{"$f":"iSummary!AV15","v":"Malaysia"},{"$f":"iSummary!AW15","v":70.3},null,{"$f":"iSummary!BE15","v":1},2,null,{"$f":"iSummary!BF15","v":8},{"$f":"iSummary!BG15","v":"Thailand"},{"$f":"iSummary!BH15","v":56.5}]
[null,{"$f":"iSummary!M16","v":1},2,null,{"$f":"iSummary!N16","v":9},{"$f":"iSummary!O16","v":"China"},{"$f":"iSummary!P16","v":61.6},null,{"$f":"iSummary!X16","v":1},2,null,{"$f":"iSummary!Y16","v":"=7"},{"$f":"iSummary!Z16","v":"South Korea"},{"$f":"iSummary!AA16","v":60},null,{"$f":"iSummary!AI16","v":1},2,null,{"$f":"iSummary!AJ16","v":9},{"$f":"iSummary!AK16","v":"Hong Kong"},{"$f":"iSummary!AL16","v":69.5},null,{"$f":"iSummary!AT16","v":1},2,null,{"$f":"iSummary!AU16","v":9},{"$f":"iSummary!AV16","v":"Thailand"},{"$f":"iSummary!AW16","v":68.400000000000006},null,{"$f":"iSummary!BE16","v":1},2,null,{"$f":"iSummary!BF16","v":9},{"$f":"iSummary!BG16","v":"South Korea"},{"$f":"iSummary!BH16","v":55.6}]
[null,{"$f":"iSummary!M17","v":1},2,null,{"$f":"iSummary!N17","v":10},{"$f":"iSummary!O17","v":"India"},{"$f":"iSummary!P17","v":54.1},null,{"$f":"iSummary!X17","v":1},1,null,{"$f":"iSummary!Y17","v":"=10"},{"$f":"iSummary!Z17","v":"India"},{"$f":"iSummary!AA17","v":40},null,{"$f":"iSummary!AI17","v":1},2,null,{"$f":"iSummary!AJ17","v":10},{"$f":"iSummary!AK17","v":"Thailand"},{"$f":"iSummary!AL17","v":67.5},null,{"$f":"iSummary!AT17","v":1},2,null,{"$f":"iSummary!AU17","v":10},{"$f":"iSummary!AV17","v":"India"},{"$f":"iSummary!AW17","v":65},null,{"$f":"iSummary!BE17","v":1},2,null,{"$f":"iSummary!BF17","v":10},{"$f":"iSummary!BG17","v":"Philippines"},{"$f":"iSummary!BH17","v":52.8}]
[null,{"$f":"iSummary!M18","v":1},2,null,{"$f":"iSummary!N18","v":11},{"$f":"iSummary!O18","v":"Thailand"},{"$f":"iSummary!P18","v":53.1},null,{"$f":"iSummary!X18","v":1},1,null,{"$f":"iSummary!Y18","v":"=10"},{"$f":"iSummary!Z18","v":"Philippines"},{"$f":"iSummary!AA18","v":40},null,{"$f":"iSummary!AI18","v":1},2,null,{"$f":"iSummary!AJ18","v":11},{"$f":"iSummary!AK18","v":"Vietnam "},{"$f":"iSummary!AL18","v":59.8},null,{"$f":"iSummary!AT18","v":1},2,null,{"$f":"iSummary!AU18","v":11},{"$f":"iSummary!AV18","v":"China"},{"$f":"iSummary!AW18","v":61.9},null,{"$f":"iSummary!BE18","v":1},1,null,{"$f":"iSummary!BF18","v":"=11"},{"$f":"iSummary!BG18","v":"China"},{"$f":"iSummary!BH18","v":44.4}]
[null,{"$f":"iSummary!M19","v":1},2,null,{"$f":"iSummary!N19","v":12},{"$f":"iSummary!O19","v":"Philippines"},{"$f":"iSummary!P19","v":50.4},null,{"$f":"iSummary!X19","v":1},1,null,{"$f":"iSummary!Y19","v":"=10"},{"$f":"iSummary!Z19","v":"Vietnam "},{"$f":"iSummary!AA19","v":40},null,{"$f":"iSummary!AI19","v":1},1,null,{"$f":"iSummary!AJ19","v":12},{"$f":"iSummary!AK19","v":"New Zealand"},{"$f":"iSummary!AL19","v":47.8},null,{"$f":"iSummary!AT19","v":1},2,null,{"$f":"iSummary!AU19","v":12},{"$f":"iSummary!AV19","v":"Vietnam "},{"$f":"iSummary!AW19","v":53.2},null,{"$f":"iSummary!BE19","v":1},1,null,{"$f":"iSummary!BF19","v":"=11"},{"$f":"iSummary!BG19","v":"Indonesia"},{"$f":"iSummary!BH19","v":44.4}]
[null,{"$f":"iSummary!M20","v":1},1,null,{"$f":"iSummary!N20","v":13},{"$f":"iSummary!O20","v":"Vietnam "},{"$f":"iSummary!P20","v":49.4},null,{"$f":"iSummary!X20","v":1},0,null,{"$f":"iSummary!Y20","v":"=13"},{"$f":"iSummary!Z20","v":"Cambodia"},{"$f":"iSummary!AA20","v":20},null,{"$f":"iSummary!AI20","v":1},1,null,{"$f":"iSummary!AJ20","v":13},{"$f":"iSummary!AK20","v":"Taiwan"},{"$f":"iSummary!AL20","v":44},null,{"$f":"iSummary!AT20","v":1},1,null,{"$f":"iSummary!AU20","v":13},{"$f":"iSummary!AV20","v":"Indonesia"},{"$f":"iSummary!AW20","v":41.8},null,{"$f":"iSummary!BE20","v":1},1,null,{"$f":"iSummary!BF20","v":"=11"},{"$f":"iSummary!BG20","v":"Vietnam "},{"$f":"iSummary!BH20","v":44.4}]
[null,{"$f":"iSummary!M21","v":1},1,null,{"$f":"iSummary!N21","v":14},{"$f":"iSummary!O21","v":"Indonesia"},{"$f":"iSummary!P21","v":46.1},null,{"$f":"iSummary!X21","v":1},0,null,{"$f":"iSummary!Y21","v":"=13"},{"$f":"iSummary!Z21","v":"Indonesia"},{"$f":"iSummary!AA21","v":20},null,{"$f":"iSummary!AI21","v":1},0,null,{"$f":"iSummary!AJ21","v":14},{"$f":"iSummary!AK21","v":"Singapore"},{"$f":"iSummary!AL21","v":25.8},null,{"$f":"iSummary!AT21","v":1},1,null,{"$f":"iSummary!AU21","v":14},{"$f":"iSummary!AV21","v":"Philippines"},{"$f":"iSummary!AW21","v":31.4},null,{"$f":"iSummary!BE21","v":1},1,null,{"$f":"iSummary!BF21","v":14},{"$f":"iSummary!BG21","v":"Laos "},{"$f":"iSummary!BH21","v":40.700000000000003}]
[null,{"$f":"iSummary!M22","v":1},0,null,{"$f":"iSummary!N22","v":15},{"$f":"iSummary!O22","v":"Cambodia"},{"$f":"iSummary!P22","v":23.9},null,{"$f":"iSummary!X22","v":1},0,null,{"$f":"iSummary!Y22","v":"=13"},{"$f":"iSummary!Z22","v":"Thailand"},{"$f":"iSummary!AA22","v":20},null,{"$f":"iSummary!AI22","v":1},0,null,{"$f":"iSummary!AJ22","v":15},{"$f":"iSummary!AK22","v":"Cambodia"},{"$f":"iSummary!AL22","v":25},null,{"$f":"iSummary!AT22","v":1},0,null,{"$f":"iSummary!AU22","v":15},{"$f":"iSummary!AV22","v":"Cambodia"},{"$f":"iSummary!AW22","v":22},null,{"$f":"iSummary!BE22","v":1},1,null,{"$f":"iSummary!BF22","v":15},{"$f":"iSummary!BG22","v":"India"},{"$f":"iSummary!BH22","v":39.799999999999997}]
[null,{"$f":"iSummary!M23","v":1},0,null,{"$f":"iSummary!N23","v":16},{"$f":"iSummary!O23","v":"Laos "},{"$f":"iSummary!P23","v":12.9},null,{"$f":"iSummary!X23","v":1},0,null,{"$f":"iSummary!Y23","v":"=16"},{"$f":"iSummary!Z23","v":"Laos "},{"$f":"iSummary!AA23","v":0},null,{"$f":"iSummary!AI23","v":1},0,null,{"$f":"iSummary!AJ23","v":16},{"$f":"iSummary!AK23","v":"Myanmar"},{"$f":"iSummary!AL23","v":11.8},null,{"$f":"iSummary!AT23","v":1},0,null,{"$f":"iSummary!AU23","v":16},{"$f":"iSummary!AV23","v":"Myanmar"},{"$f":"iSummary!AW23","v":11.1},null,{"$f":"iSummary!BE23","v":1},0,null,{"$f":"iSummary!BF23","v":16},{"$f":"iSummary!BG23","v":"Cambodia"},{"$f":"iSummary!BH23","v":28.7}]
[null,{"$f":"iSummary!M24","v":1},0,null,{"$f":"iSummary!N24","v":17},{"$f":"iSummary!O24","v":"Myanmar"},{"$f":"iSummary!P24","v":10.8},null,{"$f":"iSummary!X24","v":1},0,null,{"$f":"iSummary!Y24","v":"=16"},{"$f":"iSummary!Z24","v":"Myanmar"},{"$f":"iSummary!AA24","v":0},null,{"$f":"iSummary!AI24","v":1},0,null,{"$f":"iSummary!AJ24","v":17},{"$f":"iSummary!AK24","v":"Laos "},{"$f":"iSummary!AL24","v":11},null,{"$f":"iSummary!AT24","v":1},0,null,{"$f":"iSummary!AU24","v":17},{"$f":"iSummary!AV24","v":"Laos "},{"$f":"iSummary!AW24","v":0},null,{"$f":"iSummary!BE24","v":1},0,null,{"$f":"iSummary!BF24","v":17},{"$f":"iSummary!BG24","v":"Myanmar"},{"$f":"iSummary!BH24","v":20.399999999999999}]
[null,null,null,null,null,null,null,null,null,null,null,null,null,null,null,null,null,null,null,null,null,null,null,null,null,null,null,null,null,{"$f":"iSummary!BE25","v":0}]
[null,1,null,null,{"$f":"rScores!T1","v":"Average: All Incomes"},null,{"$f":"rScores!T2","v":57.047058823529397},null,1,null,null,{"$f":"$E$27","v":"Average: All Incomes"},null,{"$f":"rScores!T3","v":51.764705882352942},null,1,null,null,{"$f":"$E$27","v":"Average: All Incomes"},null,{"$f":"rScores!T6","v":60.370588235294115},null,1,null,null,{"$f":"$E$27","v":"Average: All Incomes"},null,{"$f":"rScores!T11","v":59.199999999999989},null,{"$f":"iSummary!BE26","v":0},null,null,{"$f":"$E$27","v":"Average: All Incomes"},null,{"$f":"rScores!T17","v":56.858823529411758}]
[null,1,null,null,{"$f":"\"Average of the \"&iSummary!H28&\" Countries Above - 'x'\"","v":"Average of the 17 Countries Above - 'x'"},null,{"$f":"iSummary!H27","v":57.047058823529397},null,1,null,null,{"$f":"$E$28","v":"Average of the 17 Countries Above - 'x'"},null,{"$f":"iSummary!S27","v":51.764705882352942},null,1,null,null,{"$f":"$E$28","v":"Average of the 17 Countries Above - 'x'"},null,{"$f":"iSummary!AD27","v":60.370588235294115},null,1,null,null,{"$f":"$E$28","v":"Average of the 17 Countries Above - 'x'"},null,{"$f":"iSummary!AO27","v":59.199999999999989},null,{"$f":"iSummary!BE27","v":0},null,null,{"$f":"$E$28","v":"Average of the 17 Countries Above - 'x'"},null,{"$f":"iSummary!AZ27","v":56.858823529411758}]
[null,1,null,null,"Rank",{"$f":"iSummary!G28","v":"9 < x < 10"},null,null,1,null,null,{"$f":"$E$29","v":"Rank"},{"$f":"iSummary!R28","v":"9 < x < 10"},null,null,1,null,null,{"$f":"$E$29","v":"Rank"},{"$f":"iSummary!AC28","v":"10 < x < 11"},null,null,1,null,null,{"$f":"$E$29","v":"Rank"},{"$f":"iSummary!AN28","v":"11 < x < 12"},null,null,{"$f":"iSummary!BE28","v":0},null,null,{"$f":"$E$29","v":"Rank"},{"$f":"iSummary!AY28","v":"7 < x < 8"}]

{"sheet":"iIndiRank","index":15,"n_rows":28,"n_cols":34,"rows_kept":28,"cut":false,"hidden":true,"merged":[]}
[null,null,{"$f":"uxb_works!C13","v":"IS_BG"},{"$f":"uxb_works!D13","v":"Spare1"},{"$f":"uxb_works!E13","v":"INDI_CODE"},{"$f":"uxb_works!F13","v":"PARENT_CODE"},{"$f":"uxb_works!G13","v":"DEPTH"},{"$f":"uxb_works!H13","v":"REF"},{"$f":"uxb_works!I13","v":"NDICATOR_SHORT"},{"$f":"uxb_works!J13","v":"DESCRITION"},{"$f":"uxb_works!K13","v":"INDICATOR_MULTI"},{"$f":"uxb_works!L13","v":"INDICATOR_UNIT"},{"$f":"uxb_works!M13","v":"Scoring Criteria (0-100 or 0-4 etc)"},{"$f":"uxb_works!N13","v":"Year"},{"$f":"uxb_works!O13","v":"Geography"},{"$f":"uxb_works!P13","v":"HIGH=Good"},{"$f":"uxb_works!Q13","v":"Format"},{"$f":"uxb_works!R13","v":"MAIN_SOURCE"},{"$f":"uxb_works!S13","v":"SOURCE_WS_ID"},{"$f":"uxb_works!T13","v":"HIGH_IS"},{"$f":"uxb_works!U13","v":"NORM_ID (1=sumproduct, 2=min max set by data values, 3=min max set by user here)"},{"$f":"uxb_works!V13","v":"Set Min"},{"$f":"uxb_works!W13","v":"Set Max"},{"$f":"uxb_works!X13","v":"WEIGHT_NOM"},{"$f":"uxb_works!Y13","v":"WEIGHT_PERC"},{"$f":"uxb_works!Z13","v":"REF_INDI"},{"$f":"uxb_works!AA13","v":"PARENT"},{"$f":"uxb_works!AB13","v":"Weight_row"}]
[{"$f":"uxb_works!A14","v":"INDI_ID"},{"$f":"uxb_works!B14","v":1},{"$f":"uxb_works!C14","v":0},{"$f":"uxb_works!D14","v":""},{"$f":"uxb_works!E14","v":"TOTAL"},{"$f":"uxb_works!F14","v":"OVERALL SCORE"},{"$f":"uxb_works!G14","v":0},{"$f":"uxb_works!H14","v":""},{"$f":"uxb_works!I14","v":"OVERALL SCORE"},{"$f":"uxb_works!J14","v":"The overall score is the weighted sum of the following categories scores:\n\n1) Intellectual property\n2) Transparency and trade\n3) Customs environment\n4) Supply and demand"},{"$f":"uxb_works!K14","v":"Index score/number"},{"$f":"uxb_works!L14","v":""},{"$f":"uxb_works!M14","v":"Index score/number"},{"$f":"uxb_works!N14","v":"Index score/number"},{"$f":"uxb_works!O14","v":""},{"$f":"uxb_works!P14","v":""},{"$f":"uxb_works!Q14","v":"0.0"},{"$f":"uxb_works!R14","v":"EIU Calculation"},{"$f":"uxb_works!S14","v":""},{"$f":"uxb_works!T14","v":""},{"$f":"uxb_works!U14","v":1},{"$f":"uxb_works!V14","v":""},{"$f":"uxb_works!W14","v":""},{"$f":"uxb_works!X14","v":0},{"$f":"uxb_works!Y14","v":""},{"$f":"IF(OR(B2=1,G2=1),\"\",uxb_works!Z14)","v":""},{"$f":"IF(B2=1,F2,IF(G2=1,uxb_works!Z14,uxb_works!AA14))","v":"OVERALL SCORE"},{"$f":"uxb_works!AB14","v":""}]
["INDI_IS_NATIONAL",{"$f":"D2","v":""}]
["SHOW_DATA",{"$f":"IF(U2=1,FALSE,TRUE)","v":false},null,{"$f":"uxb_works!A6","v":"CITY_HIGHLIGHT_DD"},{"$f":"uxb_works!B6","v":1},{"$f":"uxb_works!C6","v":"<none>"},null,null,"All Tiers",{"$f":"uxb_works!B8","v":1},null,null,null,null,null,null,null,null,"ALL UNFILTERED DATA POINTS",null,null,null,null,"REGION HIGHLIGHT DATAPOINTS",null,null,"City HIGHLIGHT",null,null,"All Tiers"]
[null,null,null,"IsRegion","Status","ActiveStatus","Score (unrounded)","Rank unrounded","LU","yScatter","RankRounded",null,null,null,"Score",{"$f":"IF($B$4,\"Data\",\"\")","v":""},"Score Display",null,"X","Y",null,"HAS_SUB_INDICATORS",null,null,null,null,null,null,null,null,null,null,null,"Tier Filter"]
[{"$f":"tblTerritories!A3","v":1},{"$f":"tblTerritories!B3","v":"AUS"},{"$f":"tblTerritories!E3","v":"Australia"},{"$f":"tblTerritories!D3","v":0},{"$f":"IF(AND(OR(tblTerritories!$K$5=4,tblTerritories!$K$5=5),$G$2=3),0,IF(AND(OR(tblTerritories!$K$5=2,tblTerritories!$K$5=3),$G$2=3),tblTerritories!G3,IF(AND($G$2=3,tblTerritories!$K$5=1),W6,tblTerritories!G3)))","v":1},{"$f":"tblTerritories!G3","v":1},{"$f":"IF(F6=0,\"\",ROUND(INDEX(aScores,$B$2,$A6),5))","v":85.203540000000004},{"$f":"IF(F6=0,\"\",RANK(G6,G$6:G$22,0)+COUNTIF(G$6:G6,G6)-1)","v":1},{"$f":"IF(ISERROR(MATCH($A6,H$6:H$22,0)),\"\",MATCH($A6,H$6:H$22,0))","v":1},{"$f":"IF(I6=\"\",\"\",1)","v":1},{"$f":"IF(I6=\"\",\"\",RANK(O6,O$6:O$22,0))","v":1},{"$f":"IF(I6=\"\",0,INDEX($F$6:$F$22,I6))","v":1},{"$f":"IF(I6=\"\",\"\",IF(OR(K6=K5,K6=K7),CONCATENATE(\"=\",K6),K6))","v":1},{"$f":"IF(I6=\"\",\"\",INDEX($C$6:$C$22,I6))","v":"Australia"},{"$f":"IF(I6=\"\",\"\",INDEX(aRoundedScores,$B$2,I6))","v":85.2},{"$f":"IF(I6=\"\",\"\",IF($B$4=FALSE,\"\",INDEX(aData,$B$2,I6)))","v":""},{"$f":"IF(L6=0,\"\",IF($C$2=1,\"-\",O6))","v":85.2},null,{"$f":"IF(ISNUMBER(O6),O6,NA())","v":85.2},{"$f":"1","v":1},null,0,{"$f":"IF(V6=1,tblTerritories!G3,0)","v":0},{"$f":"IF(L6=2,S6,NA())","v":{"$error":"#N/A"}},{"$f":"IF(L6=2,1,NA())","v":{"$error":"#N/A"}},null,{"$f":"IF(L6=3,S6,NA())","v":{"$error":"#N/A"}},{"$f":"IF(L6=3,1,NA())","v":{"$error":"#N/A"}},null,{"$f":"VLOOKUP(C6,tblTerritories!$F$3:$L$20,7,FALSE)+10","v":11},{"$f":"tblTerritories!L3","v":1},{"$f":"IF($G$2=3,IF(OR(AE6=3,AE6=4),0,1),1)","v":1},null,{"$f":"CHOOSE(uxb_works!$B$10,tblTerritories!R3,tblTerritories!S3,tblTerritories!T3,tblTerritories!U3,tblTerritories!V3,tblTerritories!#REF!)","v":1}]
[{"$f":"tblTerritories!A4","v":2},{"$f":"tblTerritories!B4","v":"KHM"},{"$f":"tblTerritories!E4","v":"Cambodia"},{"$f":"tblTerritories!D4","v":0},{"$f":"IF(AND(OR(tblTerritories!$K$5=4,tblTerritories!$K$5=5),$G$2=3),0,IF(AND(OR(tblTerritories!$K$5=2,tblTerritories!$K$5=3),$G$2=3),tblTerritories!G4,IF(AND($G$2=3,tblTerritories!$K$5=1),W7,tblTerritories!G4)))","v":1},{"$f":"tblTerritories!G4","v":1},23.92174,{"$f":"IF(F7=0,\"\",RANK(G7,G$6:G$22,0)+COUNTIF(G$6:G7,G7)-1)","v":15},{"$f":"IF(ISERROR(MATCH($A7,H$6:H$22,0)),\"\",MATCH($A7,H$6:H$22,0))","v":11},{"$f":"IF(I7=\"\",\"\",1)","v":1},{"$f":"IF(I7=\"\",\"\",RANK(O7,O$6:O$22,0))","v":2},{"$f":"IF(I7=\"\",0,INDEX($F$6:$F$22,I7))","v":1},{"$f":"IF(I7=\"\",\"\",IF(OR(K7=K6,K7=K8),CONCATENATE(\"=\",K7),K7))","v":2},{"$f":"IF(I7=\"\",\"\",INDEX($C$6:$C$22,I7))","v":"New Zealand"},{"$f":"IF(I7=\"\",\"\",INDEX(aRoundedScores,$B$2,I7))","v":81.8},{"$f":"IF(I7=\"\",\"\",IF($B$4=FALSE,\"\",INDEX(aData,$B$2,I7)))","v":""},{"$f":"IF(L7=0,\"\",IF($C$2=1,\"-\",O7))","v":81.8},null,{"$f":"IF(ISNUMBER(O7),O7,NA())","v":81.8},{"$f":"1","v":1},null,0,{"$f":"IF(V7=1,tblTerritories!G4,0)","v":0},{"$f":"IF(L7=2,S7,NA())","v":{"$error":"#N/A"}},{"$f":"IF(L7=2,1,NA())","v":{"$error":"#N/A"}},null,{"$f":"IF(L7=3,S7,NA())","v":{"$error":"#N/A"}},{"$f":"IF(L7=3,1,NA())","v":{"$error":"#N/A"}},null,{"$f":"VLOOKUP(C7,tblTerritories!$F$3:$L$20,7,FALSE)+10","v":14},{"$f":"tblTerritories!L4","v":4},{"$f":"IF($G$2=3,IF(OR(AE7=3,AE7=4),0,1),1)","v":1},null,{"$f":"CHOOSE(uxb_works!$B$10,tblTerritories!R4,tblTerritories!S4,tblTerritories!T4,tblTerritories!U4,tblTerritories!V4,tblTerritories!#REF!)","v":1}]
[{"$f":"tblTerritories!A5","v":3},{"$f":"tblTerritories!B5","v":"CHN"},{"$f":"tblTerritories!E5","v":"China"},{"$f":"tblTerritories!D5","v":0},{"$f":"IF(AND(OR(tblTerritories!$K$5=4,tblTerritories!$K$5=5),$G$2=3),0,IF(AND(OR(tblTerritories!$K$5=2,tblTerritories!$K$5=3),$G$2=3),tblTerritories!G5,IF(AND($G$2=3,tblTerritories!$K$5=1),W8,tblTerritories!G5)))","v":1},{"$f":"tblTerritories!G5","v":1},61.576549999999997,{"$f":"IF(F8=0,\"\",RANK(G8,G$6:G$22,0)+COUNTIF(G$6:G8,G8)-1)","v":9},4,1,3,1,3,"Hong Kong",81.400000000000006,"",81.400000000000006,null,81.400000000000006,{"$f":"1","v":1},null,0,{"$f":"IF(V8=1,tblTerritories!G5,0)","v":0},{"$error":"#N/A"},{"$error":"#N/A"},null,{"$error":"#N/A"},{"$error":"#N/A"},null,{"$f":"VLOOKUP(C8,tblTerritories!$F$3:$L$20,7,FALSE)+10","v":12},{"$f":"tblTerritories!L5","v":2},1,null,{"$f":"CHOOSE(uxb_works!$B$10,tblTerritories!R5,tblTerritories!S5,tblTerritories!T5,tblTerritories!U5,tblTerritories!V5,tblTerritories!#REF!)","v":1}]
[{"$f":"tblTerritories!A6","v":4},{"$f":"tblTerritories!B6","v":"HKG"},{"$f":"tblTerritories!E6","v":"Hong Kong"},{"$f":"tblTerritories!D6","v":0},{"$f":"IF(AND(OR(tblTerritories!$K$5=4,tblTerritories!$K$5=5),$G$2=3),0,IF(AND(OR(tblTerritories!$K$5=2,tblTerritories!$K$5=3),$G$2=3),tblTerritories!G6,IF(AND($G$2=3,tblTerritories!$K$5=1),W9,tblTerritories!G6)))","v":1},{"$f":"tblTerritories!G6","v":1},81.40889,{"$f":"IF(F9=0,\"\",RANK(G9,G$6:G$22,0)+COUNTIF(G$6:G9,G9)-1)","v":3},7,1,4,1,4,"Japan",75.900000000000006,"",75.900000000000006,null,75.900000000000006,{"$f":"1","v":1},null,0,{"$f":"IF(V9=1,tblTerritories!G6,0)","v":0},{"$error":"#N/A"},{"$error":"#N/A"},null,{"$error":"#N/A"},{"$error":"#N/A"},null,{"$f":"VLOOKUP(C9,tblTerritories!$F$3:$L$20,7,FALSE)+10","v":11},{"$f":"tblTerritories!L6","v":1},1,null,{"$f":"CHOOSE(uxb_works!$B$10,tblTerritories!R6,tblTerritories!S6,tblTerritories!T6,tblTerritories!U6,tblTerritories!V6,tblTerritories!#REF!)","v":1}]
[{"$f":"tblTerritories!A7","v":5},{"$f":"tblTerritories!B7","v":"IND"},{"$f":"tblTerritories!E7","v":"India"},{"$f":"tblTerritories!D7","v":0},{"$f":"IF(AND(OR(tblTerritories!$K$5=4,tblTerritories!$K$5=5),$G$2=3),0,IF(AND(OR(tblTerritories!$K$5=2,tblTerritories!$K$5=3),$G$2=3),tblTerritories!G7,IF(AND($G$2=3,tblTerritories!$K$5=1),W10,tblTerritories!G7)))","v":1},{"$f":"tblTerritories!G7","v":1},54.142809999999997,{"$f":"IF(F10=0,\"\",RANK(G10,G$6:G$22,0)+COUNTIF(G$6:G10,G10)-1)","v":10},14,1,5,1,"=5","South Korea",71.8,"",71.8,null,71.8,{"$f":"1","v":1},null,0,{"$f":"IF(V10=1,tblTerritories!G7,0)","v":0},{"$error":"#N/A"},{"$error":"#N/A"},null,{"$error":"#N/A"},{"$error":"#N/A"},null,{"$f":"VLOOKUP(C10,tblTerritories!$F$3:$L$20,7,FALSE)+10","v":12},{"$f":"tblTerritories!L7","v":2},1,null,{"$f":"CHOOSE(uxb_works!$B$10,tblTerritories!R7,tblTerritories!S7,tblTerritories!T7,tblTerritories!U7,tblTerritories!V7,tblTerritories!#REF!)","v":1}]
[{"$f":"tblTerritories!A8","v":6},{"$f":"tblTerritories!B8","v":"IDN"},{"$f":"tblTerritories!E8","v":"Indonesia"},{"$f":"tblTerritories!D8","v":0},{"$f":"IF(AND(OR(tblTerritories!$K$5=4,tblTerritories!$K$5=5),$G$2=3),0,IF(AND(OR(tblTerritories!$K$5=2,tblTerritories!$K$5=3),$G$2=3),tblTerritories!G8,IF(AND($G$2=3,tblTerritories!$K$5=1),W11,tblTerritories!G8)))","v":1},{"$f":"tblTerritories!G8","v":1},46.066240000000001,{"$f":"IF(F11=0,\"\",RANK(G11,G$6:G$22,0)+COUNTIF(G$6:G11,G11)-1)","v":14},9,1,5,1,"=5","Malaysia",71.8,"",71.8,null,71.8,{"$f":"1","v":1},null,0,{"$f":"IF(V11=1,tblTerritories!G8,0)","v":0},{"$error":"#N/A"},{"$error":"#N/A"},null,{"$error":"#N/A"},{"$error":"#N/A"},null,{"$f":"VLOOKUP(C11,tblTerritories!$F$3:$L$20,7,FALSE)+10","v":13},{"$f":"tblTerritories!L8","v":3},1,null,{"$f":"CHOOSE(uxb_works!$B$10,tblTerritories!R8,tblTerritories!S8,tblTerritories!T8,tblTerritories!U8,tblTerritories!V8,tblTerritories!#REF!)","v":1}]
[{"$f":"tblTerritories!A9","v":7},{"$f":"tblTerritories!B9","v":"JPN"},{"$f":"tblTerritories!E9","v":"Japan"},{"$f":"tblTerritories!D9","v":0},{"$f":"IF(AND(OR(tblTerritories!$K$5=4,tblTerritories!$K$5=5),$G$2=3),0,IF(AND(OR(tblTerritories!$K$5=2,tblTerritories!$K$5=3),$G$2=3),tblTerritories!G9,IF(AND($G$2=3,tblTerritories!$K$5=1),W12,tblTerritories!G9)))","v":1},{"$f":"tblTerritories!G9","v":1},75.858770000000007,{"$f":"IF(F12=0,\"\",RANK(G12,G$6:G$22,0)+COUNTIF(G$6:G12,G12)-1)","v":4},15,1,7,1,"=7","Taiwan",69.8,"",69.8,null,69.8,{"$f":"1","v":1},null,0,{"$f":"IF(V12=1,tblTerritories!G9,0)","v":0},{"$error":"#N/A"},{"$error":"#N/A"},null,{"$error":"#N/A"},{"$error":"#N/A"},null,{"$f":"VLOOKUP(C12,tblTerritories!$F$3:$L$20,7,FALSE)+10","v":11},{"$f":"tblTerritories!L9","v":1},1,null,{"$f":"CHOOSE(uxb_works!$B$10,tblTerritories!R9,tblTerritories!S9,tblTerritories!T9,tblTerritories!U9,tblTerritories!V9,tblTerritories!#REF!)","v":1}]
[{"$f":"tblTerritories!A10","v":8},{"$f":"tblTerritories!B10","v":"LAO"},{"$f":"tblTerritories!E10","v":"Laos "},{"$f":"tblTerritories!D10","v":0},{"$f":"IF(AND(OR(tblTerritories!$K$5=4,tblTerritories!$K$5=5),$G$2=3),0,IF(AND(OR(tblTerritories!$K$5=2,tblTerritories!$K$5=3),$G$2=3),tblTerritories!G10,IF(AND($G$2=3,tblTerritories!$K$5=1),W13,tblTerritories!G10)))","v":1},{"$f":"tblTerritories!G10","v":1},12.93519,{"$f":"IF(F13=0,\"\",RANK(G13,G$6:G$22,0)+COUNTIF(G$6:G13,G13)-1)","v":16},13,1,7,1,"=7","Singapore",69.8,"",69.8,null,69.8,{"$f":"1","v":1},null,0,{"$f":"IF(V13=1,tblTerritories!G10,0)","v":0},{"$error":"#N/A"},{"$error":"#N/A"},null,{"$error":"#N/A"},{"$error":"#N/A"},null,{"$f":"VLOOKUP(C13,tblTerritories!$F$3:$L$20,7,FALSE)+10","v":14},{"$f":"tblTerritories!L10","v":4},1,null,{"$f":"CHOOSE(uxb_works!$B$10,tblTerritories!R10,tblTerritories!S10,tblTerritories!T10,tblTerritories!U10,tblTerritories!V10,tblTerritories!#REF!)","v":1}]
[{"$f":"tblTerritories!A11","v":9},{"$f":"tblTerritories!B11","v":"MYS"},{"$f":"tblTerritories!E11","v":"Malaysia"},{"$f":"tblTerritories!D11","v":0},{"$f":"IF(AND(OR(tblTerritories!$K$5=4,tblTerritories!$K$5=5),$G$2=3),0,IF(AND(OR(tblTerritories!$K$5=2,tblTerritories!$K$5=3),$G$2=3),tblTerritories!G11,IF(AND($G$2=3,tblTerritories!$K$5=1),W14,tblTerritories!G11)))","v":1},{"$f":"tblTerritories!G11","v":1},71.800160000000005,{"$f":"IF(F14=0,\"\",RANK(G14,G$6:G$22,0)+COUNTIF(G$6:G14,G14)-1)","v":6},3,1,9,1,9,"China",61.6,"",61.6,null,61.6,{"$f":"1","v":1},null,0,{"$f":"IF(V14=1,tblTerritories!G11,0)","v":0},{"$error":"#N/A"},{"$error":"#N/A"},null,{"$error":"#N/A"},{"$error":"#N/A"},null,{"$f":"VLOOKUP(C14,tblTerritories!$F$3:$L$20,7,FALSE)+10","v":12},{"$f":"tblTerritories!L11","v":2},1,null,{"$f":"CHOOSE(uxb_works!$B$10,tblTerritories!R11,tblTerritories!S11,tblTerritories!T11,tblTerritories!U11,tblTerritories!V11,tblTerritories!#REF!)","v":1}]
[{"$f":"tblTerritories!A12","v":10},{"$f":"tblTerritories!B12","v":"MMR"},{"$f":"tblTerritories!E12","v":"Myanmar"},{"$f":"tblTerritories!D12","v":0},{"$f":"IF(AND(OR(tblTerritories!$K$5=4,tblTerritories!$K$5=5),$G$2=3),0,IF(AND(OR(tblTerritories!$K$5=2,tblTerritories!$K$5=3),$G$2=3),tblTerritories!G12,IF(AND($G$2=3,tblTerritories!$K$5=1),W15,tblTerritories!G12)))","v":1},{"$f":"tblTerritories!G12","v":1},10.82037,{"$f":"IF(F15=0,\"\",RANK(G15,G$6:G$22,0)+COUNTIF(G$6:G15,G15)-1)","v":17},5,1,10,1,10,"India",54.1,"",54.1,null,54.1,{"$f":"1","v":1},null,0,{"$f":"IF(V15=1,tblTerritories!G12,0)","v":0},{"$error":"#N/A"},{"$error":"#N/A"},null,{"$error":"#N/A"},{"$error":"#N/A"},null,{"$f":"VLOOKUP(C15,tblTerritories!$F$3:$L$20,7,FALSE)+10","v":14},{"$f":"tblTerritories!L12","v":4},1,null,{"$f":"CHOOSE(uxb_works!$B$10,tblTerritories!R12,tblTerritories!S12,tblTerritories!T12,tblTerritories!U12,tblTerritories!V12,tblTerritories!#REF!)","v":1}]
[{"$f":"tblTerritories!A13","v":11},{"$f":"tblTerritories!B13","v":"NZL"},{"$f":"tblTerritories!E13","v":"New Zealand"},{"$f":"tblTerritories!D13","v":0},{"$f":"IF(AND(OR(tblTerritories!$K$5=4,tblTerritories!$K$5=5),$G$2=3),0,IF(AND(OR(tblTerritories!$K$5=2,tblTerritories!$K$5=3),$G$2=3),tblTerritories!G13,IF(AND($G$2=3,tblTerritories!$K$5=1),W16,tblTerritories!G13)))","v":1},{"$f":"tblTerritories!G13","v":1},81.806219999999996,{"$f":"IF(F16=0,\"\",RANK(G16,G$6:G$22,0)+COUNTIF(G$6:G16,G16)-1)","v":2},16,1,11,1,11,"Thailand",53.1,"",53.1,null,53.1,{"$f":"1","v":1},null,0,{"$f":"IF(V16=1,tblTerritories!G13,0)","v":0},{"$error":"#N/A"},{"$error":"#N/A"},null,{"$error":"#N/A"},{"$error":"#N/A"},null,{"$f":"VLOOKUP(C16,tblTerritories!$F$3:$L$20,7,FALSE)+10","v":11},{"$f":"tblTerritories!L13","v":1},1,null,{"$f":"CHOOSE(uxb_works!$B$10,tblTerritories!R13,tblTerritories!S13,tblTerritories!T13,tblTerritories!U13,tblTerritories!V13,tblTerritories!#REF!)","v":1}]
[{"$f":"tblTerritories!A14","v":12},{"$f":"tblTerritories!B14","v":"PHL"},{"$f":"tblTerritories!E14","v":"Philippines"},{"$f":"tblTerritories!D14","v":0},{"$f":"IF(AND(OR(tblTerritories!$K$5=4,tblTerritories!$K$5=5),$G$2=3),0,IF(AND(OR(tblTerritories!$K$5=2,tblTerritories!$K$5=3),$G$2=3),tblTerritories!G14,IF(AND($G$2=3,tblTerritories!$K$5=1),W17,tblTerritories!G14)))","v":1},{"$f":"tblTerritories!G14","v":1},50.411360000000002,{"$f":"IF(F17=0,\"\",RANK(G17,G$6:G$22,0)+COUNTIF(G$6:G17,G17)-1)","v":12},12,1,12,1,12,"Philippines",50.4,"",50.4,null,50.4,{"$f":"1","v":1},null,0,{"$f":"IF(V17=1,tblTerritories!G14,0)","v":0},{"$error":"#N/A"},{"$error":"#N/A"},null,{"$error":"#N/A"},{"$error":"#N/A"},null,{"$f":"VLOOKUP(C17,tblTerritories!$F$3:$L$20,7,FALSE)+10","v":13},{"$f":"tblTerritories!L14","v":3},1,null,{"$f":"CHOOSE(uxb_works!$B$10,tblTerritories!R14,tblTerritories!S14,tblTerritories!T14,tblTerritories!U14,tblTerritories!V14,tblTerritories!#REF!)","v":1}]
[{"$f":"tblTerritories!A15","v":13},{"$f":"tblTerritories!B15","v":"SGP"},{"$f":"tblTerritories!E15","v":"Singapore"},{"$f":"tblTerritories!D15","v":0},{"$f":"IF(AND(OR(tblTerritories!$K$5=4,tblTerritories!$K$5=5),$G$2=3),0,IF(AND(OR(tblTerritories!$K$5=2,tblTerritories!$K$5=3),$G$2=3),tblTerritories!G15,IF(AND($G$2=3,tblTerritories!$K$5=1),W18,tblTerritories!G15)))","v":1},{"$f":"tblTerritories!G15","v":1},69.755110000000002,{"$f":"IF(F18=0,\"\",RANK(G18,G$6:G$22,0)+COUNTIF(G$6:G18,G18)-1)","v":8},17,1,13,1,13,"Vietnam ",49.4,"",49.4,null,49.4,{"$f":"1","v":1},null,0,{"$f":"IF(V18=1,tblTerritories!G15,0)","v":0},{"$error":"#N/A"},{"$error":"#N/A"},null,{"$error":"#N/A"},{"$error":"#N/A"},null,{"$f":"VLOOKUP(C18,tblTerritories!$F$3:$L$20,7,FALSE)+10","v":11},{"$f":"tblTerritories!L15","v":1},1,null,{"$f":"CHOOSE(uxb_works!$B$10,tblTerritories!R15,tblTerritories!S15,tblTerritories!T15,tblTerritories!U15,tblTerritories!V15,tblTerritories!#REF!)","v":1}]
[{"$f":"tblTerritories!A16","v":14},{"$f":"tblTerritories!B16","v":"KOR"},{"$f":"tblTerritories!E16","v":"South Korea"},{"$f":"tblTerritories!D16","v":0},{"$f":"IF(AND(OR(tblTerritories!$K$5=4,tblTerritories!$K$5=5),$G$2=3),0,IF(AND(OR(tblTerritories!$K$5=2,tblTerritories!$K$5=3),$G$2=3),tblTerritories!G16,IF(AND($G$2=3,tblTerritories!$K$5=1),W19,tblTerritories!G16)))","v":1},{"$f":"tblTerritories!G16","v":1},71.827359999999999,{"$f":"IF(F19=0,\"\",RANK(G19,G$6:G$22,0)+COUNTIF(G$6:G19,G19)-1)","v":5},6,1,14,1,14,"Indonesia",46.1,"",46.1,null,46.1,{"$f":"1","v":1},null,0,{"$f":"IF(V19=1,tblTerritories!G16,0)","v":0},{"$error":"#N/A"},{"$error":"#N/A"},null,{"$error":"#N/A"},{"$error":"#N/A"},null,{"$f":"VLOOKUP(C19,tblTerritories!$F$3:$L$20,7,FALSE)+10","v":11},{"$f":"tblTerritories!L16","v":1},1,null,{"$f":"CHOOSE(uxb_works!$B$10,tblTerritories!R16,tblTerritories!S16,tblTerritories!T16,tblTerritories!U16,tblTerritories!V16,tblTerritories!#REF!)","v":1}]
[{"$f":"tblTerritories!A17","v":15},{"$f":"tblTerritories!B17","v":"TWN"},{"$f":"tblTerritories!E17","v":"Taiwan"},{"$f":"tblTerritories!D17","v":0},{"$f":"IF(AND(OR(tblTerritories!$K$5=4,tblTerritories!$K$5=5),$G$2=3),0,IF(AND(OR(tblTerritories!$K$5=2,tblTerritories!$K$5=3),$G$2=3),tblTerritories!G17,IF(AND($G$2=3,tblTerritories!$K$5=1),W20,tblTerritories!G17)))","v":1},{"$f":"tblTerritories!G17","v":1},69.814499999999995,{"$f":"IF(F20=0,\"\",RANK(G20,G$6:G$22,0)+COUNTIF(G$6:G20,G20)-1)","v":7},2,1,15,1,15,"Cambodia",23.9,"",23.9,null,23.9,{"$f":"1","v":1},null,0,{"$f":"IF(V20=1,tblTerritories!G17,0)","v":0},{"$error":"#N/A"},{"$error":"#N/A"},null,{"$error":"#N/A"},{"$error":"#N/A"},null,{"$f":"VLOOKUP(C20,tblTerritories!$F$3:$L$20,7,FALSE)+10","v":11},{"$f":"tblTerritories!L17","v":1},1,null,{"$f":"CHOOSE(uxb_works!$B$10,tblTerritories!R17,tblTerritories!S17,tblTerritories!T17,tblTerritories!U17,tblTerritories!V17,tblTerritories!#REF!)","v":1}]
[{"$f":"tblTerritories!A18","v":16},{"$f":"tblTerritories!B18","v":"THA"},{"$f":"tblTerritories!E18","v":"Thailand"},{"$f":"tblTerritories!D18","v":0},{"$f":"IF(AND(OR(tblTerritories!$K$5=4,tblTerritories!$K$5=5),$G$2=3),0,IF(AND(OR(tblTerritories!$K$5=2,tblTerritories!$K$5=3),$G$2=3),tblTerritories!G18,IF(AND($G$2=3,tblTerritories!$K$5=1),W21,tblTerritories!G18)))","v":1},{"$f":"tblTerritories!G18","v":1},53.103020000000001,{"$f":"IF(F21=0,\"\",RANK(G21,G$6:G$22,0)+COUNTIF(G$6:G21,G21)-1)","v":11},8,1,16,1,16,"Laos ",12.9,"",12.9,null,12.9,{"$f":"1","v":1},null,0,{"$f":"IF(V21=1,tblTerritories!G18,0)","v":0},{"$error":"#N/A"},{"$error":"#N/A"},null,{"$error":"#N/A"},{"$error":"#N/A"},null,{"$f":"VLOOKUP(C21,tblTerritories!$F$3:$L$20,7,FALSE)+10","v":13},{"$f":"tblTerritories!L18","v":3},1,null,{"$f":"CHOOSE(uxb_works!$B$10,tblTerritories!R18,tblTerritories!S18,tblTerritories!T18,tblTerritories!U18,tblTerritories!V18,tblTerritories!#REF!)","v":1}]
[{"$f":"tblTerritories!A19","v":17},{"$f":"tblTerritories!B19","v":"VNM"},{"$f":"tblTerritories!E19","v":"Vietnam "},{"$f":"tblTerritories!D19","v":0},{"$f":"IF(AND(OR(tblTerritories!$K$5=4,tblTerritories!$K$5=5),$G$2=3),0,IF(AND(OR(tblTerritories!$K$5=2,tblTerritories!$K$5=3),$G$2=3),tblTerritories!G19,IF(AND($G$2=3,tblTerritories!$K$5=1),W22,tblTerritories!G19)))","v":1},{"$f":"tblTerritories!G19","v":1},49.355060000000002,{"$f":"IF(F22=0,\"\",RANK(G22,G$6:G$22,0)+COUNTIF(G$6:G22,G22)-1)","v":13},10,1,17,1,17,"Myanmar",10.8,"",10.8,null,10.8,{"$f":"1","v":1},null,0,{"$f":"IF(V22=1,tblTerritories!G19,0)","v":0},{"$error":"#N/A"},{"$error":"#N/A"},null,{"$error":"#N/A"},{"$error":"#N/A"},null,{"$f":"VLOOKUP(C22,tblTerritories!$F$3:$L$20,7,FALSE)+10","v":14},{"$f":"tblTerritories!L19","v":4},1,null,{"$f":"CHOOSE(uxb_works!$B$10,tblTerritories!R19,tblTerritories!S19,tblTerritories!T19,tblTerritories!U19,tblTerritories!V19,tblTerritories!#REF!)","v":1}]
[]
["Region",{"$f":"INDEX(tblTerritories!O4:O8,uxb_works!B8)","v":"All Incomes"}]
["Average",{"$f":"INDEX(rScores!$T$2:$T$20,B2)","v":57.047058823529397}]
[null,null,null,null,null,null,null,null,null,1,null,null,null,null,{"$f":"IF(uxb_works!B6>1,INDEX(G5:G22,uxb_works!B6),NA())","v":{"$error":"#N/A"}}]
[]
[null,null,null,null,null,null,null,null,null,null,null,null,null,null,null,null,null,null,null,null,null,null,null,null,null,null,"Less Than"]

{"sheet":"Indicator_Ranking","index":16,"n_rows":31,"n_cols":12,"rows_kept":31,"cut":false,"hidden":true,"merged":[[12,11,12,15],[10,11,10,15],[14,11,31,14]]}
[]
[]
[null,null,null,{"$f":"iIndiRank!AA2","v":"OVERALL SCORE"}]
[null,null,null,{"$f":"iIndiRank!Z2","v":""}]
[]
[]
[null,null,null,"DISTRIBUTION"]
[null,null,null,null,null,null,null,null,null,null,null,{"$f":"\"Regional Average: \"&iIndiRank!B24","v":"Regional Average: All Incomes"}]
[null,null,null,null,null,null,null,null,null,null,null,{"$f":"iIndiRank!B25","v":57.047058823529397}]
[null,null,null,null,null,null,null,null,null,null,null,"Source"]
[null,null,null,null,null,null,null,null,null,null,null,{"$f":"iIndiRank!R2","v":"EIU Calculation"}]
[null,null,null,null,null,null,null,null,null,null,null,"Unit"]
[null,null,null,null,null,null,null,null,null,null,null,{"$f":"iIndiRank!N2","v":"Index score/number"}]
[null,null,null,"Rank","City","Score / 100","Score / 100","Score Visualisation",{"$f":"iIndiRank!P5","v":""},null,null,"Description"]
[null,null,{"$f":"iIndiRank!L6","v":1},{"$f":"iIndiRank!M6","v":1},{"$f":"iIndiRank!N6","v":"Australia"},{"$f":"iIndiRank!O6","v":85.2},{"$f":"iIndiRank!Q6","v":85.2},{"$f":"IF(ISNUMBER(F15),REPT(\"|\",F15/3),\"\")","v":"||||||||||||||||||||||||||||"},{"$f":"TEXT(iIndiRank!P6,iIndiRank!$Q$2)","v":""},null,null,{"$f":"iIndiRank!J2","v":"The overall score is the weighted sum of the following categories scores:\n\n1) Intellectual property\n2) Transparency and trade\n3) Customs environment\n4) Supply and demand"}]
[null,null,{"$f":"iIndiRank!L7","v":1},{"$f":"iIndiRank!M7","v":2},{"$f":"iIndiRank!N7","v":"New Zealand"},{"$f":"iIndiRank!O7","v":81.8},{"$f":"iIndiRank!Q7","v":81.8},{"$f":"IF(ISNUMBER(F16),REPT(\"|\",F16/3),\"\")","v":"|||||||||||||||||||||||||||"},{"$f":"TEXT(iIndiRank!P7,iIndiRank!$Q$2)","v":""}]
[null,null,{"$f":"iIndiRank!L8","v":1},{"$f":"iIndiRank!M8","v":3},{"$f":"iIndiRank!N8","v":"Hong Kong"},{"$f":"iIndiRank!O8","v":81.400000000000006},{"$f":"iIndiRank!Q8","v":81.400000000000006},"|||||||||||||||||||||||||||",{"$f":"TEXT(iIndiRank!P8,iIndiRank!$Q$2)","v":""}]
[null,null,{"$f":"iIndiRank!L9","v":1},{"$f":"iIndiRank!M9","v":4},{"$f":"iIndiRank!N9","v":"Japan"},{"$f":"iIndiRank!O9","v":75.900000000000006},{"$f":"iIndiRank!Q9","v":75.900000000000006},"|||||||||||||||||||||||||",{"$f":"TEXT(iIndiRank!P9,iIndiRank!$Q$2)","v":""}]
[null,null,{"$f":"iIndiRank!L10","v":1},{"$f":"iIndiRank!M10","v":"=5"},{"$f":"iIndiRank!N10","v":"South Korea"},{"$f":"iIndiRank!O10","v":71.8},{"$f":"iIndiRank!Q10","v":71.8},"|||||||||||||||||||||||",{"$f":"TEXT(iIndiRank!P10,iIndiRank!$Q$2)","v":""}]
[null,null,{"$f":"iIndiRank!L11","v":1},{"$f":"iIndiRank!M11","v":"=5"},{"$f":"iIndiRank!N11","v":"Malaysia"},{"$f":"iIndiRank!O11","v":71.8},{"$f":"iIndiRank!Q11","v":71.8},"|||||||||||||||||||||||",{"$f":"TEXT(iIndiRank!P11,iIndiRank!$Q$2)","v":""}]
[null,null,{"$f":"iIndiRank!L12","v":1},{"$f":"iIndiRank!M12","v":"=7"},{"$f":"iIndiRank!N12","v":"Taiwan"},{"$f":"iIndiRank!O12","v":69.8},{"$f":"iIndiRank!Q12","v":69.8},"|||||||||||||||||||||||",{"$f":"TEXT(iIndiRank!P12,iIndiRank!$Q$2)","v":""}]
[null,null,{"$f":"iIndiRank!L13","v":1},{"$f":"iIndiRank!M13","v":"=7"},{"$f":"iIndiRank!N13","v":"Singapore"},{"$f":"iIndiRank!O13","v":69.8},{"$f":"iIndiRank!Q13","v":69.8},"|||||||||||||||||||||||",{"$f":"TEXT(iIndiRank!P13,iIndiRank!$Q$2)","v":""}]
[null,null,{"$f":"iIndiRank!L14","v":1},{"$f":"iIndiRank!M14","v":9},{"$f":"iIndiRank!N14","v":"China"},{"$f":"iIndiRank!O14","v":61.6},{"$f":"iIndiRank!Q14","v":61.6},"||||||||||||||||||||",{"$f":"TEXT(iIndiRank!P14,iIndiRank!$Q$2)","v":""}]
[null,null,{"$f":"iIndiRank!L15","v":1},{"$f":"iIndiRank!M15","v":10},{"$f":"iIndiRank!N15","v":"India"},{"$f":"iIndiRank!O15","v":54.1},{"$f":"iIndiRank!Q15","v":54.1},"||||||||||||||||||",{"$f":"TEXT(iIndiRank!P15,iIndiRank!$Q$2)","v":""}]
[null,null,{"$f":"iIndiRank!L16","v":1},{"$f":"iIndiRank!M16","v":11},{"$f":"iIndiRank!N16","v":"Thailand"},{"$f":"iIndiRank!O16","v":53.1},{"$f":"iIndiRank!Q16","v":53.1},"|||||||||||||||||",{"$f":"TEXT(iIndiRank!P16,iIndiRank!$Q$2)","v":""}]
[null,null,{"$f":"iIndiRank!L17","v":1},{"$f":"iIndiRank!M17","v":12},{"$f":"iIndiRank!N17","v":"Philippines"},{"$f":"iIndiRank!O17","v":50.4},{"$f":"iIndiRank!Q17","v":50.4},"||||||||||||||||",{"$f":"TEXT(iIndiRank!P17,iIndiRank!$Q$2)","v":""}]
[null,null,{"$f":"iIndiRank!L18","v":1},{"$f":"iIndiRank!M18","v":13},{"$f":"iIndiRank!N18","v":"Vietnam "},{"$f":"iIndiRank!O18","v":49.4},{"$f":"iIndiRank!Q18","v":49.4},"||||||||||||||||",{"$f":"TEXT(iIndiRank!P18,iIndiRank!$Q$2)","v":""}]
[null,null,{"$f":"iIndiRank!L19","v":1},{"$f":"iIndiRank!M19","v":14},{"$f":"iIndiRank!N19","v":"Indonesia"},{"$f":"iIndiRank!O19","v":46.1},{"$f":"iIndiRank!Q19","v":46.1},"|||||||||||||||",{"$f":"TEXT(iIndiRank!P19,iIndiRank!$Q$2)","v":""}]
[null,null,{"$f":"iIndiRank!L20","v":1},{"$f":"iIndiRank!M20","v":15},{"$f":"iIndiRank!N20","v":"Cambodia"},{"$f":"iIndiRank!O20","v":23.9},{"$f":"iIndiRank!Q20","v":23.9},"|||||||",{"$f":"TEXT(iIndiRank!P20,iIndiRank!$Q$2)","v":""}]
[null,null,{"$f":"iIndiRank!L21","v":1},{"$f":"iIndiRank!M21","v":16},{"$f":"iIndiRank!N21","v":"Laos "},{"$f":"iIndiRank!O21","v":12.9},{"$f":"iIndiRank!Q21","v":12.9},"||||",{"$f":"TEXT(iIndiRank!P21,iIndiRank!$Q$2)","v":""}]
[null,null,{"$f":"iIndiRank!L22","v":1},{"$f":"iIndiRank!M22","v":17},{"$f":"iIndiRank!N22","v":"Myanmar"},{"$f":"iIndiRank!O22","v":10.8},{"$f":"iIndiRank!Q22","v":10.8},"|||",{"$f":"TEXT(iIndiRank!P22,iIndiRank!$Q$2)","v":""}]

{"sheet":"iScatter","index":17,"n_rows":35,"n_cols":27,"rows_kept":35,"cut":false,"hidden":true,"merged":[]}
["INDI_X",{"$f":"uxb_works!B24","v":1},null,null,{"$f":"uxb_works!E24","v":0},{"$f":"uxb_works!I24","v":"Index score/number"},{"$f":"uxb_works!G24","v":"OVERALL SCORE"}]
["INDI_Y",{"$f":"uxb_works!B25","v":1},null,null,{"$f":"uxb_works!E25","v":0},{"$f":"uxb_works!I25","v":"Index score/number"},{"$f":"uxb_works!G25","v":"OVERALL SCORE"}]
["Country_HIGHLIGHT_ID",{"$f":"uxb_works!B7","v":0}]
["SHOW_LABELS",{"$f":"uxb_works!B27","v":false}]
["SHOW_OUTLIERS",{"$f":"uxb_works!B28","v":false}]
[]
[]
["TITLE"]
["X-LABEL",{"$f":"G1","v":"OVERALL SCORE"}]
["Y-LABEL",{"$f":"G2","v":"OVERALL SCORE"}]
[]
["SLOPE",{"$f":"SLOPE(H19:H35,G19:G35)","v":1}]
["INTERCEPT",{"$f":"INTERCEPT(H19:H35,G19:G35)","v":0}]
["CORREL",{"$f":"CORREL(G19:G35,H19:H35)","v":1}]
["ERROR CORREL",{"$f":"IF(ISERROR(B14),FALSE,TRUE)","v":true}]
[]
[null,null,null,"Raw data",null,"Allowable?","Don't allow blanks or errors",null,null,"Anticipated",null,null,"CountryHighlight",null,null,null,null,null,"Labels",null,null,null,"Base (unhighlighted)",null,null,"Highlighted"]
["Country_ID","Country","STATUS","X","Y",null,"X","Y",null,"Y","Diff",null,null,"CountryID","Label","X","Y",null,"Include?","X","Y",null,"X","Y",null,"X","Y"]
[1,{"$f":"tblTerritories!F3","v":"Australia"},{"$f":"tblTerritories!G3","v":1},{"$f":"IF($C19=0,NA(),INDEX(aScores,$B$1,$A19))","v":85.203537454070016},{"$f":"IF($C19=0,NA(),INDEX(aScores,$B$2,$A19))","v":85.203537454070016},{"$f":"AND(ISNUMBER(D19),ISNUMBER(E19))","v":true},{"$f":"IF($F19,D19,\"\")","v":85.203537454070016},{"$f":"IF($F19,E19,\"\")","v":85.203537454070016},null,{"$f":"IF(G19=\"\",\"\",(G19*$B$12)+$B$13)","v":85.203537454070016},{"$f":"IF(J19=\"\",\"\",H19-J19)","v":0},null,null,{"$f":"B3","v":0},{"$f":"IF($B$3=0,\"<none>\",INDEX(luCities,$B$3))","v":"<none>"},{"$f":"IF($B$3=0,NA(),INDEX(G19:G35,$B$3))","v":{"$error":"#N/A"}},{"$f":"IF($B$3=0,NA(),INDEX(H19:H35,$B$3))","v":{"$error":"#N/A"}},null,{"$f":"IF(NOT($B$4),0,IF(OR(A19=$N$19,A19=$N$23,A19=$N$27),0,IF(AND(C19<3,F19),1,0)))","v":0},{"$f":"IF($S19=0,NA(),G19)","v":{"$error":"#N/A"}},{"$error":"#N/A"},null,{"$f":"IF(AND($C19>0,$F19),G19,NA())","v":85.203537454070016},85.203537454070016,null,{"$f":"IF(AND($C19=2,$F19),G19,NA())","v":{"$error":"#N/A"}},{"$error":"#N/A"}]
[2,{"$f":"tblTerritories!F4","v":"Cambodia"},{"$f":"tblTerritories!G4","v":1},23.921744324970128,23.921744324970128,{"$f":"AND(ISNUMBER(D20),ISNUMBER(E20))","v":true},{"$f":"IF($F20,D20,\"\")","v":23.921744324970128},{"$f":"IF($F20,E20,\"\")","v":23.921744324970128},null,{"$f":"IF(G20=\"\",\"\",(G20*$B$12)+$B$13)","v":23.921744324970128},{"$f":"IF(J20=\"\",\"\",H20-J20)","v":0},null,null,null,null,null,null,null,{"$f":"IF(NOT($B$4),0,IF(OR(A20=$N$19,A20=$N$23,A20=$N$27),0,IF(AND(C20<3,F20),1,0)))","v":0},{"$f":"IF($S20=0,NA(),G20)","v":{"$error":"#N/A"}},{"$f":"IF($S20=0,NA(),H20)","v":{"$error":"#N/A"}},null,{"$f":"IF(AND($C20>0,$F20),G20,NA())","v":23.921744324970128},{"$f":"IF(AND($C20>0,$F20),H20,NA())","v":23.921744324970128},null,{"$f":"IF(AND($C20=2,$F20),G20,NA())","v":{"$error":"#N/A"}},{"$f":"IF(AND($C20=2,$F20),H20,NA())","v":{"$error":"#N/A"}}]
[3,{"$f":"tblTerritories!F5","v":"China"},{"$f":"tblTerritories!G5","v":1},61.576553729627371,61.576553729627371,true,61.576553729627371,61.576553729627371,null,61.576553729627371,0,null,"Max Outlier",null,null,null,null,null,0,{"$error":"#N/A"},{"$error":"#N/A"},null,61.576553729627371,61.576553729627371,null,{"$error":"#N/A"},{"$error":"#N/A"}]
[4,{"$f":"tblTerritories!F6","v":"Hong Kong"},{"$f":"tblTerritories!G6","v":1},81.408892382948977,81.408892382948977,true,81.408892382948977,81.408892382948977,null,81.408892382948977,0,null,"Target","CountryID","Label","X","Y",null,0,{"$error":"#N/A"},{"$error":"#N/A"},null,81.408892382948977,81.408892382948977,null,{"$error":"#N/A"},{"$error":"#N/A"}]
[5,{"$f":"tblTerritories!F7","v":"India"},{"$f":"tblTerritories!G7","v":1},54.142809844232545,54.142809844232545,true,54.142809844232545,54.142809844232545,null,54.142809844232545,0,null,{"$f":"MAX(K19:K35)","v":0},{"$f":"IF(B15,IF($B$5,MATCH(M23,K19:K35,0),0),0)","v":0},{"$f":"IF(AND($B$15,$B$5,N23<>N19),INDEX(B19:B35,$N23),NA())","v":{"$error":"#N/A"}},{"$f":"IF(AND($B$15,$B$5,N23<>N19),INDEX(G19:G35,$N23),NA())","v":{"$error":"#N/A"}},{"$f":"IF(AND($B$15,$B$5,N23<>N19),INDEX(H19:H35,$N23),NA())","v":{"$error":"#N/A"}},null,0,{"$error":"#N/A"},{"$error":"#N/A"},null,54.142809844232545,54.142809844232545,null,{"$error":"#N/A"},{"$error":"#N/A"}]
[6,{"$f":"tblTerritories!F8","v":"Indonesia"},{"$f":"tblTerritories!G8","v":1},46.066240616757959,46.066240616757959,true,46.066240616757959,46.066240616757959,null,46.066240616757959,0,null,null,null,null,null,null,null,0,{"$error":"#N/A"},{"$error":"#N/A"},null,46.066240616757959,46.066240616757959,null,{"$error":"#N/A"},{"$error":"#N/A"}]
[7,{"$f":"tblTerritories!F9","v":"Japan"},{"$f":"tblTerritories!G9","v":1},75.85877093618268,75.85877093618268,true,75.85877093618268,75.85877093618268,null,75.85877093618268,0,null,"Min Outlier",null,null,null,null,null,0,{"$error":"#N/A"},{"$error":"#N/A"},null,75.85877093618268,75.85877093618268,null,{"$error":"#N/A"},{"$error":"#N/A"}]
[8,{"$f":"tblTerritories!F10","v":"Laos "},{"$f":"tblTerritories!G10","v":1},12.935185185185183,12.935185185185183,true,12.935185185185183,12.935185185185183,null,12.935185185185183,0,null,"Target","CountryID","Label","X","Y",null,0,{"$error":"#N/A"},{"$error":"#N/A"},null,12.935185185185183,12.935185185185183,null,{"$error":"#N/A"},{"$error":"#N/A"}]
[9,{"$f":"tblTerritories!F11","v":"Malaysia"},{"$f":"tblTerritories!G11","v":1},71.800162304727124,71.800162304727124,true,71.800162304727124,71.800162304727124,null,71.800162304727124,0,null,{"$f":"MIN(K19:K35)","v":0},{"$f":"IF(B15,IF($B$5,MATCH(M27,K19:K35,0),0),0)","v":0},{"$f":"IF(AND($B$15,$B$5,N27<>N19),INDEX(B19:B35,$N27),NA())","v":{"$error":"#N/A"}},{"$f":"IF(AND($B$5,$B$15,N27<>N19),INDEX(G19:G35,$N27),NA())","v":{"$error":"#N/A"}},{"$f":"IF(AND($B$5,$B$15,N27<>N19),INDEX(H19:H35,$N27),NA())","v":{"$error":"#N/A"}},null,0,{"$error":"#N/A"},{"$error":"#N/A"},null,71.800162304727124,71.800162304727124,null,{"$error":"#N/A"},{"$error":"#N/A"}]
[10,{"$f":"tblTerritories!F12","v":"Myanmar"},{"$f":"tblTerritories!G12","v":1},10.82037037037037,10.82037037037037,true,10.82037037037037,10.82037037037037,null,10.82037037037037,0,null,null,null,null,null,null,null,0,{"$error":"#N/A"},{"$error":"#N/A"},null,10.82037037037037,10.82037037037037,null,{"$error":"#N/A"},{"$error":"#N/A"}]
[11,{"$f":"tblTerritories!F13","v":"New Zealand"},{"$f":"tblTerritories!G13","v":1},81.806219145195101,81.806219145195101,true,81.806219145195101,81.806219145195101,null,81.806219145195101,0,null,null,null,null,null,null,null,0,{"$error":"#N/A"},{"$error":"#N/A"},null,81.806219145195101,81.806219145195101,null,{"$error":"#N/A"},{"$error":"#N/A"}]
[12,{"$f":"tblTerritories!F14","v":"Philippines"},{"$f":"tblTerritories!G14","v":1},50.411355131759876,50.411355131759876,true,50.411355131759876,50.411355131759876,null,50.411355131759876,0,null,null,null,null,null,null,null,0,{"$error":"#N/A"},{"$error":"#N/A"},null,50.411355131759876,50.411355131759876,null,{"$error":"#N/A"},{"$error":"#N/A"}]
[13,{"$f":"tblTerritories!F15","v":"Singapore"},{"$f":"tblTerritories!G15","v":1},69.755110062893081,69.755110062893081,true,69.755110062893081,69.755110062893081,null,69.755110062893081,0,null,null,null,null,null,null,null,0,{"$error":"#N/A"},{"$error":"#N/A"},null,69.755110062893081,69.755110062893081,null,{"$error":"#N/A"},{"$error":"#N/A"}]
[14,{"$f":"tblTerritories!F16","v":"South Korea"},{"$f":"tblTerritories!G16","v":1},71.827356799891803,71.827356799891803,true,71.827356799891803,71.827356799891803,null,71.827356799891803,0,null,null,null,null,null,null,null,0,{"$error":"#N/A"},{"$error":"#N/A"},null,71.827356799891803,71.827356799891803,null,{"$error":"#N/A"},{"$error":"#N/A"}]
[15,{"$f":"tblTerritories!F17","v":"Taiwan"},{"$f":"tblTerritories!G17","v":1},69.814499222289854,69.814499222289854,true,69.814499222289854,69.814499222289854,null,69.814499222289854,0,null,null,null,null,null,null,null,0,{"$error":"#N/A"},{"$error":"#N/A"},null,69.814499222289854,69.814499222289854,null,{"$error":"#N/A"},{"$error":"#N/A"}]
[16,{"$f":"tblTerritories!F18","v":"Thailand"},{"$f":"tblTerritories!G18","v":1},53.103021234868464,53.103021234868464,true,53.103021234868464,53.103021234868464,null,53.103021234868464,0,null,null,null,null,null,null,null,0,{"$error":"#N/A"},{"$error":"#N/A"},null,53.103021234868464,53.103021234868464,null,{"$error":"#N/A"},{"$error":"#N/A"}]
[17,{"$f":"tblTerritories!F19","v":"Vietnam "},{"$f":"tblTerritories!G19","v":1},49.355062724014331,49.355062724014331,true,49.355062724014331,49.355062724014331,null,49.355062724014331,0,null,null,null,null,null,null,null,0,{"$error":"#N/A"},{"$error":"#N/A"},null,49.355062724014331,49.355062724014331,null,{"$error":"#N/A"},{"$error":"#N/A"}]

{"sheet":"Scatter","index":18,"n_rows":7,"n_cols":21,"rows_kept":7,"cut":false,"hidden":true,"merged":[[6,2,6,3]]}
[]
[]
[]
[null,{"$f":"iScatter!G1","v":"OVERALL SCORE"},null,null,null,null,null,null,null,null,null,null,null,null,null,null,null,null,null,null,{"$f":"iScatter!$G$2","v":"OVERALL SCORE"}]
[null,{"$f":"iScatter!F1","v":"Index score/number"},null,null,null,null,null,null,null,null,null,null,null,null,null,null,null,null,null,null,{"$f":"iScatter!F2","v":"Index score/number"}]
[]
[null,"CORRELATION(X,Y)",{"$f":"IF(ISERROR(iScatter!B14),\"n/a\",iScatter!B14)","v":1}]

{"sheet":"iCountryP","index":19,"n_rows":35,"n_cols":39,"rows_kept":35,"cut":false,"hidden":true,"merged":[]}
["Country_COUNT",{"$f":"uxb_works!B1","v":17}]
[{"$f":"uxb_works!A19","v":"CITY1_ID"},{"$f":"uxb_works!B19","v":1},{"$f":"uxb_works!C19","v":"Australia"}]
[]
[]
[]
[null,null,null,null,null,null,null,{"$f":"CONCATENATE(\"Rank / \",B1)","v":"Rank / 17"},"Score / 100","Rank","Rank Equality","Average",null,null,null,null,null,null,null,null,null,null,null,null,null,null,null,null,null,null,null,null,null,{"$f":"$C$2","v":"Australia"},"Average","Highest","Lowest",null,{"$f":"$C$2","v":"Australia"}]
[]
[{"$f":"tblIndiSets!A5","v":"TOTAL"},{"$f":"tblIndiSets!B5","v":1},null,null,{"$f":"tblIndiSets!C5","v":"OVERALL SCORE"},null,null,{"$f":"IF(K8>1,CONCATENATE(\"=\",J8),J8)","v":1},{"$f":"INDEX(aRoundedScores,B8,$B$2)","v":85.2},{"$f":"RANK(I8,OFFSET(aRoundedScores,B8-1,0,1,$B$1))","v":1},{"$f":"COUNTIF(OFFSET(aRoundedScores,B8-1,0,1,$B$1),I8)","v":1},{"$f":"AVERAGE(OFFSET(aRoundedScores,B8-1,0,1,$B$1))","v":57.047058823529397},null,null,null,{"$f":"U15","v":"Higher Band (scores >=66)"},{"$f":"Y15","v":"Modest Band (scores >33-65)"},{"$f":"AC15","v":"Lower Band (scores <=33)"},null,null,null,null,null,null,null,null,null,null,null,null,null,null,null,{"$f":"INDEX(aScores,$B8,$B$2)","v":85.203537454070016},{"$f":"(AVERAGE(OFFSET(aScores,$B8-1,0,1,$B$1)))","v":57.047464204116771},{"$f":"(MAX(OFFSET(aScores,$B8-1,0,1,$B$1)))","v":85.203537454070016},{"$f":"(MIN(OFFSET(aScores,$B8-1,0,1,$B$1)))","v":10.82037037037037},null,{"$f":"INDEX(aScores,$B8,$B$2)","v":85.203537454070016}]
[{"$f":"tblIndiSets!A6","v":"IP"},{"$f":"tblIndiSets!B6","v":2},null,null,{"$f":"tblIndiSets!C6","v":"1) INTELLECTUAL PROPERTY"},null,null,{"$f":"IF(K9>1,CONCATENATE(\"=\",J9),J9)","v":"=1"},100,1,2,51.764705882352942,null,null,null,{"$f":"COUNT(P17:P35)","v":11},{"$f":"COUNT(Q17:Q35)","v":2},{"$f":"COUNT(R17:R35)","v":1},null,null,null,null,null,null,null,null,null,null,null,null,null,null,null,100,51.764705882352942,100,0,null,100]
[{"$f":"tblIndiSets!A7","v":"TT"},{"$f":"tblIndiSets!B7","v":5},null,null,{"$f":"tblIndiSets!C7","v":"2) TRANSPARENCY AND TRADE"},null,null,4,81.5,4,1,60.370588235294115,null,null,null,null,null,null,null,null,null,null,null,null,null,null,null,null,null,null,null,null,null,81.5,60.355882352941173,93.5,11.000000000000002,null,81.5]
[{"$f":"tblIndiSets!A8","v":"CE"},{"$f":"tblIndiSets!B8","v":10},null,null,{"$f":"tblIndiSets!C8","v":"3) CUSTOMS ENVIRONMENT"},null,null,2,88,2,1,59.199999999999989,null,null,null,null,null,null,null,null,null,null,null,null,null,null,null,null,null,null,null,null,null,88.01785351998376,59.206523483133708,89.937106918238982,0,null,88.01785351998376]
[{"$f":"tblIndiSets!A9","v":"SD"},{"$f":"tblIndiSets!B9","v":16},null,null,{"$f":"tblIndiSets!C9","v":"4) SUPPLY AND DEMAND"},null,null,5,71.3,5,1,56.858823529411758,null,null,null,null,null,null,null,null,null,null,null,null,null,null,null,null,null,null,null,null,null,71.296296296296291,56.862745098039213,92.592592592592581,20.370370370370367,null,71.296296296296291]
[]
[null,null,null,null,null,null,null,null,null,null,null,null,null,null,null,0,{"$f":"2*R14","v":66.666666666666671},{"$f":"100/3","v":33.333333333333336}]
[null,null,null,null,null,null,null,null,null,null,null,null,{"$f":"uxb_works!A16","v":"INDI_OR_SUB_INDI"},{"$f":"uxb_works!B16","v":false},null,3,2,1,null,null,"Higher Band (scores >=66)",null,null,null,"Modest Band (scores >33-65)",null,null,null,"Lower Band (scores <=33)"]
[null,null,null,"Date",null,null,"Rank","Rank equal",{"$f":"CONCATENATE(\"Rank / \",$B$1)","v":"Rank / 17"},"Score / 100",null,null,"Data","Band",null,0,0,0]
[{"$f":"tblIndicators!D2","v":"TOTAL"},{"$f":"tblIndicators!A2","v":1},{"$f":"IF(B17=\"\",0,INDEX(tblIndicators!$F$2:$F$20,$B17))","v":0},{"$f":"tblIndicators!P2","v":"Index score/number"},{"$f":"IF(B17=\"\",\"\",IF(C17>=2,TRIM(INDEX(tblIndicators!$AB$2:$AB$20,iCountryP!$B17)),UPPER(INDEX(tblIndicators!$AB$2:$AB$20,iCountryP!$B17))))","v":"OVERALL SCORE"},{"$f":"IF(B17=\"\",\"\",INDEX(tblIndicators!$P$2:$P20,iCountryP!$B17))","v":"Index score/number"},{"$f":"IF(B17=\"\",\"\",RANK(J17,OFFSET(aScores,B17-1,0,1,$B$1)))","v":1},{"$f":"IF(B17=\"\",\"\",COUNTIF(OFFSET(aScores,B17-1,0,1,$B$1),J17))","v":1},{"$f":"H8","v":1},{"$f":"IF(B17=\"\",\"\",INDEX(aScores,B17,$B$2))","v":85.203537454070016},{"$f":"IF(B17=\"\",\"\",REPT(\"|\",J17/3))","v":"||||||||||||||||||||||||||||"},null,{"$f":"IF(B17=\"\",\"\",IF(C17<2,\"\",INDEX(aData,B17,$B$2)))","v":""},{"$f":"IF(B17=\"\",\"\",IF($N$15,IF(C17<3,0,IF(J17>=Q$14,3,IF(J17>=R$14,2,1))),IF(C17<>2,0,IF(J17>=Q$14,3,IF(J17>=R$14,2,1)))))","v":0},{"$f":"tblIndicators!S2","v":"0.0"},{"$f":"P16+MATCH(P$15,OFFSET($N$17:$N$35,P16,0),0)","v":3},{"$f":"Q16+MATCH(Q$15,OFFSET($N$17:$N$35,Q16,0),0)","v":9},{"$f":"R16+MATCH(R$15,OFFSET($N$17:$N$35,R16,0),0)","v":11},null,{"$f":"IF(ISNUMBER(V17),1,0)","v":1},{"$f":"IF(ISNUMBER(P17),INDEX($E$17:$E$35,P17),\"\")","v":"1.1) Protection of IP rights"},{"$f":"IF(ISNUMBER(P17),INDEX($J$17:$J$35,P17),\"\")","v":100},null,{"$f":"IF(ISNUMBER(Z17),1,0)","v":1},{"$f":"IF(ISNUMBER(Q17),INDEX($E$17:$E$35,Q17),\"\")","v":"2.4) FTZ governance"},{"$f":"IF(ISNUMBER(Q17),INDEX($J$17:$J$35,Q17),\"\")","v":50},null,{"$f":"IF(ISNUMBER(AD17),1,0)","v":1},{"$f":"IF(ISNUMBER(R17),INDEX($E$17:$E$35,R17),\"\")","v":"3.1) Percentage of shipments physically inspected"},{"$f":"IF(ISNUMBER(R17),INDEX($J$17:$J$35,R17),\"\")","v":3.7735849056603774}]
[{"$f":"tblIndicators!D3","v":"IP"},{"$f":"tblIndicators!A3","v":2},{"$f":"IF(B18=\"\",0,INDEX(tblIndicators!$F$2:$F$20,$B18))","v":1},{"$f":"tblIndicators!P3","v":"Index score/number"},{"$f":"IF(B18=\"\",\"\",IF(C18>=2,TRIM(INDEX(tblIndicators!$AB$2:$AB$20,iCountryP!$B18)),UPPER(INDEX(tblIndicators!$AB$2:$AB$20,iCountryP!$B18))))","v":"1) INTELLECTUAL PROPERTY"},{"$f":"IF(B18=\"\",\"\",INDEX(tblIndicators!$P$2:$P21,iCountryP!$B18))","v":"Index score/number"},{"$f":"IF(B18=\"\",\"\",RANK(J18,OFFSET(aScores,B18-1,0,1,$B$1)))","v":1},{"$f":"IF(B18=\"\",\"\",COUNTIF(OFFSET(aScores,B18-1,0,1,$B$1),J18))","v":2},{"$f":"IF(B18=\"\",\"\",IF(H18>1,CONCATENATE(\"=\",G18),G18))","v":"=1"},{"$f":"IF(B18=\"\",\"\",INDEX(aScores,B18,$B$2))","v":100},{"$f":"IF(B18=\"\",\"\",REPT(\"|\",J18/3))","v":"|||||||||||||||||||||||||||||||||"},null,"",0,{"$f":"tblIndicators!S3","v":"#0.0"},4,19,{"$error":"#N/A"},null,{"$f":"IF(ISNUMBER(V18),1,0)","v":1},"1.2) Customs recordal system",100,null,{"$f":"IF(ISNUMBER(Z18),1,0)","v":1},"4.3) Labour market regulations",50,null,{"$f":"IF(ISNUMBER(AD18),1,0)","v":0},"",""]
[{"$f":"tblIndicators!D4","v":"IP_11"},{"$f":"tblIndicators!A4","v":3},{"$f":"IF(B19=\"\",0,INDEX(tblIndicators!$F$2:$F$20,$B19))","v":2},{"$f":"tblIndicators!P4","v":"Rating"},{"$f":"IF(B19=\"\",\"\",IF(C19>=2,TRIM(INDEX(tblIndicators!$AB$2:$AB$20,iCountryP!$B19)),UPPER(INDEX(tblIndicators!$AB$2:$AB$20,iCountryP!$B19))))","v":"1.1) Protection of IP rights"},{"$f":"IF(B19=\"\",\"\",INDEX(tblIndicators!$P$2:$P22,iCountryP!$B19))","v":"Rating"},{"$f":"IF(B19=\"\",\"\",RANK(J19,OFFSET(aScores,B19-1,0,1,$B$1)))","v":1},{"$f":"IF(B19=\"\",\"\",COUNTIF(OFFSET(aScores,B19-1,0,1,$B$1),J19))","v":3},{"$f":"IF(B19=\"\",\"\",IF(H19>1,CONCATENATE(\"=\",G19),G19))","v":"=1"},{"$f":"IF(B19=\"\",\"\",INDEX(aScores,B19,$B$2))","v":100},{"$f":"IF(B19=\"\",\"\",REPT(\"|\",J19/3))","v":"|||||||||||||||||||||||||||||||||"},null,{"$f":"IF(B19=\"\",\"\",IF(C19<2,\"\",INDEX(aData,B19,$B$2)))","v":0},{"$f":"IF(B19=\"\",\"\",IF($N$15,IF(C19<3,0,IF(J19>=Q$14,3,IF(J19>=R$14,2,1))),IF(C19<>2,0,IF(J19>=Q$14,3,IF(J19>=R$14,2,1)))))","v":3},{"$f":"tblIndicators!S4","v":"#0"},6,{"$error":"#N/A"},{"$error":"#N/A"},null,{"$f":"IF(ISNUMBER(V19),1,0)","v":1},"2.1) Track and trace services",76,null,{"$f":"IF(ISNUMBER(Z19),1,0)","v":0},"","",null,{"$f":"IF(ISNUMBER(AD19),1,0)","v":0},"",""]
[{"$f":"tblIndicators!D5","v":"IP_13"},{"$f":"tblIndicators!A5","v":4},{"$f":"IF(B20=\"\",0,INDEX(tblIndicators!$F$2:$F$20,$B20))","v":2},{"$f":"tblIndicators!P5","v":"Yes/no"},{"$f":"IF(B20=\"\",\"\",IF(C20>=2,TRIM(INDEX(tblIndicators!$AB$2:$AB$20,iCountryP!$B20)),UPPER(INDEX(tblIndicators!$AB$2:$AB$20,iCountryP!$B20))))","v":"1.2) Customs recordal system"},{"$f":"IF(B20=\"\",\"\",INDEX(tblIndicators!$P$2:$P23,iCountryP!$B20))","v":"Yes/no"},{"$f":"IF(B20=\"\",\"\",RANK(J20,OFFSET(aScores,B20-1,0,1,$B$1)))","v":1},{"$f":"IF(B20=\"\",\"\",COUNTIF(OFFSET(aScores,B20-1,0,1,$B$1),J20))","v":9},{"$f":"IF(B20=\"\",\"\",IF(H20>1,CONCATENATE(\"=\",G20),G20))","v":"=1"},{"$f":"IF(B20=\"\",\"\",INDEX(aScores,B20,$B$2))","v":100},{"$f":"IF(B20=\"\",\"\",REPT(\"|\",J20/3))","v":"|||||||||||||||||||||||||||||||||"},null,{"$f":"IF(B20=\"\",\"\",IF(C20<2,\"\",INDEX(aData,B20,$B$2)))","v":1},{"$f":"IF(B20=\"\",\"\",IF($N$15,IF(C20<3,0,IF(J20>=Q$14,3,IF(J20>=R$14,2,1))),IF(C20<>2,0,IF(J20>=Q$14,3,IF(J20>=R$14,2,1)))))","v":3},{"$f":"tblIndicators!S5","v":"#0"},7,{"$error":"#N/A"},{"$error":"#N/A"},null,{"$f":"IF(ISNUMBER(V20),1,0)","v":1},"2.2) Adoption of Annex D of Revised Kyoto Convention",100,null,{"$f":"IF(ISNUMBER(Z20),1,0)","v":0},"","",null,{"$f":"IF(ISNUMBER(AD20),1,0)","v":0},"",""]
[{"$f":"tblIndicators!D6","v":"TT"},{"$f":"tblIndicators!A6","v":5},{"$f":"IF(B21=\"\",0,INDEX(tblIndicators!$F$2:$F$20,$B21))","v":1},{"$f":"tblIndicators!P6","v":"Index score/number"},{"$f":"IF(B21=\"\",\"\",IF(C21>=2,TRIM(INDEX(tblIndicators!$AB$2:$AB$20,iCountryP!$B21)),UPPER(INDEX(tblIndicators!$AB$2:$AB$20,iCountryP!$B21))))","v":"2) TRANSPARENCY AND TRADE"},{"$f":"IF(B21=\"\",\"\",INDEX(tblIndicators!$P$2:$P24,iCountryP!$B21))","v":"Index score/number"},4,1,4,81.5,"|||||||||||||||||||||||||||",null,"",0,{"$f":"tblIndicators!S6","v":"#0.0"},8,{"$error":"#N/A"},{"$error":"#N/A"},null,1,"2.3) Government cooperation",100,null,0,"","",null,0,"",""]
[{"$f":"tblIndicators!D7","v":"TT_21"},{"$f":"tblIndicators!A7","v":6},{"$f":"IF(B22=\"\",0,INDEX(tblIndicators!$F$2:$F$20,$B22))","v":2},{"$f":"tblIndicators!P7","v":"Rating"},{"$f":"IF(B22=\"\",\"\",IF(C22>=2,TRIM(INDEX(tblIndicators!$AB$2:$AB$20,iCountryP!$B22)),UPPER(INDEX(tblIndicators!$AB$2:$AB$20,iCountryP!$B22))))","v":"2.1) Track and trace services"},{"$f":"IF(B22=\"\",\"\",INDEX(tblIndicators!$P$2:$P25,iCountryP!$B22))","v":"Rating"},4,2,"=4",76,"|||||||||||||||||||||||||",null,3.8,3,{"$f":"tblIndicators!S7","v":"#0"},12,{"$error":"#N/A"},{"$error":"#N/A"},null,1,"3.2) Customs clearance and inspection",100,null,0,"","",null,0,"",""]
[{"$f":"tblIndicators!D8","v":"TT_22"},{"$f":"tblIndicators!A8","v":7},{"$f":"IF(B23=\"\",0,INDEX(tblIndicators!$F$2:$F$20,$B23))","v":2},{"$f":"tblIndicators!P8","v":"Yes/no"},{"$f":"IF(B23=\"\",\"\",IF(C23>=2,TRIM(INDEX(tblIndicators!$AB$2:$AB$20,iCountryP!$B23)),UPPER(INDEX(tblIndicators!$AB$2:$AB$20,iCountryP!$B23))))","v":"2.2) Adoption of Annex D of Revised Kyoto Convention"},{"$f":"IF(B23=\"\",\"\",INDEX(tblIndicators!$P$2:$P26,iCountryP!$B23))","v":"Yes/no"},1,12,"=1",100,"|||||||||||||||||||||||||||||||||",null,1,3,{"$f":"tblIndicators!S8","v":"#0"},13,{"$error":"#N/A"},{"$error":"#N/A"},null,1,"3.3) Automation",94.193548387096769,null,0,"","",null,0,"",""]
[{"$f":"tblIndicators!D9","v":"TT_23"},{"$f":"tblIndicators!A9","v":8},{"$f":"IF(B24=\"\",0,INDEX(tblIndicators!$F$2:$F$20,$B24))","v":2},{"$f":"tblIndicators!P9","v":"Yes/no"},{"$f":"IF(B24=\"\",\"\",IF(C24>=2,TRIM(INDEX(tblIndicators!$AB$2:$AB$20,iCountryP!$B24)),UPPER(INDEX(tblIndicators!$AB$2:$AB$20,iCountryP!$B24))))","v":"2.3) Government cooperation"},{"$f":"IF(B24=\"\",\"\",INDEX(tblIndicators!$P$2:$P27,iCountryP!$B24))","v":"Yes/no"},1,9,"=1",100,"|||||||||||||||||||||||||||||||||",null,2,3,{"$f":"tblIndicators!S9","v":"#0"},14,{"$error":"#N/A"},{"$error":"#N/A"},null,1,"3.4) Corruption",100,null,0,"","",null,0,"",""]
[{"$f":"tblIndicators!D10","v":"TT_24"},{"$f":"tblIndicators!A10","v":9},{"$f":"IF(B25=\"\",0,INDEX(tblIndicators!$F$2:$F$20,$B25))","v":2},{"$f":"tblIndicators!P10","v":"Rating"},{"$f":"IF(B25=\"\",\"\",IF(C25>=2,TRIM(INDEX(tblIndicators!$AB$2:$AB$20,iCountryP!$B25)),UPPER(INDEX(tblIndicators!$AB$2:$AB$20,iCountryP!$B25))))","v":"2.4) FTZ governance"},{"$f":"IF(B25=\"\",\"\",INDEX(tblIndicators!$P$2:$P28,iCountryP!$B25))","v":"Rating"},8,4,"=8",50,"||||||||||||||||",null,2,2,{"$f":"tblIndicators!S10","v":"#0"},15,{"$error":"#N/A"},{"$error":"#N/A"},null,1,"3.5) Accredited Economic Operator programme",100,null,0,"","",null,0,"",""]
[{"$f":"tblIndicators!D11","v":"CE"},{"$f":"tblIndicators!A11","v":10},{"$f":"IF(B26=\"\",0,INDEX(tblIndicators!$F$2:$F$20,$B26))","v":1},{"$f":"tblIndicators!P11","v":"Index score/number"},{"$f":"IF(B26=\"\",\"\",IF(C26>=2,TRIM(INDEX(tblIndicators!$AB$2:$AB$20,iCountryP!$B26)),UPPER(INDEX(tblIndicators!$AB$2:$AB$20,iCountryP!$B26))))","v":"3) CUSTOMS ENVIRONMENT"},{"$f":"IF(B26=\"\",\"\",INDEX(tblIndicators!$P$2:$P29,iCountryP!$B26))","v":"Index score/number"},2,1,2,88.01785351998376,"|||||||||||||||||||||||||||||",null,"",0,{"$f":"tblIndicators!S11","v":"#0.0"},17,{"$error":"#N/A"},{"$error":"#N/A"},null,1,"4.1) Tax and social security burdens",75,null,0,"","",null,0,"",""]
[{"$f":"tblIndicators!D12","v":"CE_31"},{"$f":"tblIndicators!A12","v":11},{"$f":"IF(B27=\"\",0,INDEX(tblIndicators!$F$2:$F$20,$B27))","v":2},{"$f":"tblIndicators!P12","v":"%"},{"$f":"IF(B27=\"\",\"\",IF(C27>=2,TRIM(INDEX(tblIndicators!$AB$2:$AB$20,iCountryP!$B27)),UPPER(INDEX(tblIndicators!$AB$2:$AB$20,iCountryP!$B27))))","v":"3.1) Percentage of shipments physically inspected"},{"$f":"IF(B27=\"\",\"\",INDEX(tblIndicators!$P$2:$P30,iCountryP!$B27))","v":"%"},10,3,"=10",3.7735849056603774,"|",null,2,1,{"$f":"tblIndicators!S12","v":"#0"},18,{"$error":"#N/A"},{"$error":"#N/A"},null,1,"4.2) Quality of state institutions",88.888888888888886,null,0,"","",null,0,"",""]
[{"$f":"tblIndicators!D13","v":"CE_32"},{"$f":"tblIndicators!A13","v":12},{"$f":"IF(B28=\"\",0,INDEX(tblIndicators!$F$2:$F$20,$B28))","v":2},{"$f":"tblIndicators!P13","v":"# of days"},{"$f":"IF(B28=\"\",\"\",IF(C28>=2,TRIM(INDEX(tblIndicators!$AB$2:$AB$20,iCountryP!$B28)),UPPER(INDEX(tblIndicators!$AB$2:$AB$20,iCountryP!$B28))))","v":"3.2) Customs clearance and inspection"},{"$f":"IF(B28=\"\",\"\",INDEX(tblIndicators!$P$2:$P31,iCountryP!$B28))","v":"# of days"},1,7,"=1",100,"|||||||||||||||||||||||||||||||||",null,1,3,{"$f":"tblIndicators!S13","v":"#0"},{"$error":"#N/A"},{"$error":"#N/A"},{"$error":"#N/A"},null,0,"","",null,0,"","",null,0,"",""]
[{"$f":"tblIndicators!D14","v":"CE_33"},{"$f":"tblIndicators!A14","v":13},{"$f":"IF(B29=\"\",0,INDEX(tblIndicators!$F$2:$F$20,$B29))","v":2},{"$f":"tblIndicators!P14","v":"Rating"},{"$f":"IF(B29=\"\",\"\",IF(C29>=2,TRIM(INDEX(tblIndicators!$AB$2:$AB$20,iCountryP!$B29)),UPPER(INDEX(tblIndicators!$AB$2:$AB$20,iCountryP!$B29))))","v":"3.3) Automation"},{"$f":"IF(B29=\"\",\"\",INDEX(tblIndicators!$P$2:$P32,iCountryP!$B29))","v":"Rating"},7,2,"=7",94.193548387096769,"|||||||||||||||||||||||||||||||",null,1.71,3,{"$f":"tblIndicators!S14","v":"#0.00"},{"$error":"#N/A"},{"$error":"#N/A"},{"$error":"#N/A"},null,0,"","",null,0,"","",null,0,"",""]
[{"$f":"tblIndicators!D15","v":"CE_34"},{"$f":"tblIndicators!A15","v":14},{"$f":"IF(B30=\"\",0,INDEX(tblIndicators!$F$2:$F$20,$B30))","v":2},{"$f":"tblIndicators!P15","v":"EIU rating"},{"$f":"IF(B30=\"\",\"\",IF(C30>=2,TRIM(INDEX(tblIndicators!$AB$2:$AB$20,iCountryP!$B30)),UPPER(INDEX(tblIndicators!$AB$2:$AB$20,iCountryP!$B30))))","v":"3.4) Corruption"},{"$f":"IF(B30=\"\",\"\",INDEX(tblIndicators!$P$2:$P33,iCountryP!$B30))","v":"EIU rating"},1,3,"=1",100,"|||||||||||||||||||||||||||||||||",null,0,3,{"$f":"tblIndicators!S15","v":"#0"},{"$error":"#N/A"},{"$error":"#N/A"},{"$error":"#N/A"},null,0,"","",null,0,"","",null,0,"",""]
[{"$f":"tblIndicators!D16","v":"CE_35"},{"$f":"tblIndicators!A16","v":15},{"$f":"IF(B31=\"\",0,INDEX(tblIndicators!$F$2:$F$20,$B31))","v":2},{"$f":"tblIndicators!P16","v":"Rating"},{"$f":"IF(B31=\"\",\"\",IF(C31>=2,TRIM(INDEX(tblIndicators!$AB$2:$AB$20,iCountryP!$B31)),UPPER(INDEX(tblIndicators!$AB$2:$AB$20,iCountryP!$B31))))","v":"3.5) Accredited Economic Operator programme"},{"$f":"IF(B31=\"\",\"\",INDEX(tblIndicators!$P$2:$P34,iCountryP!$B31))","v":"Rating"},1,11,"=1",100,"|||||||||||||||||||||||||||||||||",null,3,3,{"$f":"tblIndicators!S16","v":"#0"},{"$error":"#N/A"},{"$error":"#N/A"},{"$error":"#N/A"},null,0,"","",null,0,"","",null,0,"",""]
[{"$f":"tblIndicators!D17","v":"SD"},{"$f":"tblIndicators!A17","v":16},{"$f":"IF(B32=\"\",0,INDEX(tblIndicators!$F$2:$F$20,$B32))","v":1},{"$f":"tblIndicators!P17","v":"Index score/number"},{"$f":"IF(B32=\"\",\"\",IF(C32>=2,TRIM(INDEX(tblIndicators!$AB$2:$AB$20,iCountryP!$B32)),UPPER(INDEX(tblIndicators!$AB$2:$AB$20,iCountryP!$B32))))","v":"4) SUPPLY AND DEMAND"},{"$f":"IF(B32=\"\",\"\",INDEX(tblIndicators!$P$2:$P35,iCountryP!$B32))","v":"Index score/number"},5,1,5,71.296296296296291,"|||||||||||||||||||||||",null,"",0,{"$f":"tblIndicators!S17","v":"#0.0"},{"$error":"#N/A"},{"$error":"#N/A"},{"$error":"#N/A"},null,0,"","",null,0,"","",null,0,"",""]
[{"$f":"tblIndicators!D18","v":"SD_41"},{"$f":"tblIndicators!A18","v":17},{"$f":"IF(B33=\"\",0,INDEX(tblIndicators!$F$2:$F$20,$B33))","v":2},{"$f":"tblIndicators!P18","v":"EIU rating"},{"$f":"IF(B33=\"\",\"\",IF(C33>=2,TRIM(INDEX(tblIndicators!$AB$2:$AB$20,iCountryP!$B33)),UPPER(INDEX(tblIndicators!$AB$2:$AB$20,iCountryP!$B33))))","v":"4.1) Tax and social security burdens"},{"$f":"IF(B33=\"\",\"\",INDEX(tblIndicators!$P$2:$P36,iCountryP!$B33))","v":"EIU rating"},3,5,"=3",75,"|||||||||||||||||||||||||",null,4,3,{"$f":"tblIndicators!S18","v":"#0"},{"$error":"#N/A"},{"$error":"#N/A"},{"$error":"#N/A"},null,0,"","",null,0,"","",null,0,"",""]
[{"$f":"tblIndicators!D19","v":"SD_42"},{"$f":"tblIndicators!A19","v":18},{"$f":"IF(B34=\"\",0,INDEX(tblIndicators!$F$2:$F$20,$B34))","v":2},{"$f":"tblIndicators!P19","v":"EIU rating"},{"$f":"IF(B34=\"\",\"\",IF(C34>=2,TRIM(INDEX(tblIndicators!$AB$2:$AB$20,iCountryP!$B34)),UPPER(INDEX(tblIndicators!$AB$2:$AB$20,iCountryP!$B34))))","v":"4.2) Quality of state institutions"},{"$f":"IF(B34=\"\",\"\",INDEX(tblIndicators!$P$2:$P37,iCountryP!$B34))","v":"EIU rating"},3,1,3,88.888888888888886,"|||||||||||||||||||||||||||||",null,9,3,{"$f":"tblIndicators!S19","v":"#0"},{"$error":"#N/A"},{"$error":"#N/A"},{"$error":"#N/A"},null,0,"","",null,0,"","",null,0,"",""]
[{"$f":"tblIndicators!D20","v":"SD_43"},{"$f":"tblIndicators!A20","v":19},{"$f":"IF(B35=\"\",0,INDEX(tblIndicators!$F$2:$F$20,$B35))","v":2},{"$f":"tblIndicators!P20","v":"EIU rating"},{"$f":"IF(B35=\"\",\"\",IF(C35>=2,TRIM(INDEX(tblIndicators!$AB$2:$AB$20,iCountryP!$B35)),UPPER(INDEX(tblIndicators!$AB$2:$AB$20,iCountryP!$B35))))","v":"4.3) Labour market regulations"},{"$f":"IF(B35=\"\",\"\",INDEX(tblIndicators!$P$2:$P38,iCountryP!$B35))","v":"EIU rating"},7,8,"=7",50,"||||||||||||||||",null,3,2,{"$f":"tblIndicators!S20","v":"#0"},{"$error":"#N/A"},{"$error":"#N/A"},{"$error":"#N/A"},null,0,"","",null,0,"","",null,0,"",""]

{"sheet":"CountryProfile","index":20,"n_rows":72,"n_cols":425,"rows_kept":72,"cut":false,"hidden":true,"merged":[[11,2,11,4],[12,2,12,4],[13,2,13,4],[17,2,17,4],[18,2,18,4],[52,2,53,3],[52,7,53,8],[52,12,53,13],[16,2,16,4],[14,2,14,4],[15,2,15,4],[19,2,19,4]]}
[]
[]
[null,null,{"$f":"UPPER(uxb_works!C19)","v":"AUSTRALIA"}]
[null,null,null,{"$f":"iCountryP!H6","v":"Rank / 17"},{"$f":"iCountryP!I6","v":"Score / 100"}]
[null,null,{"$f":"iCountryP!E8","v":"OVERALL SCORE"},{"$f":"iCountryP!H8","v":1},{"$f":"iCountryP!I8","v":85.2}]
[null,null,{"$f":"iCountryP!E9","v":"1) INTELLECTUAL PROPERTY"},{"$f":"iCountryP!H9","v":"=1"},{"$f":"iCountryP!I9","v":100},null,null,null,null,null,null,null,null,null,null,null,null,null,null,null,null,null,null,null,null,null,null,null,null,null,null,null,null,null,null,null,null,null,null,null,null,null,null,null,null,null,null,null,null,null,null,null,null,null,null,null,null,null,null,null,null,null,null,null,null,null,null,null,null,null,null,null,null,null,null,null,null,null,null,null,null,null,null,null,null,null,null,null,null,null,null,null,null,null,null,null,null,null,null,null,null,null,null,null,null,null,null,null,null,null,null,null,null,null,null,null,null,null,null,null,null,null,null,null,null,null,null,null,null,null,null,null,null,null,null,null,null,null,null,null,null,null,null,null,null,null,null,null,null,null,null,null,null,null,null,null,null,null,null,null,null,null,null,null,null,null,null,null,null,null,null,null,null,null,null,null,null,null,null,null,null,null,null,null,null,null,null,null,null,null,null,null,null,null,null,null,null,null,null,null,null,null,null,null,null,null,null,null,null,null,null,null,null,null,null,null,null,null,null,null,null,null,null,null,null,null,null,null,null,null,null,null,null,null,null,null,null,null,null,null,null,null,null,null,null,null,null,null,null,null,null,null,null,null,null,null,null,null,null,null,null,null,null,null,null,null,null,null,null,null,null,null,null,null,null,null,null,null,null,null,null,null,null,null,null,null,null,null,null,null,null,null,null,null,null,null,null,null,null,null,null,null,null,null,null,null,null,null,null,null,null,null,null,null,null,null,null,null,null,null,null,null,null,null,null,null,null,null,null,null,null,null,null,null,null,null,null,null,null,null,null,null,null,null,null,null,null,null,null,null,null,null,null,null,null,null,null,null,null,null,null,null,null,null,null,null,null,null,null,null,null,null,null,null,null,null,null,null,null,null,null,null,null,null,null,null,null,null,null,null,null,null,null,null,null,null,null,null,null,null,null,null,null,null,null,null,null,null,null,null,null,null,null,null,null,null,null,null,null,null,null,null,null,null,{"$f":"Q6","v":0}]
[null,null,{"$f":"iCountryP!E10","v":"2) TRANSPARENCY AND TRADE"},{"$f":"iCountryP!H10","v":4},{"$f":"iCountryP!I10","v":81.5},null,null,null,null,null,null,null,null,null,null,null,null,null,null,null,null,null,null,null,null,null,null,null,null,null,null,null,null,null,null,null,null,null,null,null,null,null,null,null,null,null,null,null,null,null,null,null,null,null,null,null,null,null,null,null,null,null,null,null,null,null,null,null,null,null,null,null,null,null,null,null,null,null,null,null,null,null,null,null,null,null,null,null,null,null,null,null,null,null,null,null,null,null,null,null,null,null,null,null,null,null,null,null,null,null,null,null,null,null,null,null,null,null,null,null,null,null,null,null,null,null,null,null,null,null,null,null,null,null,null,null,null,null,null,null,null,null,null,null,null,null,null,null,null,null,null,null,null,null,null,null,null,null,null,null,null,null,null,null,null,null,null,null,null,null,null,null,null,null,null,null,null,null,null,null,null,null,null,null,null,null,null,null,null,null,null,null,null,null,null,null,null,null,null,null,null,null,null,null,null,null,null,null,null,null,null,null,null,null,null,null,null,null,null,null,null,null,null,null,null,null,null,null,null,null,null,null,null,null,null,null,null,null,null,null,null,null,null,null,null,null,null,null,null,null,null,null,null,null,null,null,null,null,null,null,null,null,null,null,null,null,null,null,null,null,null,null,null,null,null,null,null,null,null,null,null,null,null,null,null,null,null,null,null,null,null,null,null,null,null,null,null,null,null,null,null,null,null,null,null,null,null,null,null,null,null,null,null,null,null,null,null,null,null,null,null,null,null,null,null,null,null,null,null,null,null,null,null,null,null,null,null,null,null,null,null,null,null,null,null,null,null,null,null,null,null,null,null,null,null,null,null,null,null,null,null,null,null,null,null,null,null,null,null,null,null,null,null,null,null,null,null,null,null,null,null,null,null,null,null,null,null,null,null,null,null,null,null,null,null,null,null,null,null,null,null,null,null,null,null,null,null,null,null,null,null,null,null,null,null,null,null,null,null,null,null,null,null,null,{"$f":"Q7","v":0}]
[null,null,{"$f":"iCountryP!E11","v":"3) CUSTOMS ENVIRONMENT"},{"$f":"iCountryP!H11","v":2},{"$f":"iCountryP!I11","v":88},null,null,null,null,null,null,null,null,null,null,null,null,null,null,null,null,null,null,null,null,null,null,null,null,null,null,null,null,null,null,null,null,null,null,null,null,null,null,null,null,null,null,null,null,null,null,null,null,null,null,null,null,null,null,null,null,null,null,null,null,null,null,null,null,null,null,null,null,null,null,null,null,null,null,null,null,null,null,null,null,null,null,null,null,null,null,null,null,null,null,null,null,null,null,null,null,null,null,null,null,null,null,null,null,null,null,null,null,null,null,null,null,null,null,null,null,null,null,null,null,null,null,null,null,null,null,null,null,null,null,null,null,null,null,null,null,null,null,null,null,null,null,null,null,null,null,null,null,null,null,null,null,null,null,null,null,null,null,null,null,null,null,null,null,null,null,null,null,null,null,null,null,null,null,null,null,null,null,null,null,null,null,null,null,null,null,null,null,null,null,null,null,null,null,null,null,null,null,null,null,null,null,null,null,null,null,null,null,null,null,null,null,null,null,null,null,null,null,null,null,null,null,null,null,null,null,null,null,null,null,null,null,null,null,null,null,null,null,null,null,null,null,null,null,null,null,null,null,null,null,null,null,null,null,null,null,null,null,null,null,null,null,null,null,null,null,null,null,null,null,null,null,null,null,null,null,null,null,null,null,null,null,null,null,null,null,null,null,null,null,null,null,null,null,null,null,null,null,null,null,null,null,null,null,null,null,null,null,null,null,null,null,null,null,null,null,null,null,null,null,null,null,null,null,null,null,null,null,null,null,null,null,null,null,null,null,null,null,null,null,null,null,null,null,null,null,null,null,null,null,null,null,null,null,null,null,null,null,null,null,null,null,null,null,null,null,null,null,null,null,null,null,null,null,null,null,null,null,null,null,null,null,null,null,null,null,null,null,null,null,null,null,null,null,null,null,null,null,null,null,null,null,null,null,null,null,null,null,null,null,null,null,null,null,null,null,null,null,null,0]
[null,null,{"$f":"iCountryP!E12","v":"4) SUPPLY AND DEMAND"},{"$f":"iCountryP!H12","v":5},{"$f":"iCountryP!I12","v":71.3},null,null,null,null,null,null,null,null,null,null,null,null,null,null,null,null,null,null,null,null,null,null,null,null,null,null,null,null,null,null,null,null,null,null,null,null,null,null,null,null,null,null,null,null,null,null,null,null,null,null,null,null,null,null,null,null,null,null,null,null,null,null,null,null,null,null,null,null,null,null,null,null,null,null,null,null,null,null,null,null,null,null,null,null,null,null,null,null,null,null,null,null,null,null,null,null,null,null,null,null,null,null,null,null,null,null,null,null,null,null,null,null,null,null,null,null,null,null,null,null,null,null,null,null,null,null,null,null,null,null,null,null,null,null,null,null,null,null,null,null,null,null,null,null,null,null,null,null,null,null,null,null,null,null,null,null,null,null,null,null,null,null,null,null,null,null,null,null,null,null,null,null,null,null,null,null,null,null,null,null,null,null,null,null,null,null,null,null,null,null,null,null,null,null,null,null,null,null,null,null,null,null,null,null,null,null,null,null,null,null,null,null,null,null,null,null,null,null,null,null,null,null,null,null,null,null,null,null,null,null,null,null,null,null,null,null,null,null,null,null,null,null,null,null,null,null,null,null,null,null,null,null,null,null,null,null,null,null,null,null,null,null,null,null,null,null,null,null,null,null,null,null,null,null,null,null,null,null,null,null,null,null,null,null,null,null,null,null,null,null,null,null,null,null,null,null,null,null,null,null,null,null,null,null,null,null,null,null,null,null,null,null,null,null,null,null,null,null,null,null,null,null,null,null,null,null,null,null,null,null,null,null,null,null,null,null,null,null,null,null,null,null,null,null,null,null,null,null,null,null,null,null,null,null,null,null,null,null,null,null,null,null,null,null,null,null,null,null,null,null,null,null,null,null,null,null,null,null,null,null,null,null,null,null,null,null,null,null,null,null,null,null,null,null,null,null,null,null,null,null,null,null,null,null,null,null,null,null,null,null,null,null,null,null,null,null,null,null,null,0]
[null,null,null,null,null,null,null,null,null,null,null,null,null,null,null,null,null,null,null,null,null,null,null,null,null,null,null,null,null,null,null,null,null,null,null,null,null,null,null,null,null,null,null,null,null,null,null,null,null,null,null,null,null,null,null,null,null,null,null,null,null,null,null,null,null,null,null,null,null,null,null,null,null,null,null,null,null,null,null,null,null,null,null,null,null,null,null,null,null,null,null,null,null,null,null,null,null,null,null,null,null,null,null,null,null,null,null,null,null,null,null,null,null,null,null,null,null,null,null,null,null,null,null,null,null,null,null,null,null,null,null,null,null,null,null,null,null,null,null,null,null,null,null,null,null,null,null,null,null,null,null,null,null,null,null,null,null,null,null,null,null,null,null,null,null,null,null,null,null,null,null,null,null,null,null,null,null,null,null,null,null,null,null,null,null,null,null,null,null,null,null,null,null,null,null,null,null,null,null,null,null,null,null,null,null,null,null,null,null,null,null,null,null,null,null,null,null,null,null,null,null,null,null,null,null,null,null,null,null,null,null,null,null,null,null,null,null,null,null,null,null,null,null,null,null,null,null,null,null,null,null,null,null,null,null,null,null,null,null,null,null,null,null,null,null,null,null,null,null,null,null,null,null,null,null,null,null,null,null,null,null,null,null,null,null,null,null,null,null,null,null,null,null,null,null,null,null,null,null,null,null,null,null,null,null,null,null,null,null,null,null,null,null,null,null,null,null,null,null,null,null,null,null,null,null,null,null,null,null,null,null,null,null,null,null,null,null,null,null,null,null,null,null,null,null,null,null,null,null,null,null,null,null,null,null,null,null,null,null,null,null,null,null,null,null,null,null,null,null,null,null,null,null,null,null,null,null,null,null,null,null,null,null,null,null,null,null,null,null,null,null,null,null,null,null,null,null,null,null,null,null,null,null,null,null,null,null,null,null,null,null,null,null,null,null,null,null,null,null,null,null,null,null,null,0]
[null,null,null,null,null,null,null,null,null,null,null,null,null,null,null,null,null,null,null,null,null,null,null,null,null,null,null,null,null,null,null,null,null,null,null,null,null,null,null,null,null,null,null,null,null,null,null,null,null,null,null,null,null,null,null,null,null,null,null,null,null,null,null,null,null,null,null,null,null,null,null,null,null,null,null,null,null,null,null,null,null,null,null,null,null,null,null,null,null,null,null,null,null,null,null,null,null,null,null,null,null,null,null,null,null,null,null,null,null,null,null,null,null,null,null,null,null,null,null,null,null,null,null,null,null,null,null,null,null,null,null,null,null,null,null,null,null,null,null,null,null,null,null,null,null,null,null,null,null,null,null,null,null,null,null,null,null,null,null,null,null,null,null,null,null,null,null,null,null,null,null,null,null,null,null,null,null,null,null,null,null,null,null,null,null,null,null,null,null,null,null,null,null,null,null,null,null,null,null,null,null,null,null,null,null,null,null,null,null,null,null,null,null,null,null,null,null,null,null,null,null,null,null,null,null,null,null,null,null,null,null,null,null,null,null,null,null,null,null,null,null,null,null,null,null,null,null,null,null,null,null,null,null,null,null,null,null,null,null,null,null,null,null,null,null,null,null,null,null,null,null,null,null,null,null,null,null,null,null,null,null,null,null,null,null,null,null,null,null,null,null,null,null,null,null,null,null,null,null,null,null,null,null,null,null,null,null,null,null,null,null,null,null,null,null,null,null,null,null,null,null,null,null,null,null,null,null,null,null,null,null,null,null,null,null,null,null,null,null,null,null,null,null,null,null,null,null,null,null,null,null,null,null,null,null,null,null,null,null,null,null,null,null,null,null,null,null,null,null,null,null,null,null,null,null,null,null,null,null,null,null,null,null,null,null,null,null,null,null,null,null,null,null,null,null,null,null,null,null,null,null,null,null,null,null,null,null,null,null,null,null,null,null,null,null,null,null,null,null,null,null,null,null,null,0]
[null,null,null,null,null,null,null,null,null,null,null,null,null,null,null,null,null,null,null,null,null,null,null,null,null,null,{"$f":"C12","v":0}]
[null,null,null,null,null,null,null,null,null,null,null,null,null,null,null,null,null,null,null,null,null,null,null,null,null,null,{"$f":"C13","v":0}]
[null,null,null,null,null,null,null,null,null,null,null,null,null,null,null,null,null,null,null,null,null,null,null,null,null,null,0]
[null,null,null,null,null,null,null,null,null,null,null,null,null,null,null,null,null,null,null,null,null,null,null,null,null,null,0]
[null,null,null,null,null,null,null,null,null,null,null,null,null,null,null,null,null,null,null,null,null,null,null,null,null,null,0]
[null,null,null,null,null,null,null,null,null,null,null,null,null,null,null,null,null,null,null,null,null,null,null,null,null,null,0]
[null,null,null,null,null,null,null,null,null,null,null,null,null,null,null,null,null,null,null,null,null,null,null,null,null,null,0]
[null,null,null,null,null,null,null,null,null,null,null,null,null,null,null,null,null,null,null,null,null,null,null,null,null,null,{"$f":"H1","v":0}]
[]
[]
[null,null,{"$f":"IF(uxb_works!C21,\"Indicator scores table\",\"Bucketed Scores\")","v":"Indicator scores table"}]
[null,null,"Higher scores = favorable","“=” denotes tied score"]
[null,null,"Indicators",{"$f":"iCountryP!I16","v":"Rank / 17"},{"$f":"iCountryP!J16","v":"Score / 100"},null,null,"Score Visualisation","Data",null,null,null,"Unit"]
[null,null,{"$f":"iCountryP!E17","v":"OVERALL SCORE"},{"$f":"iCountryP!I17","v":1},{"$f":"iCountryP!J17","v":85.203537454070016},null,null,{"$f":"iCountryP!K17","v":"||||||||||||||||||||||||||||"},null,null,null,null,{"$f":"iCountryP!F17","v":"Index score/number"}]
[null,{"$f":"iCountryP!C18","v":1},{"$f":"iCountryP!E18","v":"1) INTELLECTUAL PROPERTY"},{"$f":"iCountryP!I18","v":"=1"},{"$f":"iCountryP!J18","v":100},null,null,{"$f":"iCountryP!K18","v":"|||||||||||||||||||||||||||||||||"},{"$f":"TEXT(iCountryP!M18,iCountryP!O18)","v":""},null,null,null,{"$f":"iCountryP!F18","v":"Index score/number"}]
[null,{"$f":"iCountryP!C19","v":2},{"$f":"iCountryP!E19","v":"1.1) Protection of IP rights"},{"$f":"iCountryP!I19","v":"=1"},{"$f":"iCountryP!J19","v":100},null,null,{"$f":"iCountryP!K19","v":"|||||||||||||||||||||||||||||||||"},{"$f":"TEXT(iCountryP!M19,iCountryP!O19)","v":"0"},null,null,null,{"$f":"iCountryP!F19","v":"Rating"}]
[null,{"$f":"iCountryP!C20","v":2},{"$f":"iCountryP!E20","v":"1.2) Customs recordal system"},{"$f":"iCountryP!I20","v":"=1"},{"$f":"iCountryP!J20","v":100},null,null,{"$f":"iCountryP!K20","v":"|||||||||||||||||||||||||||||||||"},{"$f":"TEXT(iCountryP!M20,iCountryP!O20)","v":"1"},null,null,null,{"$f":"iCountryP!F20","v":"Yes/no"}]
[null,{"$f":"iCountryP!C21","v":1},{"$f":"iCountryP!E21","v":"2) TRANSPARENCY AND TRADE"},{"$f":"iCountryP!I21","v":4},{"$f":"iCountryP!J21","v":81.5},null,null,{"$f":"iCountryP!K21","v":"|||||||||||||||||||||||||||"},{"$f":"TEXT(iCountryP!M21,iCountryP!O21)","v":""},null,null,null,{"$f":"iCountryP!F21","v":"Index score/number"}]
[null,{"$f":"iCountryP!C22","v":2},{"$f":"iCountryP!E22","v":"2.1) Track and trace services"},{"$f":"iCountryP!I22","v":"=4"},{"$f":"iCountryP!J22","v":76},null,null,{"$f":"iCountryP!K22","v":"|||||||||||||||||||||||||"},{"$f":"TEXT(iCountryP!M22,iCountryP!O22)","v":"4"},null,null,null,{"$f":"iCountryP!F22","v":"Rating"}]
[null,{"$f":"iCountryP!C23","v":2},{"$f":"iCountryP!E23","v":"2.2) Adoption of Annex D of Revised Kyoto Convention"},{"$f":"iCountryP!I23","v":"=1"},{"$f":"iCountryP!J23","v":100},null,null,{"$f":"iCountryP!K23","v":"|||||||||||||||||||||||||||||||||"},{"$f":"TEXT(iCountryP!M23,iCountryP!O23)","v":"1"},null,null,null,{"$f":"iCountryP!F23","v":"Yes/no"}]
[null,{"$f":"iCountryP!C24","v":2},{"$f":"iCountryP!E24","v":"2.3) Government cooperation"},{"$f":"iCountryP!I24","v":"=1"},{"$f":"iCountryP!J24","v":100},null,null,{"$f":"iCountryP!K24","v":"|||||||||||||||||||||||||||||||||"},{"$f":"TEXT(iCountryP!M24,iCountryP!O24)","v":"2"},null,null,null,{"$f":"iCountryP!F24","v":"Yes/no"}]
[null,{"$f":"iCountryP!C25","v":2},{"$f":"iCountryP!E25","v":"2.4) FTZ governance"},{"$f":"iCountryP!I25","v":"=8"},{"$f":"iCountryP!J25","v":50},null,null,{"$f":"iCountryP!K25","v":"||||||||||||||||"},{"$f":"TEXT(iCountryP!M25,iCountryP!O25)","v":"2"},null,null,null,{"$f":"iCountryP!F25","v":"Rating"}]
[null,{"$f":"iCountryP!C26","v":1},{"$f":"iCountryP!E26","v":"3) CUSTOMS ENVIRONMENT"},{"$f":"iCountryP!I26","v":2},{"$f":"iCountryP!J26","v":88.01785351998376},null,null,{"$f":"iCountryP!K26","v":"|||||||||||||||||||||||||||||"},{"$f":"TEXT(iCountryP!M26,iCountryP!O26)","v":""},null,null,null,{"$f":"iCountryP!F26","v":"Index score/number"}]
[null,{"$f":"iCountryP!C27","v":2},{"$f":"iCountryP!E27","v":"3.1) Percentage of shipments physically inspected"},{"$f":"iCountryP!I27","v":"=10"},{"$f":"iCountryP!J27","v":3.7735849056603774},null,null,{"$f":"iCountryP!K27","v":"|"},{"$f":"TEXT(iCountryP!M27,iCountryP!O27)","v":"2"},null,null,null,{"$f":"iCountryP!F27","v":"%"}]
[null,{"$f":"iCountryP!C28","v":2},{"$f":"iCountryP!E28","v":"3.2) Customs clearance and inspection"},{"$f":"iCountryP!I28","v":"=1"},{"$f":"iCountryP!J28","v":100},null,null,{"$f":"iCountryP!K28","v":"|||||||||||||||||||||||||||||||||"},{"$f":"TEXT(iCountryP!M28,iCountryP!O28)","v":"1"},null,null,null,{"$f":"iCountryP!F28","v":"# of days"}]
[null,{"$f":"iCountryP!C29","v":2},{"$f":"iCountryP!E29","v":"3.3) Automation"},{"$f":"iCountryP!I29","v":"=7"},{"$f":"iCountryP!J29","v":94.193548387096769},null,null,{"$f":"iCountryP!K29","v":"|||||||||||||||||||||||||||||||"},{"$f":"TEXT(iCountryP!M29,iCountryP!O29)","v":"1.71"},null,null,null,{"$f":"iCountryP!F29","v":"Rating"}]
[null,{"$f":"iCountryP!C30","v":2},{"$f":"iCountryP!E30","v":"3.4) Corruption"},{"$f":"iCountryP!I30","v":"=1"},{"$f":"iCountryP!J30","v":100},null,null,{"$f":"iCountryP!K30","v":"|||||||||||||||||||||||||||||||||"},{"$f":"TEXT(iCountryP!M30,iCountryP!O30)","v":"0"},null,null,null,{"$f":"iCountryP!F30","v":"EIU rating"}]
[null,{"$f":"iCountryP!C31","v":2},{"$f":"iCountryP!E31","v":"3.5) Accredited Economic Operator programme"},{"$f":"iCountryP!I31","v":"=1"},{"$f":"iCountryP!J31","v":100},null,null,{"$f":"iCountryP!K31","v":"|||||||||||||||||||||||||||||||||"},{"$f":"TEXT(iCountryP!M31,iCountryP!O31)","v":"3"},null,null,null,{"$f":"iCountryP!F31","v":"Rating"}]
[null,{"$f":"iCountryP!C32","v":1},{"$f":"iCountryP!E32","v":"4) SUPPLY AND DEMAND"},{"$f":"iCountryP!I32","v":5},{"$f":"iCountryP!J32","v":71.296296296296291},null,null,{"$f":"iCountryP!K32","v":"|||||||||||||||||||||||"},{"$f":"TEXT(iCountryP!M32,iCountryP!O32)","v":""},null,null,null,{"$f":"iCountryP!F32","v":"Index score/number"}]
[null,{"$f":"iCountryP!C33","v":2},{"$f":"iCountryP!E33","v":"4.1) Tax and social security burdens"},{"$f":"iCountryP!I33","v":"=3"},{"$f":"iCountryP!J33","v":75},null,null,{"$f":"iCountryP!K33","v":"|||||||||||||||||||||||||"},{"$f":"TEXT(iCountryP!M33,iCountryP!O33)","v":"4"},null,null,null,{"$f":"iCountryP!F33","v":"EIU rating"}]
[null,{"$f":"iCountryP!C34","v":2},{"$f":"iCountryP!E34","v":"4.2) Quality of state institutions"},{"$f":"iCountryP!I34","v":3},{"$f":"iCountryP!J34","v":88.888888888888886},null,null,{"$f":"iCountryP!K34","v":"|||||||||||||||||||||||||||||"},{"$f":"TEXT(iCountryP!M34,iCountryP!O34)","v":"9"},null,null,null,{"$f":"iCountryP!F34","v":"EIU rating"}]
[null,{"$f":"iCountryP!C35","v":2},{"$f":"iCountryP!E35","v":"4.3) Labour market regulations"},{"$f":"iCountryP!I35","v":"=7"},{"$f":"iCountryP!J35","v":50},null,null,{"$f":"iCountryP!K35","v":"||||||||||||||||"},{"$f":"TEXT(iCountryP!M35,iCountryP!O35)","v":"3"},null,null,null,{"$f":"iCountryP!F35","v":"EIU rating"}]
[]
[]
[]
[]
[]
[]
[]
[]
[]
[null,null,{"$f":"iCountryP!U15","v":"Higher Band (scores >=66)"},null,null,null,null,{"$f":"iCountryP!Y15","v":"Modest Band (scores >33-65)"},null,null,null,null,{"$f":"iCountryP!AC15","v":"Lower Band (scores <=33)"}]
[]
[null,{"$f":"iCountryP!T17","v":1},{"$f":"iCountryP!U17","v":"1.1) Protection of IP rights"},{"$f":"iCountryP!V17","v":100},null,null,{"$f":"iCountryP!X17","v":1},{"$f":"iCountryP!Y17","v":"2.4) FTZ governance"},{"$f":"iCountryP!Z17","v":50},null,null,{"$f":"iCountryP!AB17","v":1},{"$f":"iCountryP!AC17","v":"3.1) Percentage of shipments physically inspected"},{"$f":"iCountryP!AD17","v":3.7735849056603774}]
[null,{"$f":"iCountryP!T18","v":1},{"$f":"iCountryP!U18","v":"1.2) Customs recordal system"},{"$f":"iCountryP!V18","v":100},null,null,{"$f":"iCountryP!X18","v":1},{"$f":"iCountryP!Y18","v":"4.3) Labour market regulations"},{"$f":"iCountryP!Z18","v":50},null,null,{"$f":"iCountryP!AB18","v":0},{"$f":"iCountryP!AC18","v":""},{"$f":"iCountryP!AD18","v":""}]
[null,{"$f":"iCountryP!T19","v":1},{"$f":"iCountryP!U19","v":"2.1) Track and trace services"},{"$f":"iCountryP!V19","v":76},null,null,{"$f":"iCountryP!X19","v":0},{"$f":"iCountryP!Y19","v":""},{"$f":"iCountryP!Z19","v":""},null,null,{"$f":"iCountryP!AB19","v":0},{"$f":"iCountryP!AC19","v":""},{"$f":"iCountryP!AD19","v":""}]
[null,{"$f":"iCountryP!T20","v":1},{"$f":"iCountryP!U20","v":"2.2) Adoption of Annex D of Revised Kyoto Convention"},{"$f":"iCountryP!V20","v":100},null,null,{"$f":"iCountryP!X20","v":0},{"$f":"iCountryP!Y20","v":""},{"$f":"iCountryP!Z20","v":""},null,null,{"$f":"iCountryP!AB20","v":0},{"$f":"iCountryP!AC20","v":""},{"$f":"iCountryP!AD20","v":""}]
[null,{"$f":"iCountryP!T21","v":1},{"$f":"iCountryP!U21","v":"2.3) Government cooperation"},{"$f":"iCountryP!V21","v":100},null,null,{"$f":"iCountryP!X21","v":0},{"$f":"iCountryP!Y21","v":""},{"$f":"iCountryP!Z21","v":""},null,null,{"$f":"iCountryP!AB21","v":0},{"$f":"iCountryP!AC21","v":""},{"$f":"iCountryP!AD21","v":""}]
[null,{"$f":"iCountryP!T22","v":1},{"$f":"iCountryP!U22","v":"3.2) Customs clearance and inspection"},{"$f":"iCountryP!V22","v":100},null,null,{"$f":"iCountryP!X22","v":0},{"$f":"iCountryP!Y22","v":""},{"$f":"iCountryP!Z22","v":""},null,null,{"$f":"iCountryP!AB22","v":0},{"$f":"iCountryP!AC22","v":""},{"$f":"iCountryP!AD22","v":""}]
[null,{"$f":"iCountryP!T23","v":1},{"$f":"iCountryP!U23","v":"3.3) Automation"},{"$f":"iCountryP!V23","v":94.193548387096769},null,null,{"$f":"iCountryP!X23","v":0},{"$f":"iCountryP!Y23","v":""},{"$f":"iCountryP!Z23","v":""},null,null,{"$f":"iCountryP!AB23","v":0},{"$f":"iCountryP!AC23","v":""},{"$f":"iCountryP!AD23","v":""}]
[null,{"$f":"iCountryP!T24","v":1},{"$f":"iCountryP!U24","v":"3.4) Corruption"},{"$f":"iCountryP!V24","v":100},null,null,{"$f":"iCountryP!X24","v":0},{"$f":"iCountryP!Y24","v":""},{"$f":"iCountryP!Z24","v":""},null,null,{"$f":"iCountryP!AB24","v":0},{"$f":"iCountryP!AC24","v":""},{"$f":"iCountryP!AD24","v":""}]
[null,{"$f":"iCountryP!T25","v":1},{"$f":"iCountryP!U25","v":"3.5) Accredited Economic Operator programme"},{"$f":"iCountryP!V25","v":100},null,null,{"$f":"iCountryP!X25","v":0},{"$f":"iCountryP!Y25","v":""},{"$f":"iCountryP!Z25","v":""},null,null,{"$f":"iCountryP!AB25","v":0},{"$f":"iCountryP!AC25","v":""},{"$f":"iCountryP!AD25","v":""}]
[null,{"$f":"iCountryP!T26","v":1},{"$f":"iCountryP!U26","v":"4.1) Tax and social security burdens"},{"$f":"iCountryP!V26","v":75},null,null,{"$f":"iCountryP!X26","v":0},{"$f":"iCountryP!Y26","v":""},{"$f":"iCountryP!Z26","v":""},null,null,{"$f":"iCountryP!AB26","v":0},{"$f":"iCountryP!AC26","v":""},{"$f":"iCountryP!AD26","v":""}]
[null,{"$f":"iCountryP!T27","v":1},{"$f":"iCountryP!U27","v":"4.2) Quality of state institutions"},{"$f":"iCountryP!V27","v":88.888888888888886},null,null,{"$f":"iCountryP!X27","v":0},{"$f":"iCountryP!Y27","v":""},{"$f":"iCountryP!Z27","v":""},null,null,{"$f":"iCountryP!AB27","v":0},{"$f":"iCountryP!AC27","v":""},{"$f":"iCountryP!AD27","v":""}]
[null,{"$f":"iCountryP!T28","v":0},{"$f":"iCountryP!U28","v":""},{"$f":"iCountryP!V28","v":""},null,null,{"$f":"iCountryP!X28","v":0},{"$f":"iCountryP!Y28","v":""},{"$f":"iCountryP!Z28","v":""},null,null,{"$f":"iCountryP!AB28","v":0},{"$f":"iCountryP!AC28","v":""},{"$f":"iCountryP!AD28","v":""}]
[null,{"$f":"iCountryP!T29","v":0},{"$f":"iCountryP!U29","v":""},{"$f":"iCountryP!V29","v":""},null,null,{"$f":"iCountryP!X29","v":0},{"$f":"iCountryP!Y29","v":""},{"$f":"iCountryP!Z29","v":""},null,null,{"$f":"iCountryP!AB29","v":0},{"$f":"iCountryP!AC29","v":""},{"$f":"iCountryP!AD29","v":""}]
[null,{"$f":"iCountryP!T30","v":0},{"$f":"iCountryP!U30","v":""},{"$f":"iCountryP!V30","v":""},null,null,{"$f":"iCountryP!X30","v":0},{"$f":"iCountryP!Y30","v":""},{"$f":"iCountryP!Z30","v":""},null,null,{"$f":"iCountryP!AB30","v":0},{"$f":"iCountryP!AC30","v":""},{"$f":"iCountryP!AD30","v":""}]
[null,{"$f":"iCountryP!T31","v":0},{"$f":"iCountryP!U31","v":""},{"$f":"iCountryP!V31","v":""},null,null,{"$f":"iCountryP!X31","v":0},{"$f":"iCountryP!Y31","v":""},{"$f":"iCountryP!Z31","v":""},null,null,{"$f":"iCountryP!AB31","v":0},{"$f":"iCountryP!AC31","v":""},{"$f":"iCountryP!AD31","v":""}]
[null,{"$f":"iCountryP!T32","v":0},{"$f":"iCountryP!U32","v":""},{"$f":"iCountryP!V32","v":""},null,null,{"$f":"iCountryP!X32","v":0},{"$f":"iCountryP!Y32","v":""},{"$f":"iCountryP!Z32","v":""},null,null,{"$f":"iCountryP!AB32","v":0},{"$f":"iCountryP!AC32","v":""},{"$f":"iCountryP!AD32","v":""}]
[null,{"$f":"iCountryP!T33","v":0},{"$f":"iCountryP!U33","v":""},{"$f":"iCountryP!V33","v":""},null,null,{"$f":"iCountryP!X33","v":0},{"$f":"iCountryP!Y33","v":""},{"$f":"iCountryP!Z33","v":""},null,null,{"$f":"iCountryP!AB33","v":0},{"$f":"iCountryP!AC33","v":""},{"$f":"iCountryP!AD33","v":""}]
[null,{"$f":"iCountryP!T34","v":0},{"$f":"iCountryP!U34","v":""},{"$f":"iCountryP!V34","v":""},null,null,{"$f":"iCountryP!X34","v":0},{"$f":"iCountryP!Y34","v":""},{"$f":"iCountryP!Z34","v":""},null,null,{"$f":"iCountryP!AB34","v":0},{"$f":"iCountryP!AC34","v":""},{"$f":"iCountryP!AD34","v":""}]

{"sheet":"iCityCompare","index":21,"n_rows":26,"n_cols":37,"rows_kept":26,"cut":false,"hidden":true,"merged":[]}
["Overall Score",null,null,"Score","Rank"]
[{"$f":"uxb_works!A19","v":"CITY1_ID"},{"$f":"uxb_works!B19","v":1},{"$f":"CONCATENATE(\"Description: \",uxb_works!C19)","v":"Description: Australia"},{"$f":"E6","v":85.203537454070016},{"$f":"INDEX(iIndiRank!$H$6:$H$22,$B$2)","v":1},{"$f":"IF(E2<E3,\"*\",\"\")","v":"*"},{"$f":"IF(COUNTIF(rScores!$B$25:$R$25,E2)>1,\"=\",\"\")","v":""},{"$f":"G2&E2","v":"1"}]
[{"$f":"uxb_works!A20","v":"CITY2_ID"},{"$f":"uxb_works!B20","v":4},{"$f":"CONCATENATE(\"Description: \",uxb_works!C20)","v":"Description: Hong Kong"},{"$f":"G6","v":81.408892382948977},{"$f":"INDEX(iIndiRank!$H$6:$H$22,$B$3)","v":3},{"$f":"IF(E3<E2,\"*\",\"\")","v":""},{"$f":"IF(COUNTIF(rScores!$B$25:$R$25,E3)>1,\"=\",\"\")","v":""},{"$f":"G3&E3","v":"3"}]
[]
[null,null,null,null,"Score","rank","Score","Rank",null,null,null,null,null,null,null,null,null,null,null,null,"Total"]
[null,null,null,null,{"$f":"INDEX(aScores,1,$B$2)","v":85.203537454070016},{"$f":"G2&INDEX(aRank,1,$B$2)","v":"1"},{"$f":"INDEX(aScores,1,$B$3)","v":81.408892382948977},{"$f":"G3&INDEX(aRank,1,$B$3)","v":"3"},null,null,null,null,null,1]
[null,null,null,null,"City 1",null,"City 2",null,null,null,null,null,null,{"$f":"INDEX(tblIndiSets!$B$5:$B$11,N6)","v":1},null,null,null,null,null,null,1,1,2,3,4,"City 1","City 2",null,null,null,null,null,null,null,1,8]
[null,null,"ActiveStatus",null,"Score","Data","Score","Data",null,null,null,null,null,"Score","Rank","LU","Rank",null,null,null,"Name","Score","Data","Score","Data","Rank`","Rank`","= or not","= or not",null,null,"units","Star","Star",2,"Depth","units"]
[{"$f":"tblCategories!A3","v":1},{"$f":"tblCategories!D3","v":"1) INTELLECTUAL PROPERTY"},{"$f":"tblCategories!F3","v":1},1,{"$f":"INDEX(aScores,$A9+1,$B$2)","v":100},{"$f":"IF(INDEX(aData,$A9+1,$B$2)=\"\",\"\",INDEX(aData,$A9+1,$B$2))","v":""},{"$f":"INDEX(aScores,$A9+1,$B$3)","v":80},{"$f":"IF(INDEX(aData,$A9+1,$B$3)=\"\",\"\",INDEX(aData,$A9+1,$B$3))","v":""},{"$f":"tblIndicators!F3","v":1},null,null,null,null,{"$f":"IF($C9=0,\"\",(INDEX($D$9:$H$26,$A9,N$7)))","v":1},{"$f":"IF($C9=0,\"\",RANK(N9,N$9:N$26,1)+COUNTIF(N$9:N9,N9)-1)","v":1},{"$f":"IF(ISERROR(MATCH($A9,O$9:O$26,0)),\"\",MATCH($A9,O$9:O$26,0))","v":1},{"$f":"IF(P9=\"\",\"\",RANK(V9,V$9:V$26,0))","v":1},{"$f":"IF(P9=\"\",\"\",COUNTIF(V$9:V$26,V9))","v":8},{"$f":"IF(P9=\"\",0,INDEX($D$9:$D$26,P9))","v":1},{"$f":"IF(P9=\"\",\"\",IF(R9>1,CONCATENATE(\"=\",Q9),Q9))","v":"=1"},{"$f":"IF($P9=\"\",\"\",REPT(\" \",AJ9)&INDEX($B$9:$I$26,$P9,U$7))","v":" 1) INTELLECTUAL PROPERTY"},{"$f":"IF($P9=\"\",\"\",INDEX($E$9:$L$26,$P9,V$7))","v":100},"",{"$f":"IF($P9=\"\",\"\",INDEX($E$9:$H$26,$P9,X$7))","v":80},{"$f":"IF($P9=\"\",\"\",INDEX($E$9:$L$26,$P9,Y$7))","v":""},{"$f":"IF(P9=\"\",\"\",IF(ISERROR(INDEX(aRank,$P9+1,uxb_works!$B$19)),\"\",INDEX(aRank,$P9+1,uxb_works!$B$19)))","v":"=1"},{"$f":"IF(Q9=\"\",\"\",IF(ISERROR(INDEX(aRank,$P9+1,uxb_works!$B$20)),\"\",INDEX(aRank,$P9+1,uxb_works!$B$20)))","v":"=3"},{"$f":"COUNTIF(rScores!$B26:$R26,Z9)","v":0},{"$f":"COUNTIF(rScores!$B26:$R26,AA9)","v":0},{"$f":"IF(AB9>1,\"=\",\"\")&Z9","v":"=1"},{"$f":"IF(AC9>1,\"=\",\"\")&AA9","v":"=3"},{"$f":"IF(P9=\"\",\"\",INDEX(tblIndicators!$H$3:$H$78,iCityCompare!P9))","v":"Intellectual property"},{"$f":"IF(Z9<AA9,\"*\",\"\")","v":"*"},{"$f":"IF(AA9<Z9,\"*\",\"\")","v":""},3,{"$f":"IF($P9=\"\",\"\",INDEX($B$9:$I$26,$P9,AJ$7))","v":1},{"$f":"IF(P9=\"\",\"\",INDEX(tblIndicators!$S$3:$S$20,iCityCompare!P9))","v":"#0.0"}]
[{"$f":"tblCategories!A4","v":2},{"$f":"tblCategories!D4","v":"1.1)   Protection of IP rights"},{"$f":"tblCategories!F4","v":1},1,100,0,75,1,{"$f":"tblIndicators!F4","v":2},null,null,null,null,1,{"$f":"IF($C10=0,\"\",RANK(N10,N$9:N$26,1)+COUNTIF(N$9:N10,N10)-1)","v":2},2,1,8,1,{"$f":"IF(P10=\"\",\"\",IF(R10>1,CONCATENATE(\"=\",Q10),Q10))","v":"=1"},"  1.1)   Protection of IP rights",100,0,75,1,{"$f":"IF(P10=\"\",\"\",IF(ISERROR(INDEX(aRank,$P10+1,uxb_works!$B$19)),\"\",INDEX(aRank,$P10+1,uxb_works!$B$19)))","v":"=1"},{"$f":"IF(Q10=\"\",\"\",IF(ISERROR(INDEX(aRank,$P10+1,uxb_works!$B$20)),\"\",INDEX(aRank,$P10+1,uxb_works!$B$20)))","v":"=4"},{"$f":"COUNTIF(rScores!$B27:$R27,Z10)","v":0},{"$f":"COUNTIF(rScores!$B27:$R27,AA10)","v":0},{"$f":"IF(AB10>1,\"=\",\"\")&Z10","v":"=1"},{"$f":"IF(AC10>1,\"=\",\"\")&AA10","v":"=4"},{"$f":"IF(P10=\"\",\"\",INDEX(tblIndicators!$H$3:$H$78,iCityCompare!P10))","v":"  Protection of IP rights"},{"$f":"IF(Z10<AA10,\"*\",\"\")","v":"*"},{"$f":"IF(AA10<Z10,\"*\",\"\")","v":""},3,2,{"$f":"IF(P10=\"\",\"\",INDEX(tblIndicators!$S$3:$S$20,iCityCompare!P10))","v":"#0"}]
[{"$f":"tblCategories!A5","v":3},{"$f":"tblCategories!D5","v":"1.2)   Customs recordal system"},{"$f":"tblCategories!F5","v":1},1,100,1,100,1,{"$f":"tblIndicators!F5","v":2},null,null,null,null,1,{"$f":"IF($C11=0,\"\",RANK(N11,N$9:N$26,1)+COUNTIF(N$9:N11,N11)-1)","v":3},3,1,8,1,"=1","  1.2)   Customs recordal system",100,1,100,1,{"$f":"IF(P11=\"\",\"\",IF(ISERROR(INDEX(aRank,$P11+1,uxb_works!$B$19)),\"\",INDEX(aRank,$P11+1,uxb_works!$B$19)))","v":"=1"},{"$f":"IF(Q11=\"\",\"\",IF(ISERROR(INDEX(aRank,$P11+1,uxb_works!$B$20)),\"\",INDEX(aRank,$P11+1,uxb_works!$B$20)))","v":"=1"},{"$f":"COUNTIF(rScores!$B28:$R28,Z11)","v":0},{"$f":"COUNTIF(rScores!$B28:$R28,AA11)","v":0},"=1","=1",{"$f":"IF(P11=\"\",\"\",INDEX(tblIndicators!$H$3:$H$78,iCityCompare!P11))","v":"  Customs recordal system"},"","",3,2,{"$f":"IF(P11=\"\",\"\",INDEX(tblIndicators!$S$3:$S$20,iCityCompare!P11))","v":"#0"}]
[{"$f":"tblCategories!A6","v":4},{"$f":"tblCategories!D6","v":"2) TRANSPARENCY AND TRADE"},{"$f":"tblCategories!F6","v":1},1,81.5,"",69.5,"",{"$f":"tblIndicators!F6","v":1},null,null,null,null,1,{"$f":"IF($C12=0,\"\",RANK(N12,N$9:N$26,1)+COUNTIF(N$9:N12,N12)-1)","v":4},4,12,1,1,12," 2) TRANSPARENCY AND TRADE",81.5,"",69.5,"",{"$f":"IF(P12=\"\",\"\",IF(ISERROR(INDEX(aRank,$P12+1,uxb_works!$B$19)),\"\",INDEX(aRank,$P12+1,uxb_works!$B$19)))","v":"4"},{"$f":"IF(Q12=\"\",\"\",IF(ISERROR(INDEX(aRank,$P12+1,uxb_works!$B$20)),\"\",INDEX(aRank,$P12+1,uxb_works!$B$20)))","v":"9"},{"$f":"COUNTIF(rScores!$B29:$R29,Z12)","v":1},{"$f":"COUNTIF(rScores!$B29:$R29,AA12)","v":1},"4","9",{"$f":"IF(P12=\"\",\"\",INDEX(tblIndicators!$H$3:$H$78,iCityCompare!P12))","v":"Transparency and trade"},"*","",3,1,{"$f":"IF(P12=\"\",\"\",INDEX(tblIndicators!$S$3:$S$20,iCityCompare!P12))","v":"#0.0"}]
[{"$f":"tblCategories!A7","v":5},{"$f":"tblCategories!D7","v":"2.1)   Track and trace services"},{"$f":"tblCategories!F7","v":1},1,76,3.8,78,3.9,{"$f":"tblIndicators!F7","v":2},null,null,null,null,1,{"$f":"IF($C13=0,\"\",RANK(N13,N$9:N$26,1)+COUNTIF(N$9:N13,N13)-1)","v":5},5,13,1,1,13,"  2.1)   Track and trace services",76,3.8,78,3.9,{"$f":"IF(P13=\"\",\"\",IF(ISERROR(INDEX(aRank,$P13+1,uxb_works!$B$19)),\"\",INDEX(aRank,$P13+1,uxb_works!$B$19)))","v":"=4"},{"$f":"IF(Q13=\"\",\"\",IF(ISERROR(INDEX(aRank,$P13+1,uxb_works!$B$20)),\"\",INDEX(aRank,$P13+1,uxb_works!$B$20)))","v":"=2"},{"$f":"COUNTIF(rScores!$B30:$R30,Z13)","v":0},{"$f":"COUNTIF(rScores!$B30:$R30,AA13)","v":0},"=4","=2",{"$f":"IF(P13=\"\",\"\",INDEX(tblIndicators!$H$3:$H$78,iCityCompare!P13))","v":"  Track and trace services"},"","*",3,2,{"$f":"IF(P13=\"\",\"\",INDEX(tblIndicators!$S$3:$S$20,iCityCompare!P13))","v":"#0"}]
[{"$f":"tblCategories!A8","v":6},{"$f":"tblCategories!D8","v":"2.2)   Adoption of Annex D of Revised Kyoto Convention  "},{"$f":"tblCategories!F8","v":1},1,100,1,0,0,{"$f":"tblIndicators!F8","v":2},null,null,null,null,1,{"$f":"IF($C14=0,\"\",RANK(N14,N$9:N$26,1)+COUNTIF(N$9:N14,N14)-1)","v":6},6,1,8,1,"=1","  2.2)   Adoption of Annex D of Revised Kyoto Convention  ",100,1,0,0,{"$f":"IF(P14=\"\",\"\",IF(ISERROR(INDEX(aRank,$P14+1,uxb_works!$B$19)),\"\",INDEX(aRank,$P14+1,uxb_works!$B$19)))","v":"=1"},{"$f":"IF(Q14=\"\",\"\",IF(ISERROR(INDEX(aRank,$P14+1,uxb_works!$B$20)),\"\",INDEX(aRank,$P14+1,uxb_works!$B$20)))","v":"=13"},{"$f":"COUNTIF(rScores!$B31:$R31,Z14)","v":0},{"$f":"COUNTIF(rScores!$B31:$R31,AA14)","v":0},"=1","=13",{"$f":"IF(P14=\"\",\"\",INDEX(tblIndicators!$H$3:$H$78,iCityCompare!P14))","v":"  Adoption of Annex D of Revised Kyoto Convention  "},"*","",3,2,{"$f":"IF(P14=\"\",\"\",INDEX(tblIndicators!$S$3:$S$20,iCityCompare!P14))","v":"#0"}]
[{"$f":"tblCategories!A9","v":7},{"$f":"tblCategories!D9","v":"2.3)   Government cooperation"},{"$f":"tblCategories!F9","v":1},1,100,2,100,2,{"$f":"tblIndicators!F9","v":2},null,null,null,null,1,{"$f":"IF($C15=0,\"\",RANK(N15,N$9:N$26,1)+COUNTIF(N$9:N15,N15)-1)","v":7},7,1,8,1,"=1","  2.3)   Government cooperation",100,2,100,2,{"$f":"IF(P15=\"\",\"\",IF(ISERROR(INDEX(aRank,$P15+1,uxb_works!$B$19)),\"\",INDEX(aRank,$P15+1,uxb_works!$B$19)))","v":"=1"},{"$f":"IF(Q15=\"\",\"\",IF(ISERROR(INDEX(aRank,$P15+1,uxb_works!$B$20)),\"\",INDEX(aRank,$P15+1,uxb_works!$B$20)))","v":"=1"},{"$f":"COUNTIF(rScores!$B32:$R32,Z15)","v":0},{"$f":"COUNTIF(rScores!$B32:$R32,AA15)","v":0},"=1","=1",{"$f":"IF(P15=\"\",\"\",INDEX(tblIndicators!$H$3:$H$78,iCityCompare!P15))","v":"  Government cooperation"},"","",3,2,{"$f":"IF(P15=\"\",\"\",INDEX(tblIndicators!$S$3:$S$20,iCityCompare!P15))","v":"#0"}]
[{"$f":"tblCategories!A10","v":8},{"$f":"tblCategories!D10","v":"2.4)   FTZ governance "},{"$f":"tblCategories!F10","v":1},1,50,2,100,4,{"$f":"tblIndicators!F10","v":2},null,null,null,null,1,{"$f":"IF($C16=0,\"\",RANK(N16,N$9:N$26,1)+COUNTIF(N$9:N16,N16)-1)","v":8},8,16,2,1,"=16","  2.4)   FTZ governance ",50,2,100,4,{"$f":"IF(P16=\"\",\"\",IF(ISERROR(INDEX(aRank,$P16+1,uxb_works!$B$19)),\"\",INDEX(aRank,$P16+1,uxb_works!$B$19)))","v":"=8"},{"$f":"IF(Q16=\"\",\"\",IF(ISERROR(INDEX(aRank,$P16+1,uxb_works!$B$20)),\"\",INDEX(aRank,$P16+1,uxb_works!$B$20)))","v":"=1"},{"$f":"COUNTIF(rScores!$B33:$R33,Z16)","v":0},{"$f":"COUNTIF(rScores!$B33:$R33,AA16)","v":0},"=8","=1",{"$f":"IF(P16=\"\",\"\",INDEX(tblIndicators!$H$3:$H$78,iCityCompare!P16))","v":"  FTZ governance "},"","*",3,2,{"$f":"IF(P16=\"\",\"\",INDEX(tblIndicators!$S$3:$S$20,iCityCompare!P16))","v":"#0"}]
[{"$f":"tblCategories!A11","v":9},{"$f":"tblCategories!D11","v":"3) CUSTOMS ENVIRONMENT"},{"$f":"tblCategories!F11","v":1},1,88.01785351998376,"",83.542976939203356,"",{"$f":"tblIndicators!F11","v":1},null,null,null,null,1,{"$f":"IF($C17=0,\"\",RANK(N17,N$9:N$26,1)+COUNTIF(N$9:N17,N17)-1)","v":9},9,11,1,1,11," 3) CUSTOMS ENVIRONMENT",88.01785351998376,"",83.542976939203356,"",{"$f":"IF(P17=\"\",\"\",IF(ISERROR(INDEX(aRank,$P17+1,uxb_works!$B$19)),\"\",INDEX(aRank,$P17+1,uxb_works!$B$19)))","v":"2"},{"$f":"IF(Q17=\"\",\"\",IF(ISERROR(INDEX(aRank,$P17+1,uxb_works!$B$20)),\"\",INDEX(aRank,$P17+1,uxb_works!$B$20)))","v":"4"},{"$f":"COUNTIF(rScores!$B34:$R34,Z17)","v":1},{"$f":"COUNTIF(rScores!$B34:$R34,AA17)","v":1},"2","4",{"$f":"IF(P17=\"\",\"\",INDEX(tblIndicators!$H$3:$H$78,iCityCompare!P17))","v":"Customs environment"},"*","",3,1,{"$f":"IF(P17=\"\",\"\",INDEX(tblIndicators!$S$3:$S$20,iCityCompare!P17))","v":"#0.0"}]
[{"$f":"tblCategories!A12","v":10},{"$f":"tblCategories!D12","v":"3.1) Percentage of shipments physically inspected"},{"$f":"tblCategories!F12","v":1},1,3.7735849056603774,2,1.8867924528301887,1,{"$f":"tblIndicators!F12","v":2},null,null,null,null,1,{"$f":"IF($C18=0,\"\",RANK(N18,N$9:N$26,1)+COUNTIF(N$9:N18,N18)-1)","v":10},10,18,1,1,18,"  3.1) Percentage of shipments physically inspected",3.7735849056603774,2,1.8867924528301887,1,{"$f":"IF(P18=\"\",\"\",IF(ISERROR(INDEX(aRank,$P18+1,uxb_works!$B$19)),\"\",INDEX(aRank,$P18+1,uxb_works!$B$19)))","v":"=10"},{"$f":"IF(Q18=\"\",\"\",IF(ISERROR(INDEX(aRank,$P18+1,uxb_works!$B$20)),\"\",INDEX(aRank,$P18+1,uxb_works!$B$20)))","v":"=13"},{"$f":"COUNTIF(rScores!$B35:$R35,Z18)","v":0},{"$f":"COUNTIF(rScores!$B35:$R35,AA18)","v":0},"=10","=13",{"$f":"IF(P18=\"\",\"\",INDEX(tblIndicators!$H$3:$H$78,iCityCompare!P18))","v":"Percentage of shipments physically inspected"},"*","",3,2,{"$f":"IF(P18=\"\",\"\",INDEX(tblIndicators!$S$3:$S$20,iCityCompare!P18))","v":"#0"}]
[{"$f":"tblCategories!A13","v":11},{"$f":"tblCategories!D13","v":"3.2)   Customs clearance and inspection"},{"$f":"tblCategories!F13","v":1},1,100,1,100,1,{"$f":"tblIndicators!F13","v":2},null,null,null,null,1,{"$f":"IF($C19=0,\"\",RANK(N19,N$9:N$26,1)+COUNTIF(N$9:N19,N19)-1)","v":11},11,1,8,1,"=1","  3.2)   Customs clearance and inspection",100,1,100,1,{"$f":"IF(P19=\"\",\"\",IF(ISERROR(INDEX(aRank,$P19+1,uxb_works!$B$19)),\"\",INDEX(aRank,$P19+1,uxb_works!$B$19)))","v":"=1"},{"$f":"IF(Q19=\"\",\"\",IF(ISERROR(INDEX(aRank,$P19+1,uxb_works!$B$20)),\"\",INDEX(aRank,$P19+1,uxb_works!$B$20)))","v":"=1"},{"$f":"COUNTIF(rScores!$B36:$R36,Z19)","v":0},{"$f":"COUNTIF(rScores!$B36:$R36,AA19)","v":0},"=1","=1",{"$f":"IF(P19=\"\",\"\",INDEX(tblIndicators!$H$3:$H$78,iCityCompare!P19))","v":"  Customs clearance and inspection"},"","",3,2,{"$f":"IF(P19=\"\",\"\",INDEX(tblIndicators!$S$3:$S$20,iCityCompare!P19))","v":"#0"}]
[{"$f":"tblCategories!A14","v":12},{"$f":"tblCategories!D14","v":"3.3)   Automation"},{"$f":"tblCategories!F14","v":1},1,94.193548387096769,1.71,100,1.8,{"$f":"tblIndicators!F14","v":2},null,null,null,null,1,{"$f":"IF($C20=0,\"\",RANK(N20,N$9:N$26,1)+COUNTIF(N$9:N20,N20)-1)","v":12},12,9,1,1,9,"  3.3)   Automation",94.193548387096769,1.71,100,1.8,{"$f":"IF(P20=\"\",\"\",IF(ISERROR(INDEX(aRank,$P20+1,uxb_works!$B$19)),\"\",INDEX(aRank,$P20+1,uxb_works!$B$19)))","v":"=7"},{"$f":"IF(Q20=\"\",\"\",IF(ISERROR(INDEX(aRank,$P20+1,uxb_works!$B$20)),\"\",INDEX(aRank,$P20+1,uxb_works!$B$20)))","v":"=1"},{"$f":"COUNTIF(rScores!$B37:$R37,Z20)","v":0},{"$f":"COUNTIF(rScores!$B37:$R37,AA20)","v":0},"=7","=1",{"$f":"IF(P20=\"\",\"\",INDEX(tblIndicators!$H$3:$H$78,iCityCompare!P20))","v":"  Automation"},"","*",3,2,{"$f":"IF(P20=\"\",\"\",INDEX(tblIndicators!$S$3:$S$20,iCityCompare!P20))","v":"#0.00"}]
[{"$f":"tblCategories!A15","v":13},{"$f":"tblCategories!D15","v":"3.4)   Corruption"},{"$f":"tblCategories!F15","v":1},1,100,0,75,1,{"$f":"tblIndicators!F15","v":2},null,null,null,null,1,{"$f":"IF($C21=0,\"\",RANK(N21,N$9:N$26,1)+COUNTIF(N$9:N21,N21)-1)","v":13},13,1,8,1,"=1","  3.4)   Corruption",100,0,75,1,{"$f":"IF(P21=\"\",\"\",IF(ISERROR(INDEX(aRank,$P21+1,uxb_works!$B$19)),\"\",INDEX(aRank,$P21+1,uxb_works!$B$19)))","v":"=1"},{"$f":"IF(Q21=\"\",\"\",IF(ISERROR(INDEX(aRank,$P21+1,uxb_works!$B$20)),\"\",INDEX(aRank,$P21+1,uxb_works!$B$20)))","v":"=4"},{"$f":"COUNTIF(rScores!$B38:$R38,Z21)","v":0},{"$f":"COUNTIF(rScores!$B38:$R38,AA21)","v":0},"=1","=4",{"$f":"IF(P21=\"\",\"\",INDEX(tblIndicators!$H$3:$H$78,iCityCompare!P21))","v":"  Corruption"},"*","",3,2,{"$f":"IF(P21=\"\",\"\",INDEX(tblIndicators!$S$3:$S$20,iCityCompare!P21))","v":"#0"}]
[{"$f":"tblCategories!A16","v":14},{"$f":"tblCategories!D16","v":"3.5) Accredited Economic Operator programme"},{"$f":"tblCategories!F16","v":1},1,100,3,100,3,{"$f":"tblIndicators!F16","v":2},null,null,null,null,1,{"$f":"IF($C22=0,\"\",RANK(N22,N$9:N$26,1)+COUNTIF(N$9:N22,N22)-1)","v":14},14,1,8,1,"=1","  3.5) Accredited Economic Operator programme",100,3,100,3,{"$f":"IF(P22=\"\",\"\",IF(ISERROR(INDEX(aRank,$P22+1,uxb_works!$B$19)),\"\",INDEX(aRank,$P22+1,uxb_works!$B$19)))","v":"=1"},{"$f":"IF(Q22=\"\",\"\",IF(ISERROR(INDEX(aRank,$P22+1,uxb_works!$B$20)),\"\",INDEX(aRank,$P22+1,uxb_works!$B$20)))","v":"=1"},{"$f":"COUNTIF(rScores!$B39:$R39,Z22)","v":0},{"$f":"COUNTIF(rScores!$B39:$R39,AA22)","v":0},"=1","=1",{"$f":"IF(P22=\"\",\"\",INDEX(tblIndicators!$H$3:$H$78,iCityCompare!P22))","v":"Accredited Economic Operator programme"},"","",3,2,{"$f":"IF(P22=\"\",\"\",INDEX(tblIndicators!$S$3:$S$20,iCityCompare!P22))","v":"#0"}]
[{"$f":"tblCategories!A17","v":15},{"$f":"tblCategories!D17","v":"4) SUPPLY AND DEMAND"},{"$f":"tblCategories!F17","v":1},1,71.296296296296291,"",92.592592592592581,"",{"$f":"tblIndicators!F17","v":1},null,null,null,null,1,{"$f":"IF($C23=0,\"\",RANK(N23,N$9:N$26,1)+COUNTIF(N$9:N23,N23)-1)","v":15},15,15,1,1,15," 4) SUPPLY AND DEMAND",71.296296296296291,"",92.592592592592581,"",{"$f":"IF(P23=\"\",\"\",IF(ISERROR(INDEX(aRank,$P23+1,uxb_works!$B$19)),\"\",INDEX(aRank,$P23+1,uxb_works!$B$19)))","v":"5"},{"$f":"IF(Q23=\"\",\"\",IF(ISERROR(INDEX(aRank,$P23+1,uxb_works!$B$20)),\"\",INDEX(aRank,$P23+1,uxb_works!$B$20)))","v":"1"},{"$f":"COUNTIF(rScores!$B40:$R40,Z23)","v":1},{"$f":"COUNTIF(rScores!$B40:$R40,AA23)","v":1},"5","1",{"$f":"IF(P23=\"\",\"\",INDEX(tblIndicators!$H$3:$H$78,iCityCompare!P23))","v":"Supply and demand"},"","*",3,1,{"$f":"IF(P23=\"\",\"\",INDEX(tblIndicators!$S$3:$S$20,iCityCompare!P23))","v":"#0.0"}]
[{"$f":"tblCategories!A18","v":16},{"$f":"tblCategories!D18","v":"4.1)   Tax and social security burdens"},{"$f":"tblCategories!F18","v":1},1,75,4,100,5,{"$f":"tblIndicators!F18","v":2},null,null,null,null,1,{"$f":"IF($C24=0,\"\",RANK(N24,N$9:N$26,1)+COUNTIF(N$9:N24,N24)-1)","v":16},16,14,1,1,14,"  4.1)   Tax and social security burdens",75,4,100,5,{"$f":"IF(P24=\"\",\"\",IF(ISERROR(INDEX(aRank,$P24+1,uxb_works!$B$19)),\"\",INDEX(aRank,$P24+1,uxb_works!$B$19)))","v":"=3"},{"$f":"IF(Q24=\"\",\"\",IF(ISERROR(INDEX(aRank,$P24+1,uxb_works!$B$20)),\"\",INDEX(aRank,$P24+1,uxb_works!$B$20)))","v":"=1"},{"$f":"COUNTIF(rScores!$B41:$R41,Z24)","v":0},{"$f":"COUNTIF(rScores!$B41:$R41,AA24)","v":0},"=3","=1",{"$f":"IF(P24=\"\",\"\",INDEX(tblIndicators!$H$3:$H$78,iCityCompare!P24))","v":"  Tax and social security burdens"},"","*",3,2,{"$f":"IF(P24=\"\",\"\",INDEX(tblIndicators!$S$3:$S$20,iCityCompare!P24))","v":"#0"}]
[{"$f":"tblCategories!A19","v":17},{"$f":"tblCategories!D19","v":"4.2)   Quality of state institutions"},{"$f":"tblCategories!F19","v":1},1,88.888888888888886,9,77.777777777777786,8,{"$f":"tblIndicators!F19","v":2},null,null,null,null,1,{"$f":"IF($C25=0,\"\",RANK(N25,N$9:N$26,1)+COUNTIF(N$9:N25,N25)-1)","v":17},17,10,1,1,10,"  4.2)   Quality of state institutions",88.888888888888886,9,77.777777777777786,8,{"$f":"IF(P25=\"\",\"\",IF(ISERROR(INDEX(aRank,$P25+1,uxb_works!$B$19)),\"\",INDEX(aRank,$P25+1,uxb_works!$B$19)))","v":"3"},{"$f":"IF(Q25=\"\",\"\",IF(ISERROR(INDEX(aRank,$P25+1,uxb_works!$B$20)),\"\",INDEX(aRank,$P25+1,uxb_works!$B$20)))","v":"4"},{"$f":"COUNTIF(rScores!$B42:$R42,Z25)","v":1},{"$f":"COUNTIF(rScores!$B42:$R42,AA25)","v":1},"3","4",{"$f":"IF(P25=\"\",\"\",INDEX(tblIndicators!$H$3:$H$78,iCityCompare!P25))","v":"  Quality of state institutions"},"*","",3,2,{"$f":"IF(P25=\"\",\"\",INDEX(tblIndicators!$S$3:$S$20,iCityCompare!P25))","v":"#0"}]
[{"$f":"tblCategories!A20","v":18},{"$f":"tblCategories!D20","v":"4.3)   Labour market regulations"},{"$f":"tblCategories!F20","v":1},1,50,3,100,5,{"$f":"tblIndicators!F20","v":2},null,null,null,null,1,{"$f":"IF($C26=0,\"\",RANK(N26,N$9:N$26,1)+COUNTIF(N$9:N26,N26)-1)","v":18},18,16,2,1,"=16","  4.3)   Labour market regulations",50,3,100,5,{"$f":"IF(P26=\"\",\"\",IF(ISERROR(INDEX(aRank,$P26+1,uxb_works!$B$19)),\"\",INDEX(aRank,$P26+1,uxb_works!$B$19)))","v":"=7"},{"$f":"IF(Q26=\"\",\"\",IF(ISERROR(INDEX(aRank,$P26+1,uxb_works!$B$20)),\"\",INDEX(aRank,$P26+1,uxb_works!$B$20)))","v":"1"},{"$f":"COUNTIF(rScores!$B43:$R43,Z26)","v":0},{"$f":"COUNTIF(rScores!$B43:$R43,AA26)","v":1},"=7","1",{"$f":"IF(P26=\"\",\"\",INDEX(tblIndicators!$H$3:$H$78,iCityCompare!P26))","v":"  Labour market regulations"},"*","",3,2,{"$f":"IF(P26=\"\",\"\",INDEX(tblIndicators!$S$3:$S$20,iCityCompare!P26))","v":"#0"}]

{"sheet":"Country_Compare","index":22,"n_rows":26,"n_cols":29,"rows_kept":26,"cut":false,"hidden":true,"merged":[[5,7,5,9],[5,11,5,13]]}
[]
[]
[null,null,null,null,"Select indicator range",null,null,null,null,null,null,null,null,null,"** International cities are not included in the rankings"]
[]
[]
[null,null,null,null,null,null,null,{"$f":"iCC_Overview!C2","v":"Australia"},null,null,null,{"$f":"iCC_Overview!C3","v":"Hong Kong"}]
[null,null,null,null,null,null,null,"Score","Data","Rank*",null,"Score","Data","Rank*"]
[null,null,{"$f":"IF(D8=\"\",\"0\",\"1\")","v":"1"},{"$f":"iCountryP!C20","v":2},"OVERALL SCORE",null,null,{"$f":"iCityCompare!D2","v":85.203537454070016},null,{"$f":"iCityCompare!F6","v":"1"},{"$f":"iCityCompare!F2","v":"*"},{"$f":"iCityCompare!D3","v":81.408892382948977},null,{"$f":"iCityCompare!H6","v":"3"},{"$f":"iCityCompare!F3","v":""},null,null,null,null,null,null,null,null,null,null,null,null,null,{"$f":"E8","v":"OVERALL SCORE"}]
[null,null,{"$f":"IF(D9=\"\",\"0\",\"1\")","v":"1"},{"$f":"iCityCompare!P9","v":1},{"$f":"iCityCompare!U9","v":" 1) INTELLECTUAL PROPERTY"},{"$f":"IF($I9>$M9,1,IF($I9<$M9,2,0))","v":2},{"$f":"IF($I9<$M9,1,IF($I9>$M9,2,0))","v":1},{"$f":"iCityCompare!V9","v":100},{"$f":"iCityCompare!Z9","v":"=1"},{"$f":"iCityCompare!AD9","v":"=1"},{"$f":"iCityCompare!AG9","v":"*"},{"$f":"iCityCompare!X9","v":80},{"$f":"iCityCompare!AA9","v":"=3"},{"$f":"iCityCompare!AE9","v":"=3"},{"$f":"iCityCompare!AH9","v":""},null,null,null,null,null,null,null,null,null,null,null,null,null,{"$f":"E9","v":" 1) INTELLECTUAL PROPERTY"}]
[null,null,{"$f":"IF(D10=\"\",\"0\",\"1\")","v":"1"},{"$f":"iCityCompare!P10","v":2},{"$f":"iCityCompare!U10","v":"  1.1)   Protection of IP rights"},{"$f":"IF($I10>$M10,1,IF($I10<$M10,2,0))","v":2},{"$f":"IF($I10<$M10,1,IF($I10>$M10,2,0))","v":1},{"$f":"iCityCompare!V10","v":100},{"$f":"iCityCompare!Z10","v":"=1"},{"$f":"iCityCompare!AD10","v":"=1"},{"$f":"iCityCompare!AG10","v":"*"},{"$f":"iCityCompare!X10","v":75},{"$f":"iCityCompare!AA10","v":"=4"},{"$f":"iCityCompare!AE10","v":"=4"},{"$f":"iCityCompare!AH10","v":""},null,null,null,null,null,null,null,null,null,null,null,null,null,"  1.1)   Protection of IP rights"]
[null,null,"1",{"$f":"iCityCompare!P11","v":3},{"$f":"iCityCompare!U11","v":"  1.2)   Customs recordal system"},0,0,{"$f":"iCityCompare!V11","v":100},{"$f":"iCityCompare!Z11","v":"=1"},{"$f":"iCityCompare!AD11","v":"=1"},{"$f":"iCityCompare!AG11","v":""},{"$f":"iCityCompare!X11","v":100},{"$f":"iCityCompare!AA11","v":"=1"},{"$f":"iCityCompare!AE11","v":"=1"},{"$f":"iCityCompare!AH11","v":""},null,null,null,null,null,null,null,null,null,null,null,null,null,"  1.2)   Customs recordal system"]
[null,null,"1",{"$f":"iCityCompare!P12","v":4},{"$f":"iCityCompare!U12","v":" 2) TRANSPARENCY AND TRADE"},2,1,{"$f":"iCityCompare!V12","v":81.5},{"$f":"iCityCompare!Z12","v":"4"},{"$f":"iCityCompare!AD12","v":"4"},{"$f":"iCityCompare!AG12","v":"*"},{"$f":"iCityCompare!X12","v":69.5},{"$f":"iCityCompare!AA12","v":"9"},{"$f":"iCityCompare!AE12","v":"9"},{"$f":"iCityCompare!AH12","v":""},null,null,null,null,null,null,null,null,null,null,null,null,null," 2) TRANSPARENCY AND TRADE"]
[null,null,"1",{"$f":"iCityCompare!P13","v":5},{"$f":"iCityCompare!U13","v":"  2.1)   Track and trace services"},1,2,{"$f":"iCityCompare!V13","v":76},{"$f":"iCityCompare!Z13","v":"=4"},{"$f":"iCityCompare!AD13","v":"=4"},{"$f":"iCityCompare!AG13","v":""},{"$f":"iCityCompare!X13","v":78},{"$f":"iCityCompare!AA13","v":"=2"},{"$f":"iCityCompare!AE13","v":"=2"},{"$f":"iCityCompare!AH13","v":"*"},null,null,null,null,null,null,null,null,null,null,null,null,null,"  2.1)   Track and trace services"]
[null,null,"1",{"$f":"iCityCompare!P14","v":6},{"$f":"iCityCompare!U14","v":"  2.2)   Adoption of Annex D of Revised Kyoto Convention  "},2,1,{"$f":"iCityCompare!V14","v":100},{"$f":"iCityCompare!Z14","v":"=1"},{"$f":"iCityCompare!AD14","v":"=1"},{"$f":"iCityCompare!AG14","v":"*"},{"$f":"iCityCompare!X14","v":0},{"$f":"iCityCompare!AA14","v":"=13"},{"$f":"iCityCompare!AE14","v":"=13"},{"$f":"iCityCompare!AH14","v":""},null,null,null,null,null,null,null,null,null,null,null,null,null,"  2.2)   Adoption of Annex D of Revised Kyoto Convention  "]
[null,null,"1",{"$f":"iCityCompare!P15","v":7},{"$f":"iCityCompare!U15","v":"  2.3)   Government cooperation"},0,0,{"$f":"iCityCompare!V15","v":100},{"$f":"iCityCompare!Z15","v":"=1"},{"$f":"iCityCompare!AD15","v":"=1"},{"$f":"iCityCompare!AG15","v":""},{"$f":"iCityCompare!X15","v":100},{"$f":"iCityCompare!AA15","v":"=1"},{"$f":"iCityCompare!AE15","v":"=1"},{"$f":"iCityCompare!AH15","v":""},null,null,null,null,null,null,null,null,null,null,null,null,null,"  2.3)   Government cooperation"]
[null,null,"1",{"$f":"iCityCompare!P16","v":8},{"$f":"iCityCompare!U16","v":"  2.4)   FTZ governance "},1,2,{"$f":"iCityCompare!V16","v":50},{"$f":"iCityCompare!Z16","v":"=8"},{"$f":"iCityCompare!AD16","v":"=8"},{"$f":"iCityCompare!AG16","v":""},{"$f":"iCityCompare!X16","v":100},{"$f":"iCityCompare!AA16","v":"=1"},{"$f":"iCityCompare!AE16","v":"=1"},{"$f":"iCityCompare!AH16","v":"*"},null,null,null,null,null,null,null,null,null,null,null,null,null,"  2.4)   FTZ governance "]
[null,null,"1",{"$f":"iCityCompare!P17","v":9},{"$f":"iCityCompare!U17","v":" 3) CUSTOMS ENVIRONMENT"},2,1,{"$f":"iCityCompare!V17","v":88.01785351998376},{"$f":"iCityCompare!Z17","v":"2"},{"$f":"iCityCompare!AD17","v":"2"},{"$f":"iCityCompare!AG17","v":"*"},{"$f":"iCityCompare!X17","v":83.542976939203356},{"$f":"iCityCompare!AA17","v":"4"},{"$f":"iCityCompare!AE17","v":"4"},{"$f":"iCityCompare!AH17","v":""},null,null,null,null,null,null,null,null,null,null,null,null,null," 3) CUSTOMS ENVIRONMENT"]
[null,null,"1",{"$f":"iCityCompare!P18","v":10},{"$f":"iCityCompare!U18","v":"  3.1) Percentage of shipments physically inspected"},2,1,{"$f":"iCityCompare!V18","v":3.7735849056603774},{"$f":"iCityCompare!Z18","v":"=10"},{"$f":"iCityCompare!AD18","v":"=10"},{"$f":"iCityCompare!AG18","v":"*"},{"$f":"iCityCompare!X18","v":1.8867924528301887},{"$f":"iCityCompare!AA18","v":"=13"},{"$f":"iCityCompare!AE18","v":"=13"},{"$f":"iCityCompare!AH18","v":""},null,null,null,null,null,null,null,null,null,null,null,null,null,"  3.1) Percentage of shipments physically inspected"]
[null,null,"1",{"$f":"iCityCompare!P19","v":11},{"$f":"iCityCompare!U19","v":"  3.2)   Customs clearance and inspection"},0,0,{"$f":"iCityCompare!V19","v":100},{"$f":"iCityCompare!Z19","v":"=1"},{"$f":"iCityCompare!AD19","v":"=1"},{"$f":"iCityCompare!AG19","v":""},{"$f":"iCityCompare!X19","v":100},{"$f":"iCityCompare!AA19","v":"=1"},{"$f":"iCityCompare!AE19","v":"=1"},{"$f":"iCityCompare!AH19","v":""},null,null,null,null,null,null,null,null,null,null,null,null,null,"  3.2)   Customs clearance and inspection"]
[null,null,"1",{"$f":"iCityCompare!P20","v":12},{"$f":"iCityCompare!U20","v":"  3.3)   Automation"},1,2,{"$f":"iCityCompare!V20","v":94.193548387096769},{"$f":"iCityCompare!Z20","v":"=7"},{"$f":"iCityCompare!AD20","v":"=7"},{"$f":"iCityCompare!AG20","v":""},{"$f":"iCityCompare!X20","v":100},{"$f":"iCityCompare!AA20","v":"=1"},{"$f":"iCityCompare!AE20","v":"=1"},{"$f":"iCityCompare!AH20","v":"*"},null,null,null,null,null,null,null,null,null,null,null,null,null,"  3.3)   Automation"]
[null,null,"1",{"$f":"iCityCompare!P21","v":13},{"$f":"iCityCompare!U21","v":"  3.4)   Corruption"},2,1,{"$f":"iCityCompare!V21","v":100},{"$f":"iCityCompare!Z21","v":"=1"},{"$f":"iCityCompare!AD21","v":"=1"},{"$f":"iCityCompare!AG21","v":"*"},{"$f":"iCityCompare!X21","v":75},{"$f":"iCityCompare!AA21","v":"=4"},{"$f":"iCityCompare!AE21","v":"=4"},{"$f":"iCityCompare!AH21","v":""},null,null,null,null,null,null,null,null,null,null,null,null,null,"  3.4)   Corruption"]
[null,null,"1",{"$f":"iCityCompare!P22","v":14},{"$f":"iCityCompare!U22","v":"  3.5) Accredited Economic Operator programme"},0,0,{"$f":"iCityCompare!V22","v":100},{"$f":"iCityCompare!Z22","v":"=1"},{"$f":"iCityCompare!AD22","v":"=1"},{"$f":"iCityCompare!AG22","v":""},{"$f":"iCityCompare!X22","v":100},{"$f":"iCityCompare!AA22","v":"=1"},{"$f":"iCityCompare!AE22","v":"=1"},{"$f":"iCityCompare!AH22","v":""}]
[null,null,"1",{"$f":"iCityCompare!P23","v":15},{"$f":"iCityCompare!U23","v":" 4) SUPPLY AND DEMAND"},1,2,{"$f":"iCityCompare!V23","v":71.296296296296291},{"$f":"iCityCompare!Z23","v":"5"},{"$f":"iCityCompare!AD23","v":"5"},{"$f":"iCityCompare!AG23","v":""},{"$f":"iCityCompare!X23","v":92.592592592592581},{"$f":"iCityCompare!AA23","v":"1"},{"$f":"iCityCompare!AE23","v":"1"},{"$f":"iCityCompare!AH23","v":"*"}]
[null,null,"1",{"$f":"iCityCompare!P24","v":16},{"$f":"iCityCompare!U24","v":"  4.1)   Tax and social security burdens"},1,2,{"$f":"iCityCompare!V24","v":75},{"$f":"iCityCompare!Z24","v":"=3"},{"$f":"iCityCompare!AD24","v":"=3"},{"$f":"iCityCompare!AG24","v":""},{"$f":"iCityCompare!X24","v":100},{"$f":"iCityCompare!AA24","v":"=1"},{"$f":"iCityCompare!AE24","v":"=1"},{"$f":"iCityCompare!AH24","v":"*"}]
[null,null,"1",{"$f":"iCityCompare!P25","v":17},{"$f":"iCityCompare!U25","v":"  4.2)   Quality of state institutions"},2,1,{"$f":"iCityCompare!V25","v":88.888888888888886},{"$f":"iCityCompare!Z25","v":"3"},{"$f":"iCityCompare!AD25","v":"3"},{"$f":"iCityCompare!AG25","v":"*"},{"$f":"iCityCompare!X25","v":77.777777777777786},{"$f":"iCityCompare!AA25","v":"4"},{"$f":"iCityCompare!AE25","v":"4"},{"$f":"iCityCompare!AH25","v":""}]
[null,null,"1",{"$f":"iCityCompare!P26","v":18},{"$f":"iCityCompare!U26","v":"  4.3)   Labour market regulations"},2,1,{"$f":"iCityCompare!V26","v":50},{"$f":"iCityCompare!Z26","v":"=7"},{"$f":"iCityCompare!AD26","v":"=7"},{"$f":"iCityCompare!AG26","v":"*"},{"$f":"iCityCompare!X26","v":100},{"$f":"iCityCompare!AA26","v":"1"},{"$f":"iCityCompare!AE26","v":"1"},{"$f":"iCityCompare!AH26","v":""}]

{"sheet":"Scores","index":23,"n_rows":23,"n_cols":32,"rows_kept":23,"cut":false,"hidden":true,"merged":[]}
[]
[]
[null,null,null,null,null,null,null,null,null,null,null,null,null,null,null,{"$f":"Data!J3","v":3},{"$f":"Data!K3","v":4},{"$f":"Data!L3","v":5},{"$f":"Data!M3","v":6},{"$f":"Data!N3","v":7},{"$f":"Data!O3","v":8},{"$f":"Data!P3","v":9},{"$f":"Data!Q3","v":10},{"$f":"Data!R3","v":11},{"$f":"Data!S3","v":12},{"$f":"Data!T3","v":13},{"$f":"Data!U3","v":14},{"$f":"Data!V3","v":15},{"$f":"Data!W3","v":16},{"$f":"Data!X3","v":17},{"$f":"Data!Y3","v":18},{"$f":"Data!Z3","v":19}]
[null,{"$f":"tblIndicators!A1","v":"ID"},{"$f":"tblIndicators!B1","v":"IS_BG"},{"$f":"tblIndicators!D1","v":"INDI_CODE"},{"$f":"tblIndicators!E1","v":"PARENT_CODE"},{"$f":"tblIndicators!F1","v":"DEPTH"},{"$f":"tblIndicators!V1","v":"HIGH_IS"},{"$f":"tblIndicators!W1","v":"NORM_ID (1=sumproduct, 2=min max set by data values, 3=min max set by user here)"},{"$f":"tblIndicators!X1","v":"Set Min"},{"$f":"tblIndicators!Y1","v":"Set Max"},"MIN","MAX","RANGE","Indicators","Weight",{"$f":"Data!J4","v":"Australia"},{"$f":"Data!K4","v":"Cambodia"},{"$f":"Data!L4","v":"China"},{"$f":"Data!M4","v":"Hong Kong"},{"$f":"Data!N4","v":"India"},{"$f":"Data!O4","v":"Indonesia"},{"$f":"Data!P4","v":"Japan"},{"$f":"Data!Q4","v":"Laos "},{"$f":"Data!R4","v":"Malaysia"},{"$f":"Data!S4","v":"Myanmar"},{"$f":"Data!T4","v":"New Zealand"},{"$f":"Data!U4","v":"Philippines"},{"$f":"Data!V4","v":"Singapore"},{"$f":"Data!W4","v":"South Korea"},{"$f":"Data!X4","v":"Taiwan"},{"$f":"Data!Y4","v":"Thailand"},{"$f":"Data!Z4","v":"Vietnam "}]
[null,{"$f":"tblIndicators!A2","v":1},{"$f":"tblIndicators!B2","v":0},{"$f":"tblIndicators!D2","v":"TOTAL"},{"$f":"tblIndicators!E2","v":"OVERALL SCORE"},{"$f":"tblIndicators!F2","v":0},{"$f":"tblIndicators!V2","v":""},{"$f":"tblIndicators!W2","v":1},{"$f":"tblIndicators!X2","v":0},{"$f":"tblIndicators!Y2","v":0},{"$f":"CHOOSE(H5,\"-\",MIN(Data!J5:Z5),I5)","v":"-"},{"$f":"CHOOSE(H5,\"-\",MAX(Data!J5:Z5),J5)","v":"-"},{"$f":"CHOOSE(H5,\"-\",L5-K5,L5-K5)","v":"-"},{"$f":"tblIndicators!AB2","v":"OVERALL SCORE"},{"$f":"tblIndicators!AA2","v":""},{"$f":"IF($H5=0,0,CHOOSE($H5,SUMPRODUCT($O6:$O$23*P6:P$23*($E6:$E$23=$D5)),IF(ISNUMBER(Data!J5),100*ABS($G5-(Data!J5-$K5)/$M5),0),IF(ISNUMBER(Data!J5),100*ABS($G5-(Data!J5-$K5)/$M5),0)))","v":85.203537454070016},{"$f":"IF($H5=0,0,CHOOSE($H5,SUMPRODUCT($O6:$O$23*Q6:Q$23*($E6:$E$23=$D5)),IF(ISNUMBER(Data!K5),100*ABS($G5-(Data!K5-$K5)/$M5),0),IF(ISNUMBER(Data!K5),100*ABS($G5-(Data!K5-$K5)/$M5),0)))","v":23.921744324970128},{"$f":"IF($H5=0,0,CHOOSE($H5,SUMPRODUCT($O6:$O$23*R6:R$23*($E6:$E$23=$D5)),IF(ISNUMBER(Data!L5),100*ABS($G5-(Data!L5-$K5)/$M5),0),IF(ISNUMBER(Data!L5),100*ABS($G5-(Data!L5-$K5)/$M5),0)))","v":61.576553729627371},{"$f":"IF($H5=0,0,CHOOSE($H5,SUMPRODUCT($O6:$O$23*S6:S$23*($E6:$E$23=$D5)),IF(ISNUMBER(Data!M5),100*ABS($G5-(Data!M5-$K5)/$M5),0),IF(ISNUMBER(Data!M5),100*ABS($G5-(Data!M5-$K5)/$M5),0)))","v":81.408892382948977},{"$f":"IF($H5=0,0,CHOOSE($H5,SUMPRODUCT($O6:$O$23*T6:T$23*($E6:$E$23=$D5)),IF(ISNUMBER(Data!N5),100*ABS($G5-(Data!N5-$K5)/$M5),0),IF(ISNUMBER(Data!N5),100*ABS($G5-(Data!N5-$K5)/$M5),0)))","v":54.142809844232545},{"$f":"IF($H5=0,0,CHOOSE($H5,SUMPRODUCT($O6:$O$23*U6:U$23*($E6:$E$23=$D5)),IF(ISNUMBER(Data!O5),100*ABS($G5-(Data!O5-$K5)/$M5),0),IF(ISNUMBER(Data!O5),100*ABS($G5-(Data!O5-$K5)/$M5),0)))","v":46.066240616757959},{"$f":"IF($H5=0,0,CHOOSE($H5,SUMPRODUCT($O6:$O$23*V6:V$23*($E6:$E$23=$D5)),IF(ISNUMBER(Data!P5),100*ABS($G5-(Data!P5-$K5)/$M5),0),IF(ISNUMBER(Data!P5),100*ABS($G5-(Data!P5-$K5)/$M5),0)))","v":75.85877093618268},{"$f":"IF($H5=0,0,CHOOSE($H5,SUMPRODUCT($O6:$O$23*W6:W$23*($E6:$E$23=$D5)),IF(ISNUMBER(Data!Q5),100*ABS($G5-(Data!Q5-$K5)/$M5),0),IF(ISNUMBER(Data!Q5),100*ABS($G5-(Data!Q5-$K5)/$M5),0)))","v":12.935185185185183},{"$f":"IF($H5=0,0,CHOOSE($H5,SUMPRODUCT($O6:$O$23*X6:X$23*($E6:$E$23=$D5)),IF(ISNUMBER(Data!R5),100*ABS($G5-(Data!R5-$K5)/$M5),0),IF(ISNUMBER(Data!R5),100*ABS($G5-(Data!R5-$K5)/$M5),0)))","v":71.800162304727124},{"$f":"IF($H5=0,0,CHOOSE($H5,SUMPRODUCT($O6:$O$23*Y6:Y$23*($E6:$E$23=$D5)),IF(ISNUMBER(Data!S5),100*ABS($G5-(Data!S5-$K5)/$M5),0),IF(ISNUMBER(Data!S5),100*ABS($G5-(Data!S5-$K5)/$M5),0)))","v":10.82037037037037},{"$f":"IF($H5=0,0,CHOOSE($H5,SUMPRODUCT($O6:$O$23*Z6:Z$23*($E6:$E$23=$D5)),IF(ISNUMBER(Data!T5),100*ABS($G5-(Data!T5-$K5)/$M5),0),IF(ISNUMBER(Data!T5),100*ABS($G5-(Data!T5-$K5)/$M5),0)))","v":81.806219145195101},{"$f":"IF($H5=0,0,CHOOSE($H5,SUMPRODUCT($O6:$O$23*AA6:AA$23*($E6:$E$23=$D5)),IF(ISNUMBER(Data!U5),100*ABS($G5-(Data!U5-$K5)/$M5),0),IF(ISNUMBER(Data!U5),100*ABS($G5-(Data!U5-$K5)/$M5),0)))","v":50.411355131759876},{"$f":"IF($H5=0,0,CHOOSE($H5,SUMPRODUCT($O6:$O$23*AB6:AB$23*($E6:$E$23=$D5)),IF(ISNUMBER(Data!V5),100*ABS($G5-(Data!V5-$K5)/$M5),0),IF(ISNUMBER(Data!V5),100*ABS($G5-(Data!V5-$K5)/$M5),0)))","v":69.755110062893081},{"$f":"IF($H5=0,0,CHOOSE($H5,SUMPRODUCT($O6:$O$23*AC6:AC$23*($E6:$E$23=$D5)),IF(ISNUMBER(Data!W5),100*ABS($G5-(Data!W5-$K5)/$M5),0),IF(ISNUMBER(Data!W5),100*ABS($G5-(Data!W5-$K5)/$M5),0)))","v":71.827356799891803},{"$f":"IF($H5=0,0,CHOOSE($H5,SUMPRODUCT($O6:$O$23*AD6:AD$23*($E6:$E$23=$D5)),IF(ISNUMBER(Data!X5),100*ABS($G5-(Data!X5-$K5)/$M5),0),IF(ISNUMBER(Data!X5),100*ABS($G5-(Data!X5-$K5)/$M5),0)))","v":69.814499222289854},{"$f":"IF($H5=0,0,CHOOSE($H5,SUMPRODUCT($O6:$O$23*AE6:AE$23*($E6:$E$23=$D5)),IF(ISNUMBER(Data!Y5),100*ABS($G5-(Data!Y5-$K5)/$M5),0),IF(ISNUMBER(Data!Y5),100*ABS($G5-(Data!Y5-$K5)/$M5),0)))","v":53.103021234868464},{"$f":"IF($H5=0,0,CHOOSE($H5,SUMPRODUCT($O6:$O$23*AF6:AF$23*($E6:$E$23=$D5)),IF(ISNUMBER(Data!Z5),100*ABS($G5-(Data!Z5-$K5)/$M5),0),IF(ISNUMBER(Data!Z5),100*ABS($G5-(Data!Z5-$K5)/$M5),0)))","v":49.355062724014331}]
[null,{"$f":"tblIndicators!A3","v":2},{"$f":"tblIndicators!B3","v":0},{"$f":"tblIndicators!D3","v":"IP"},{"$f":"tblIndicators!E3","v":"TOTAL"},{"$f":"tblIndicators!F3","v":1},{"$f":"tblIndicators!V3","v":""},{"$f":"tblIndicators!W3","v":1},{"$f":"tblIndicators!X3","v":0},{"$f":"tblIndicators!Y3","v":0},{"$f":"CHOOSE(H6,\"-\",MIN(Data!J6:Z6),I6)","v":"-"},{"$f":"CHOOSE(H6,\"-\",MAX(Data!J6:Z6),J6)","v":"-"},{"$f":"CHOOSE(H6,\"-\",L6-K6,L6-K6)","v":"-"},{"$f":"tblIndicators!AB3","v":"1) INTELLECTUAL PROPERTY"},{"$f":"tblIndicators!AA3","v":0.25},{"$f":"IF($H6=0,0,CHOOSE($H6,SUMPRODUCT($O7:$O$23*P7:P$23*($E7:$E$23=$D6)),IF(ISNUMBER(Data!J6),100*ABS($G6-(Data!J6-$K6)/$M6),0),IF(ISNUMBER(Data!J6),100*ABS($G6-(Data!J6-$K6)/$M6),0)))","v":100},{"$f":"IF($H6=0,0,CHOOSE($H6,SUMPRODUCT($O7:$O$23*Q7:Q$23*($E7:$E$23=$D6)),IF(ISNUMBER(Data!K6),100*ABS($G6-(Data!K6-$K6)/$M6),0),IF(ISNUMBER(Data!K6),100*ABS($G6-(Data!K6-$K6)/$M6),0)))","v":20},{"$f":"IF($H6=0,0,CHOOSE($H6,SUMPRODUCT($O7:$O$23*R7:R$23*($E7:$E$23=$D6)),IF(ISNUMBER(Data!L6),100*ABS($G6-(Data!L6-$K6)/$M6),0),IF(ISNUMBER(Data!L6),100*ABS($G6-(Data!L6-$K6)/$M6),0)))","v":60},{"$f":"IF($H6=0,0,CHOOSE($H6,SUMPRODUCT($O7:$O$23*S7:S$23*($E7:$E$23=$D6)),IF(ISNUMBER(Data!M6),100*ABS($G6-(Data!M6-$K6)/$M6),0),IF(ISNUMBER(Data!M6),100*ABS($G6-(Data!M6-$K6)/$M6),0)))","v":80},{"$f":"IF($H6=0,0,CHOOSE($H6,SUMPRODUCT($O7:$O$23*T7:T$23*($E7:$E$23=$D6)),IF(ISNUMBER(Data!N6),100*ABS($G6-(Data!N6-$K6)/$M6),0),IF(ISNUMBER(Data!N6),100*ABS($G6-(Data!N6-$K6)/$M6),0)))","v":40},{"$f":"IF($H6=0,0,CHOOSE($H6,SUMPRODUCT($O7:$O$23*U7:U$23*($E7:$E$23=$D6)),IF(ISNUMBER(Data!O6),100*ABS($G6-(Data!O6-$K6)/$M6),0),IF(ISNUMBER(Data!O6),100*ABS($G6-(Data!O6-$K6)/$M6),0)))","v":20},{"$f":"IF($H6=0,0,CHOOSE($H6,SUMPRODUCT($O7:$O$23*V7:V$23*($E7:$E$23=$D6)),IF(ISNUMBER(Data!P6),100*ABS($G6-(Data!P6-$K6)/$M6),0),IF(ISNUMBER(Data!P6),100*ABS($G6-(Data!P6-$K6)/$M6),0)))","v":80},{"$f":"IF($H6=0,0,CHOOSE($H6,SUMPRODUCT($O7:$O$23*W7:W$23*($E7:$E$23=$D6)),IF(ISNUMBER(Data!Q6),100*ABS($G6-(Data!Q6-$K6)/$M6),0),IF(ISNUMBER(Data!Q6),100*ABS($G6-(Data!Q6-$K6)/$M6),0)))","v":0},{"$f":"IF($H6=0,0,CHOOSE($H6,SUMPRODUCT($O7:$O$23*X7:X$23*($E7:$E$23=$D6)),IF(ISNUMBER(Data!R6),100*ABS($G6-(Data!R6-$K6)/$M6),0),IF(ISNUMBER(Data!R6),100*ABS($G6-(Data!R6-$K6)/$M6),0)))","v":60},{"$f":"IF($H6=0,0,CHOOSE($H6,SUMPRODUCT($O7:$O$23*Y7:Y$23*($E7:$E$23=$D6)),IF(ISNUMBER(Data!S6),100*ABS($G6-(Data!S6-$K6)/$M6),0),IF(ISNUMBER(Data!S6),100*ABS($G6-(Data!S6-$K6)/$M6),0)))","v":0},{"$f":"IF($H6=0,0,CHOOSE($H6,SUMPRODUCT($O7:$O$23*Z7:Z$23*($E7:$E$23=$D6)),IF(ISNUMBER(Data!T6),100*ABS($G6-(Data!T6-$K6)/$M6),0),IF(ISNUMBER(Data!T6),100*ABS($G6-(Data!T6-$K6)/$M6),0)))","v":100},{"$f":"IF($H6=0,0,CHOOSE($H6,SUMPRODUCT($O7:$O$23*AA7:AA$23*($E7:$E$23=$D6)),IF(ISNUMBER(Data!U6),100*ABS($G6-(Data!U6-$K6)/$M6),0),IF(ISNUMBER(Data!U6),100*ABS($G6-(Data!U6-$K6)/$M6),0)))","v":40},{"$f":"IF($H6=0,0,CHOOSE($H6,SUMPRODUCT($O7:$O$23*AB7:AB$23*($E7:$E$23=$D6)),IF(ISNUMBER(Data!V6),100*ABS($G6-(Data!V6-$K6)/$M6),0),IF(ISNUMBER(Data!V6),100*ABS($G6-(Data!V6-$K6)/$M6),0)))","v":80},{"$f":"IF($H6=0,0,CHOOSE($H6,SUMPRODUCT($O7:$O$23*AC7:AC$23*($E7:$E$23=$D6)),IF(ISNUMBER(Data!W6),100*ABS($G6-(Data!W6-$K6)/$M6),0),IF(ISNUMBER(Data!W6),100*ABS($G6-(Data!W6-$K6)/$M6),0)))","v":60},{"$f":"IF($H6=0,0,CHOOSE($H6,SUMPRODUCT($O7:$O$23*AD7:AD$23*($E7:$E$23=$D6)),IF(ISNUMBER(Data!X6),100*ABS($G6-(Data!X6-$K6)/$M6),0),IF(ISNUMBER(Data!X6),100*ABS($G6-(Data!X6-$K6)/$M6),0)))","v":80},{"$f":"IF($H6=0,0,CHOOSE($H6,SUMPRODUCT($O7:$O$23*AE7:AE$23*($E7:$E$23=$D6)),IF(ISNUMBER(Data!Y6),100*ABS($G6-(Data!Y6-$K6)/$M6),0),IF(ISNUMBER(Data!Y6),100*ABS($G6-(Data!Y6-$K6)/$M6),0)))","v":20},{"$f":"IF($H6=0,0,CHOOSE($H6,SUMPRODUCT($O7:$O$23*AF7:AF$23*($E7:$E$23=$D6)),IF(ISNUMBER(Data!Z6),100*ABS($G6-(Data!Z6-$K6)/$M6),0),IF(ISNUMBER(Data!Z6),100*ABS($G6-(Data!Z6-$K6)/$M6),0)))","v":40}]
[null,{"$f":"tblIndicators!A4","v":3},{"$f":"tblIndicators!B4","v":0},{"$f":"tblIndicators!D4","v":"IP_11"},{"$f":"tblIndicators!E4","v":"IP"},{"$f":"tblIndicators!F4","v":2},{"$f":"tblIndicators!V4","v":1},{"$f":"tblIndicators!W4","v":3},{"$f":"tblIndicators!X4","v":0},{"$f":"tblIndicators!Y4","v":4},{"$f":"CHOOSE(H7,\"-\",MIN(Data!J7:Z7),I7)","v":0},{"$f":"CHOOSE(H7,\"-\",MAX(Data!J7:Z7),J7)","v":4},{"$f":"CHOOSE(H7,\"-\",L7-K7,L7-K7)","v":4},{"$f":"tblIndicators!AB4","v":"1.1)   Protection of IP rights"},{"$f":"tblIndicators!AA4","v":0.8},{"$f":"IF($H7=0,0,CHOOSE($H7,SUMPRODUCT($O8:$O$23*P8:P$23*($E8:$E$23=$D7)),IF(ISNUMBER(Data!J7),100*ABS($G7-(Data!J7-$K7)/$M7),0),IF(ISNUMBER(Data!J7),100*ABS($G7-(Data!J7-$K7)/$M7),0)))","v":100},{"$f":"IF($H7=0,0,CHOOSE($H7,SUMPRODUCT($O8:$O$23*Q8:Q$23*($E8:$E$23=$D7)),IF(ISNUMBER(Data!K7),100*ABS($G7-(Data!K7-$K7)/$M7),0),IF(ISNUMBER(Data!K7),100*ABS($G7-(Data!K7-$K7)/$M7),0)))","v":25},{"$f":"IF($H7=0,0,CHOOSE($H7,SUMPRODUCT($O8:$O$23*R8:R$23*($E8:$E$23=$D7)),IF(ISNUMBER(Data!L7),100*ABS($G7-(Data!L7-$K7)/$M7),0),IF(ISNUMBER(Data!L7),100*ABS($G7-(Data!L7-$K7)/$M7),0)))","v":50},{"$f":"IF($H7=0,0,CHOOSE($H7,SUMPRODUCT($O8:$O$23*S8:S$23*($E8:$E$23=$D7)),IF(ISNUMBER(Data!M7),100*ABS($G7-(Data!M7-$K7)/$M7),0),IF(ISNUMBER(Data!M7),100*ABS($G7-(Data!M7-$K7)/$M7),0)))","v":75},{"$f":"IF($H7=0,0,CHOOSE($H7,SUMPRODUCT($O8:$O$23*T8:T$23*($E8:$E$23=$D7)),IF(ISNUMBER(Data!N7),100*ABS($G7-(Data!N7-$K7)/$M7),0),IF(ISNUMBER(Data!N7),100*ABS($G7-(Data!N7-$K7)/$M7),0)))","v":50},{"$f":"IF($H7=0,0,CHOOSE($H7,SUMPRODUCT($O8:$O$23*U8:U$23*($E8:$E$23=$D7)),IF(ISNUMBER(Data!O7),100*ABS($G7-(Data!O7-$K7)/$M7),0),IF(ISNUMBER(Data!O7),100*ABS($G7-(Data!O7-$K7)/$M7),0)))","v":25},{"$f":"IF($H7=0,0,CHOOSE($H7,SUMPRODUCT($O8:$O$23*V8:V$23*($E8:$E$23=$D7)),IF(ISNUMBER(Data!P7),100*ABS($G7-(Data!P7-$K7)/$M7),0),IF(ISNUMBER(Data!P7),100*ABS($G7-(Data!P7-$K7)/$M7),0)))","v":75},{"$f":"IF($H7=0,0,CHOOSE($H7,SUMPRODUCT($O8:$O$23*W8:W$23*($E8:$E$23=$D7)),IF(ISNUMBER(Data!Q7),100*ABS($G7-(Data!Q7-$K7)/$M7),0),IF(ISNUMBER(Data!Q7),100*ABS($G7-(Data!Q7-$K7)/$M7),0)))","v":0},{"$f":"IF($H7=0,0,CHOOSE($H7,SUMPRODUCT($O8:$O$23*X8:X$23*($E8:$E$23=$D7)),IF(ISNUMBER(Data!R7),100*ABS($G7-(Data!R7-$K7)/$M7),0),IF(ISNUMBER(Data!R7),100*ABS($G7-(Data!R7-$K7)/$M7),0)))","v":75},{"$f":"IF($H7=0,0,CHOOSE($H7,SUMPRODUCT($O8:$O$23*Y8:Y$23*($E8:$E$23=$D7)),IF(ISNUMBER(Data!S7),100*ABS($G7-(Data!S7-$K7)/$M7),0),IF(ISNUMBER(Data!S7),100*ABS($G7-(Data!S7-$K7)/$M7),0)))","v":0},{"$f":"IF($H7=0,0,CHOOSE($H7,SUMPRODUCT($O8:$O$23*Z8:Z$23*($E8:$E$23=$D7)),IF(ISNUMBER(Data!T7),100*ABS($G7-(Data!T7-$K7)/$M7),0),IF(ISNUMBER(Data!T7),100*ABS($G7-(Data!T7-$K7)/$M7),0)))","v":100},{"$f":"IF($H7=0,0,CHOOSE($H7,SUMPRODUCT($O8:$O$23*AA8:AA$23*($E8:$E$23=$D7)),IF(ISNUMBER(Data!U7),100*ABS($G7-(Data!U7-$K7)/$M7),0),IF(ISNUMBER(Data!U7),100*ABS($G7-(Data!U7-$K7)/$M7),0)))","v":25},{"$f":"IF($H7=0,0,CHOOSE($H7,SUMPRODUCT($O8:$O$23*AB8:AB$23*($E8:$E$23=$D7)),IF(ISNUMBER(Data!V7),100*ABS($G7-(Data!V7-$K7)/$M7),0),IF(ISNUMBER(Data!V7),100*ABS($G7-(Data!V7-$K7)/$M7),0)))","v":100},{"$f":"IF($H7=0,0,CHOOSE($H7,SUMPRODUCT($O8:$O$23*AC8:AC$23*($E8:$E$23=$D7)),IF(ISNUMBER(Data!W7),100*ABS($G7-(Data!W7-$K7)/$M7),0),IF(ISNUMBER(Data!W7),100*ABS($G7-(Data!W7-$K7)/$M7),0)))","v":50},{"$f":"IF($H7=0,0,CHOOSE($H7,SUMPRODUCT($O8:$O$23*AD8:AD$23*($E8:$E$23=$D7)),IF(ISNUMBER(Data!X7),100*ABS($G7-(Data!X7-$K7)/$M7),0),IF(ISNUMBER(Data!X7),100*ABS($G7-(Data!X7-$K7)/$M7),0)))","v":75},{"$f":"IF($H7=0,0,CHOOSE($H7,SUMPRODUCT($O8:$O$23*AE8:AE$23*($E8:$E$23=$D7)),IF(ISNUMBER(Data!Y7),100*ABS($G7-(Data!Y7-$K7)/$M7),0),IF(ISNUMBER(Data!Y7),100*ABS($G7-(Data!Y7-$K7)/$M7),0)))","v":25},{"$f":"IF($H7=0,0,CHOOSE($H7,SUMPRODUCT($O8:$O$23*AF8:AF$23*($E8:$E$23=$D7)),IF(ISNUMBER(Data!Z7),100*ABS($G7-(Data!Z7-$K7)/$M7),0),IF(ISNUMBER(Data!Z7),100*ABS($G7-(Data!Z7-$K7)/$M7),0)))","v":25}]
[null,{"$f":"tblIndicators!A5","v":4},{"$f":"tblIndicators!B5","v":0},{"$f":"tblIndicators!D5","v":"IP_13"},{"$f":"tblIndicators!E5","v":"IP"},{"$f":"tblIndicators!F5","v":2},{"$f":"tblIndicators!V5","v":0},{"$f":"tblIndicators!W5","v":3},{"$f":"tblIndicators!X5","v":0},{"$f":"tblIndicators!Y5","v":1},{"$f":"CHOOSE(H8,\"-\",MIN(Data!J8:Z8),I8)","v":0},{"$f":"CHOOSE(H8,\"-\",MAX(Data!J8:Z8),J8)","v":1},{"$f":"CHOOSE(H8,\"-\",L8-K8,L8-K8)","v":1},{"$f":"tblIndicators!AB5","v":"1.2)   Customs recordal system"},{"$f":"tblIndicators!AA5","v":0.2},{"$f":"IF($H8=0,0,CHOOSE($H8,SUMPRODUCT($O9:$O$23*P9:P$23*($E9:$E$23=$D8)),IF(ISNUMBER(Data!J8),100*ABS($G8-(Data!J8-$K8)/$M8),0),IF(ISNUMBER(Data!J8),100*ABS($G8-(Data!J8-$K8)/$M8),0)))","v":100},{"$f":"IF($H8=0,0,CHOOSE($H8,SUMPRODUCT($O9:$O$23*Q9:Q$23*($E9:$E$23=$D8)),IF(ISNUMBER(Data!K8),100*ABS($G8-(Data!K8-$K8)/$M8),0),IF(ISNUMBER(Data!K8),100*ABS($G8-(Data!K8-$K8)/$M8),0)))","v":0},{"$f":"IF($H8=0,0,CHOOSE($H8,SUMPRODUCT($O9:$O$23*R9:R$23*($E9:$E$23=$D8)),IF(ISNUMBER(Data!L8),100*ABS($G8-(Data!L8-$K8)/$M8),0),IF(ISNUMBER(Data!L8),100*ABS($G8-(Data!L8-$K8)/$M8),0)))","v":100},{"$f":"IF($H8=0,0,CHOOSE($H8,SUMPRODUCT($O9:$O$23*S9:S$23*($E9:$E$23=$D8)),IF(ISNUMBER(Data!M8),100*ABS($G8-(Data!M8-$K8)/$M8),0),IF(ISNUMBER(Data!M8),100*ABS($G8-(Data!M8-$K8)/$M8),0)))","v":100},{"$f":"IF($H8=0,0,CHOOSE($H8,SUMPRODUCT($O9:$O$23*T9:T$23*($E9:$E$23=$D8)),IF(ISNUMBER(Data!N8),100*ABS($G8-(Data!N8-$K8)/$M8),0),IF(ISNUMBER(Data!N8),100*ABS($G8-(Data!N8-$K8)/$M8),0)))","v":0},{"$f":"IF($H8=0,0,CHOOSE($H8,SUMPRODUCT($O9:$O$23*U9:U$23*($E9:$E$23=$D8)),IF(ISNUMBER(Data!O8),100*ABS($G8-(Data!O8-$K8)/$M8),0),IF(ISNUMBER(Data!O8),100*ABS($G8-(Data!O8-$K8)/$M8),0)))","v":0},{"$f":"IF($H8=0,0,CHOOSE($H8,SUMPRODUCT($O9:$O$23*V9:V$23*($E9:$E$23=$D8)),IF(ISNUMBER(Data!P8),100*ABS($G8-(Data!P8-$K8)/$M8),0),IF(ISNUMBER(Data!P8),100*ABS($G8-(Data!P8-$K8)/$M8),0)))","v":100},{"$f":"IF($H8=0,0,CHOOSE($H8,SUMPRODUCT($O9:$O$23*W9:W$23*($E9:$E$23=$D8)),IF(ISNUMBER(Data!Q8),100*ABS($G8-(Data!Q8-$K8)/$M8),0),IF(ISNUMBER(Data!Q8),100*ABS($G8-(Data!Q8-$K8)/$M8),0)))","v":0},{"$f":"IF($H8=0,0,CHOOSE($H8,SUMPRODUCT($O9:$O$23*X9:X$23*($E9:$E$23=$D8)),IF(ISNUMBER(Data!R8),100*ABS($G8-(Data!R8-$K8)/$M8),0),IF(ISNUMBER(Data!R8),100*ABS($G8-(Data!R8-$K8)/$M8),0)))","v":0},{"$f":"IF($H8=0,0,CHOOSE($H8,SUMPRODUCT($O9:$O$23*Y9:Y$23*($E9:$E$23=$D8)),IF(ISNUMBER(Data!S8),100*ABS($G8-(Data!S8-$K8)/$M8),0),IF(ISNUMBER(Data!S8),100*ABS($G8-(Data!S8-$K8)/$M8),0)))","v":0},{"$f":"IF($H8=0,0,CHOOSE($H8,SUMPRODUCT($O9:$O$23*Z9:Z$23*($E9:$E$23=$D8)),IF(ISNUMBER(Data!T8),100*ABS($G8-(Data!T8-$K8)/$M8),0),IF(ISNUMBER(Data!T8),100*ABS($G8-(Data!T8-$K8)/$M8),0)))","v":100},{"$f":"IF($H8=0,0,CHOOSE($H8,SUMPRODUCT($O9:$O$23*AA9:AA$23*($E9:$E$23=$D8)),IF(ISNUMBER(Data!U8),100*ABS($G8-(Data!U8-$K8)/$M8),0),IF(ISNUMBER(Data!U8),100*ABS($G8-(Data!U8-$K8)/$M8),0)))","v":100},{"$f":"IF($H8=0,0,CHOOSE($H8,SUMPRODUCT($O9:$O$23*AB9:AB$23*($E9:$E$23=$D8)),IF(ISNUMBER(Data!V8),100*ABS($G8-(Data!V8-$K8)/$M8),0),IF(ISNUMBER(Data!V8),100*ABS($G8-(Data!V8-$K8)/$M8),0)))","v":0},{"$f":"IF($H8=0,0,CHOOSE($H8,SUMPRODUCT($O9:$O$23*AC9:AC$23*($E9:$E$23=$D8)),IF(ISNUMBER(Data!W8),100*ABS($G8-(Data!W8-$K8)/$M8),0),IF(ISNUMBER(Data!W8),100*ABS($G8-(Data!W8-$K8)/$M8),0)))","v":100},{"$f":"IF($H8=0,0,CHOOSE($H8,SUMPRODUCT($O9:$O$23*AD9:AD$23*($E9:$E$23=$D8)),IF(ISNUMBER(Data!X8),100*ABS($G8-(Data!X8-$K8)/$M8),0),IF(ISNUMBER(Data!X8),100*ABS($G8-(Data!X8-$K8)/$M8),0)))","v":100},{"$f":"IF($H8=0,0,CHOOSE($H8,SUMPRODUCT($O9:$O$23*AE9:AE$23*($E9:$E$23=$D8)),IF(ISNUMBER(Data!Y8),100*ABS($G8-(Data!Y8-$K8)/$M8),0),IF(ISNUMBER(Data!Y8),100*ABS($G8-(Data!Y8-$K8)/$M8),0)))","v":0},{"$f":"IF($H8=0,0,CHOOSE($H8,SUMPRODUCT($O9:$O$23*AF9:AF$23*($E9:$E$23=$D8)),IF(ISNUMBER(Data!Z8),100*ABS($G8-(Data!Z8-$K8)/$M8),0),IF(ISNUMBER(Data!Z8),100*ABS($G8-(Data!Z8-$K8)/$M8),0)))","v":100}]
[null,{"$f":"tblIndicators!A6","v":5},{"$f":"tblIndicators!B6","v":0},{"$f":"tblIndicators!D6","v":"TT"},{"$f":"tblIndicators!E6","v":"TOTAL"},{"$f":"tblIndicators!F6","v":1},{"$f":"tblIndicators!V6","v":""},{"$f":"tblIndicators!W6","v":1},{"$f":"tblIndicators!X6","v":0},{"$f":"tblIndicators!Y6","v":0},{"$f":"CHOOSE(H9,\"-\",MIN(Data!J9:Z9),I9)","v":"-"},{"$f":"CHOOSE(H9,\"-\",MAX(Data!J9:Z9),J9)","v":"-"},"-",{"$f":"tblIndicators!AB6","v":"2) TRANSPARENCY AND TRADE"},{"$f":"tblIndicators!AA6","v":0.25},{"$f":"IF($H9=0,0,CHOOSE($H9,SUMPRODUCT($O10:$O$23*P10:P$23*($E10:$E$23=$D9)),IF(ISNUMBER(Data!J9),100*ABS($G9-(Data!J9-$K9)/$M9),0),IF(ISNUMBER(Data!J9),100*ABS($G9-(Data!J9-$K9)/$M9),0)))","v":81.5},{"$f":"IF($H9=0,0,CHOOSE($H9,SUMPRODUCT($O10:$O$23*Q10:Q$23*($E10:$E$23=$D9)),IF(ISNUMBER(Data!K9),100*ABS($G9-(Data!K9-$K9)/$M9),0),IF(ISNUMBER(Data!K9),100*ABS($G9-(Data!K9-$K9)/$M9),0)))","v":25},{"$f":"IF($H9=0,0,CHOOSE($H9,SUMPRODUCT($O10:$O$23*R10:R$23*($E10:$E$23=$D9)),IF(ISNUMBER(Data!L9),100*ABS($G9-(Data!L9-$K9)/$M9),0),IF(ISNUMBER(Data!L9),100*ABS($G9-(Data!L9-$K9)/$M9),0)))","v":80},{"$f":"IF($H9=0,0,CHOOSE($H9,SUMPRODUCT($O10:$O$23*S10:S$23*($E10:$E$23=$D9)),IF(ISNUMBER(Data!M9),100*ABS($G9-(Data!M9-$K9)/$M9),0),IF(ISNUMBER(Data!M9),100*ABS($G9-(Data!M9-$K9)/$M9),0)))","v":69.5},{"$f":"IF($H9=0,0,CHOOSE($H9,SUMPRODUCT($O10:$O$23*T10:T$23*($E10:$E$23=$D9)),IF(ISNUMBER(Data!N9),100*ABS($G9-(Data!N9-$K9)/$M9),0),IF(ISNUMBER(Data!N9),100*ABS($G9-(Data!N9-$K9)/$M9),0)))","v":71.75},{"$f":"IF($H9=0,0,CHOOSE($H9,SUMPRODUCT($O10:$O$23*U10:U$23*($E10:$E$23=$D9)),IF(ISNUMBER(Data!O9),100*ABS($G9-(Data!O9-$K9)/$M9),0),IF(ISNUMBER(Data!O9),100*ABS($G9-(Data!O9-$K9)/$M9),0)))","v":78},{"$f":"IF($H9=0,0,CHOOSE($H9,SUMPRODUCT($O10:$O$23*V10:V$23*($E10:$E$23=$D9)),IF(ISNUMBER(Data!P9),100*ABS($G9-(Data!P9-$K9)/$M9),0),IF(ISNUMBER(Data!P9),100*ABS($G9-(Data!P9-$K9)/$M9),0)))","v":88.75},{"$f":"IF($H9=0,0,CHOOSE($H9,SUMPRODUCT($O10:$O$23*W10:W$23*($E10:$E$23=$D9)),IF(ISNUMBER(Data!Q9),100*ABS($G9-(Data!Q9-$K9)/$M9),0),IF(ISNUMBER(Data!Q9),100*ABS($G9-(Data!Q9-$K9)/$M9),0)))","v":11.000000000000002},{"$f":"IF($H9=0,0,CHOOSE($H9,SUMPRODUCT($O10:$O$23*X10:X$23*($E10:$E$23=$D9)),IF(ISNUMBER(Data!R9),100*ABS($G9-(Data!R9-$K9)/$M9),0),IF(ISNUMBER(Data!R9),100*ABS($G9-(Data!R9-$K9)/$M9),0)))","v":93},{"$f":"IF($H9=0,0,CHOOSE($H9,SUMPRODUCT($O10:$O$23*Y10:Y$23*($E10:$E$23=$D9)),IF(ISNUMBER(Data!S9),100*ABS($G9-(Data!S9-$K9)/$M9),0),IF(ISNUMBER(Data!S9),100*ABS($G9-(Data!S9-$K9)/$M9),0)))","v":11.799999999999999},{"$f":"IF($H9=0,0,CHOOSE($H9,SUMPRODUCT($O10:$O$23*Z10:Z$23*($E10:$E$23=$D9)),IF(ISNUMBER(Data!T9),100*ABS($G9-(Data!T9-$K9)/$M9),0),IF(ISNUMBER(Data!T9),100*ABS($G9-(Data!T9-$K9)/$M9),0)))","v":47.75},{"$f":"IF($H9=0,0,CHOOSE($H9,SUMPRODUCT($O10:$O$23*AA10:AA$23*($E10:$E$23=$D9)),IF(ISNUMBER(Data!U9),100*ABS($G9-(Data!U9-$K9)/$M9),0),IF(ISNUMBER(Data!U9),100*ABS($G9-(Data!U9-$K9)/$M9),0)))","v":77.5},{"$f":"IF($H9=0,0,CHOOSE($H9,SUMPRODUCT($O10:$O$23*AB10:AB$23*($E10:$E$23=$D9)),IF(ISNUMBER(Data!V9),100*ABS($G9-(Data!V9-$K9)/$M9),0),IF(ISNUMBER(Data!V9),100*ABS($G9-(Data!V9-$K9)/$M9),0)))","v":25.75},{"$f":"IF($H9=0,0,CHOOSE($H9,SUMPRODUCT($O10:$O$23*AC10:AC$23*($E10:$E$23=$D9)),IF(ISNUMBER(Data!W9),100*ABS($G9-(Data!W9-$K9)/$M9),0),IF(ISNUMBER(Data!W9),100*ABS($G9-(Data!W9-$K9)/$M9),0)))","v":93.5},{"$f":"IF($H9=0,0,CHOOSE($H9,SUMPRODUCT($O10:$O$23*AD10:AD$23*($E10:$E$23=$D9)),IF(ISNUMBER(Data!X9),100*ABS($G9-(Data!X9-$K9)/$M9),0),IF(ISNUMBER(Data!X9),100*ABS($G9-(Data!X9-$K9)/$M9),0)))","v":44},{"$f":"IF($H9=0,0,CHOOSE($H9,SUMPRODUCT($O10:$O$23*AE10:AE$23*($E10:$E$23=$D9)),IF(ISNUMBER(Data!Y9),100*ABS($G9-(Data!Y9-$K9)/$M9),0),IF(ISNUMBER(Data!Y9),100*ABS($G9-(Data!Y9-$K9)/$M9),0)))","v":67.5},{"$f":"IF($H9=0,0,CHOOSE($H9,SUMPRODUCT($O10:$O$23*AF10:AF$23*($E10:$E$23=$D9)),IF(ISNUMBER(Data!Z9),100*ABS($G9-(Data!Z9-$K9)/$M9),0),IF(ISNUMBER(Data!Z9),100*ABS($G9-(Data!Z9-$K9)/$M9),0)))","v":59.75}]
[null,{"$f":"tblIndicators!A7","v":6},{"$f":"tblIndicators!B7","v":0},{"$f":"tblIndicators!D7","v":"TT_21"},{"$f":"tblIndicators!E7","v":"TT"},{"$f":"tblIndicators!F7","v":2},{"$f":"tblIndicators!V7","v":0},{"$f":"tblIndicators!W7","v":3},{"$f":"tblIndicators!X7","v":0},{"$f":"tblIndicators!Y7","v":5},{"$f":"CHOOSE(H10,\"-\",MIN(Data!J10:Z10),I10)","v":0},{"$f":"CHOOSE(H10,\"-\",MAX(Data!J10:Z10),J10)","v":5},5,{"$f":"tblIndicators!AB7","v":"2.1)   Track and trace services"},{"$f":"tblIndicators!AA7","v":0.25},{"$f":"IF($H10=0,0,CHOOSE($H10,SUMPRODUCT($O11:$O$23*P11:P$23*($E11:$E$23=$D10)),IF(ISNUMBER(Data!J10),100*ABS($G10-(Data!J10-$K10)/$M10),0),IF(ISNUMBER(Data!J10),100*ABS($G10-(Data!J10-$K10)/$M10),0)))","v":76},{"$f":"IF($H10=0,0,CHOOSE($H10,SUMPRODUCT($O11:$O$23*Q11:Q$23*($E11:$E$23=$D10)),IF(ISNUMBER(Data!K10),100*ABS($G10-(Data!K10-$K10)/$M10),0),IF(ISNUMBER(Data!K10),100*ABS($G10-(Data!K10-$K10)/$M10),0)))","v":0},{"$f":"IF($H10=0,0,CHOOSE($H10,SUMPRODUCT($O11:$O$23*R11:R$23*($E11:$E$23=$D10)),IF(ISNUMBER(Data!L10),100*ABS($G10-(Data!L10-$K10)/$M10),0),IF(ISNUMBER(Data!L10),100*ABS($G10-(Data!L10-$K10)/$M10),0)))","v":70},{"$f":"IF($H10=0,0,CHOOSE($H10,SUMPRODUCT($O11:$O$23*S11:S$23*($E11:$E$23=$D10)),IF(ISNUMBER(Data!M10),100*ABS($G10-(Data!M10-$K10)/$M10),0),IF(ISNUMBER(Data!M10),100*ABS($G10-(Data!M10-$K10)/$M10),0)))","v":78},{"$f":"IF($H10=0,0,CHOOSE($H10,SUMPRODUCT($O11:$O$23*T11:T$23*($E11:$E$23=$D10)),IF(ISNUMBER(Data!N10),100*ABS($G10-(Data!N10-$K10)/$M10),0),IF(ISNUMBER(Data!N10),100*ABS($G10-(Data!N10-$K10)/$M10),0)))","v":62},{"$f":"IF($H10=0,0,CHOOSE($H10,SUMPRODUCT($O11:$O$23*U11:U$23*($E11:$E$23=$D10)),IF(ISNUMBER(Data!O10),100*ABS($G10-(Data!O10-$K10)/$M10),0),IF(ISNUMBER(Data!O10),100*ABS($G10-(Data!O10-$K10)/$M10),0)))","v":62},{"$f":"IF($H10=0,0,CHOOSE($H10,SUMPRODUCT($O11:$O$23*V11:V$23*($E11:$E$23=$D10)),IF(ISNUMBER(Data!P10),100*ABS($G10-(Data!P10-$K10)/$M10),0),IF(ISNUMBER(Data!P10),100*ABS($G10-(Data!P10-$K10)/$M10),0)))","v":80},{"$f":"IF($H10=0,0,CHOOSE($H10,SUMPRODUCT($O11:$O$23*W11:W$23*($E11:$E$23=$D10)),IF(ISNUMBER(Data!Q10),100*ABS($G10-(Data!Q10-$K10)/$M10),0),IF(ISNUMBER(Data!Q10),100*ABS($G10-(Data!Q10-$K10)/$M10),0)))","v":44.000000000000007},{"$f":"IF($H10=0,0,CHOOSE($H10,SUMPRODUCT($O11:$O$23*X11:X$23*($E11:$E$23=$D10)),IF(ISNUMBER(Data!R10),100*ABS($G10-(Data!R10-$K10)/$M10),0),IF(ISNUMBER(Data!R10),100*ABS($G10-(Data!R10-$K10)/$M10),0)))","v":72},{"$f":"IF($H10=0,0,CHOOSE($H10,SUMPRODUCT($O11:$O$23*Y11:Y$23*($E11:$E$23=$D10)),IF(ISNUMBER(Data!S10),100*ABS($G10-(Data!S10-$K10)/$M10),0),IF(ISNUMBER(Data!S10),100*ABS($G10-(Data!S10-$K10)/$M10),0)))","v":47.199999999999996},{"$f":"IF($H10=0,0,CHOOSE($H10,SUMPRODUCT($O11:$O$23*Z11:Z$23*($E11:$E$23=$D10)),IF(ISNUMBER(Data!T10),100*ABS($G10-(Data!T10-$K10)/$M10),0),IF(ISNUMBER(Data!T10),100*ABS($G10-(Data!T10-$K10)/$M10),0)))","v":65.999999999999986},{"$f":"IF($H10=0,0,CHOOSE($H10,SUMPRODUCT($O11:$O$23*AA11:AA$23*($E11:$E$23=$D10)),IF(ISNUMBER(Data!U10),100*ABS($G10-(Data!U10-$K10)/$M10),0),IF(ISNUMBER(Data!U10),100*ABS($G10-(Data!U10-$K10)/$M10),0)))","v":60},{"$f":"IF($H10=0,0,CHOOSE($H10,SUMPRODUCT($O11:$O$23*AB11:AB$23*($E11:$E$23=$D10)),IF(ISNUMBER(Data!V10),100*ABS($G10-(Data!V10-$K10)/$M10),0),IF(ISNUMBER(Data!V10),100*ABS($G10-(Data!V10-$K10)/$M10),0)))","v":78},{"$f":"IF($H10=0,0,CHOOSE($H10,SUMPRODUCT($O11:$O$23*AC11:AC$23*($E11:$E$23=$D10)),IF(ISNUMBER(Data!W10),100*ABS($G10-(Data!W10-$K10)/$M10),0),IF(ISNUMBER(Data!W10),100*ABS($G10-(Data!W10-$K10)/$M10),0)))","v":74},{"$f":"IF($H10=0,0,CHOOSE($H10,SUMPRODUCT($O11:$O$23*AD11:AD$23*($E11:$E$23=$D10)),IF(ISNUMBER(Data!X10),100*ABS($G10-(Data!X10-$K10)/$M10),0),IF(ISNUMBER(Data!X10),100*ABS($G10-(Data!X10-$K10)/$M10),0)))","v":76},{"$f":"IF($H10=0,0,CHOOSE($H10,SUMPRODUCT($O11:$O$23*AE11:AE$23*($E11:$E$23=$D10)),IF(ISNUMBER(Data!Y10),100*ABS($G10-(Data!Y10-$K10)/$M10),0),IF(ISNUMBER(Data!Y10),100*ABS($G10-(Data!Y10-$K10)/$M10),0)))","v":70},{"$f":"IF($H10=0,0,CHOOSE($H10,SUMPRODUCT($O11:$O$23*AF11:AF$23*($E11:$E$23=$D10)),IF(ISNUMBER(Data!Z10),100*ABS($G10-(Data!Z10-$K10)/$M10),0),IF(ISNUMBER(Data!Z10),100*ABS($G10-(Data!Z10-$K10)/$M10),0)))","v":64}]
[null,{"$f":"tblIndicators!A8","v":7},{"$f":"tblIndicators!B8","v":0},{"$f":"tblIndicators!D8","v":"TT_22"},{"$f":"tblIndicators!E8","v":"TT"},{"$f":"tblIndicators!F8","v":2},{"$f":"tblIndicators!V8","v":0},{"$f":"tblIndicators!W8","v":3},{"$f":"tblIndicators!X8","v":0},{"$f":"tblIndicators!Y8","v":1},{"$f":"CHOOSE(H11,\"-\",MIN(Data!J11:Z11),I11)","v":0},{"$f":"CHOOSE(H11,\"-\",MAX(Data!J11:Z11),J11)","v":1},1,{"$f":"tblIndicators!AB8","v":"2.2)   Adoption of Annex D of Revised Kyoto Convention  "},{"$f":"tblIndicators!AA8","v":0.25},{"$f":"IF($H11=0,0,CHOOSE($H11,SUMPRODUCT($O12:$O$23*P12:P$23*($E12:$E$23=$D11)),IF(ISNUMBER(Data!J11),100*ABS($G11-(Data!J11-$K11)/$M11),0),IF(ISNUMBER(Data!J11),100*ABS($G11-(Data!J11-$K11)/$M11),0)))","v":100},{"$f":"IF($H11=0,0,CHOOSE($H11,SUMPRODUCT($O12:$O$23*Q12:Q$23*($E12:$E$23=$D11)),IF(ISNUMBER(Data!K11),100*ABS($G11-(Data!K11-$K11)/$M11),0),IF(ISNUMBER(Data!K11),100*ABS($G11-(Data!K11-$K11)/$M11),0)))","v":100},{"$f":"IF($H11=0,0,CHOOSE($H11,SUMPRODUCT($O12:$O$23*R12:R$23*($E12:$E$23=$D11)),IF(ISNUMBER(Data!L11),100*ABS($G11-(Data!L11-$K11)/$M11),0),IF(ISNUMBER(Data!L11),100*ABS($G11-(Data!L11-$K11)/$M11),0)))","v":100},{"$f":"IF($H11=0,0,CHOOSE($H11,SUMPRODUCT($O12:$O$23*S12:S$23*($E12:$E$23=$D11)),IF(ISNUMBER(Data!M11),100*ABS($G11-(Data!M11-$K11)/$M11),0),IF(ISNUMBER(Data!M11),100*ABS($G11-(Data!M11-$K11)/$M11),0)))","v":0},{"$f":"IF($H11=0,0,CHOOSE($H11,SUMPRODUCT($O12:$O$23*T12:T$23*($E12:$E$23=$D11)),IF(ISNUMBER(Data!N11),100*ABS($G11-(Data!N11-$K11)/$M11),0),IF(ISNUMBER(Data!N11),100*ABS($G11-(Data!N11-$K11)/$M11),0)))","v":100},{"$f":"IF($H11=0,0,CHOOSE($H11,SUMPRODUCT($O12:$O$23*U12:U$23*($E12:$E$23=$D11)),IF(ISNUMBER(Data!O11),100*ABS($G11-(Data!O11-$K11)/$M11),0),IF(ISNUMBER(Data!O11),100*ABS($G11-(Data!O11-$K11)/$M11),0)))","v":100},{"$f":"IF($H11=0,0,CHOOSE($H11,SUMPRODUCT($O12:$O$23*V12:V$23*($E12:$E$23=$D11)),IF(ISNUMBER(Data!P11),100*ABS($G11-(Data!P11-$K11)/$M11),0),IF(ISNUMBER(Data!P11),100*ABS($G11-(Data!P11-$K11)/$M11),0)))","v":100},{"$f":"IF($H11=0,0,CHOOSE($H11,SUMPRODUCT($O12:$O$23*W12:W$23*($E12:$E$23=$D11)),IF(ISNUMBER(Data!Q11),100*ABS($G11-(Data!Q11-$K11)/$M11),0),IF(ISNUMBER(Data!Q11),100*ABS($G11-(Data!Q11-$K11)/$M11),0)))","v":0},{"$f":"IF($H11=0,0,CHOOSE($H11,SUMPRODUCT($O12:$O$23*X12:X$23*($E12:$E$23=$D11)),IF(ISNUMBER(Data!R11),100*ABS($G11-(Data!R11-$K11)/$M11),0),IF(ISNUMBER(Data!R11),100*ABS($G11-(Data!R11-$K11)/$M11),0)))","v":100},{"$f":"IF($H11=0,0,CHOOSE($H11,SUMPRODUCT($O12:$O$23*Y12:Y$23*($E12:$E$23=$D11)),IF(ISNUMBER(Data!S11),100*ABS($G11-(Data!S11-$K11)/$M11),0),IF(ISNUMBER(Data!S11),100*ABS($G11-(Data!S11-$K11)/$M11),0)))","v":0},{"$f":"IF($H11=0,0,CHOOSE($H11,SUMPRODUCT($O12:$O$23*Z12:Z$23*($E12:$E$23=$D11)),IF(ISNUMBER(Data!T11),100*ABS($G11-(Data!T11-$K11)/$M11),0),IF(ISNUMBER(Data!T11),100*ABS($G11-(Data!T11-$K11)/$M11),0)))","v":100},{"$f":"IF($H11=0,0,CHOOSE($H11,SUMPRODUCT($O12:$O$23*AA12:AA$23*($E12:$E$23=$D11)),IF(ISNUMBER(Data!U11),100*ABS($G11-(Data!U11-$K11)/$M11),0),IF(ISNUMBER(Data!U11),100*ABS($G11-(Data!U11-$K11)/$M11),0)))","v":100},{"$f":"IF($H11=0,0,CHOOSE($H11,SUMPRODUCT($O12:$O$23*AB12:AB$23*($E12:$E$23=$D11)),IF(ISNUMBER(Data!V11),100*ABS($G11-(Data!V11-$K11)/$M11),0),IF(ISNUMBER(Data!V11),100*ABS($G11-(Data!V11-$K11)/$M11),0)))","v":0},{"$f":"IF($H11=0,0,CHOOSE($H11,SUMPRODUCT($O12:$O$23*AC12:AC$23*($E12:$E$23=$D11)),IF(ISNUMBER(Data!W11),100*ABS($G11-(Data!W11-$K11)/$M11),0),IF(ISNUMBER(Data!W11),100*ABS($G11-(Data!W11-$K11)/$M11),0)))","v":100},{"$f":"IF($H11=0,0,CHOOSE($H11,SUMPRODUCT($O12:$O$23*AD12:AD$23*($E12:$E$23=$D11)),IF(ISNUMBER(Data!X11),100*ABS($G11-(Data!X11-$K11)/$M11),0),IF(ISNUMBER(Data!X11),100*ABS($G11-(Data!X11-$K11)/$M11),0)))","v":0},{"$f":"IF($H11=0,0,CHOOSE($H11,SUMPRODUCT($O12:$O$23*AE12:AE$23*($E12:$E$23=$D11)),IF(ISNUMBER(Data!Y11),100*ABS($G11-(Data!Y11-$K11)/$M11),0),IF(ISNUMBER(Data!Y11),100*ABS($G11-(Data!Y11-$K11)/$M11),0)))","v":100},{"$f":"IF($H11=0,0,CHOOSE($H11,SUMPRODUCT($O12:$O$23*AF12:AF$23*($E12:$E$23=$D11)),IF(ISNUMBER(Data!Z11),100*ABS($G11-(Data!Z11-$K11)/$M11),0),IF(ISNUMBER(Data!Z11),100*ABS($G11-(Data!Z11-$K11)/$M11),0)))","v":100}]
[null,{"$f":"tblIndicators!A9","v":8},{"$f":"tblIndicators!B9","v":0},{"$f":"tblIndicators!D9","v":"TT_23"},{"$f":"tblIndicators!E9","v":"TT"},{"$f":"tblIndicators!F9","v":2},{"$f":"tblIndicators!V9","v":0},{"$f":"tblIndicators!W9","v":3},{"$f":"tblIndicators!X9","v":1},{"$f":"tblIndicators!Y9","v":2},{"$f":"CHOOSE(H12,\"-\",MIN(Data!J12:Z12),I12)","v":1},{"$f":"CHOOSE(H12,\"-\",MAX(Data!J12:Z12),J12)","v":2},1,{"$f":"tblIndicators!AB9","v":"2.3)   Government cooperation"},{"$f":"tblIndicators!AA9","v":0.25},{"$f":"IF($H12=0,0,CHOOSE($H12,SUMPRODUCT($O13:$O$23*P13:P$23*($E13:$E$23=$D12)),IF(ISNUMBER(Data!J12),100*ABS($G12-(Data!J12-$K12)/$M12),0),IF(ISNUMBER(Data!J12),100*ABS($G12-(Data!J12-$K12)/$M12),0)))","v":100},{"$f":"IF($H12=0,0,CHOOSE($H12,SUMPRODUCT($O13:$O$23*Q13:Q$23*($E13:$E$23=$D12)),IF(ISNUMBER(Data!K12),100*ABS($G12-(Data!K12-$K12)/$M12),0),IF(ISNUMBER(Data!K12),100*ABS($G12-(Data!K12-$K12)/$M12),0)))","v":0},{"$f":"IF($H12=0,0,CHOOSE($H12,SUMPRODUCT($O13:$O$23*R13:R$23*($E13:$E$23=$D12)),IF(ISNUMBER(Data!L12),100*ABS($G12-(Data!L12-$K12)/$M12),0),IF(ISNUMBER(Data!L12),100*ABS($G12-(Data!L12-$K12)/$M12),0)))","v":100},{"$f":"IF($H12=0,0,CHOOSE($H12,SUMPRODUCT($O13:$O$23*S13:S$23*($E13:$E$23=$D12)),IF(ISNUMBER(Data!M12),100*ABS($G12-(Data!M12-$K12)/$M12),0),IF(ISNUMBER(Data!M12),100*ABS($G12-(Data!M12-$K12)/$M12),0)))","v":100},{"$f":"IF($H12=0,0,CHOOSE($H12,SUMPRODUCT($O13:$O$23*T13:T$23*($E13:$E$23=$D12)),IF(ISNUMBER(Data!N12),100*ABS($G12-(Data!N12-$K12)/$M12),0),IF(ISNUMBER(Data!N12),100*ABS($G12-(Data!N12-$K12)/$M12),0)))","v":100},{"$f":"IF($H12=0,0,CHOOSE($H12,SUMPRODUCT($O13:$O$23*U13:U$23*($E13:$E$23=$D12)),IF(ISNUMBER(Data!O12),100*ABS($G12-(Data!O12-$K12)/$M12),0),IF(ISNUMBER(Data!O12),100*ABS($G12-(Data!O12-$K12)/$M12),0)))","v":100},{"$f":"IF($H12=0,0,CHOOSE($H12,SUMPRODUCT($O13:$O$23*V13:V$23*($E13:$E$23=$D12)),IF(ISNUMBER(Data!P12),100*ABS($G12-(Data!P12-$K12)/$M12),0),IF(ISNUMBER(Data!P12),100*ABS($G12-(Data!P12-$K12)/$M12),0)))","v":100},{"$f":"IF($H12=0,0,CHOOSE($H12,SUMPRODUCT($O13:$O$23*W13:W$23*($E13:$E$23=$D12)),IF(ISNUMBER(Data!Q12),100*ABS($G12-(Data!Q12-$K12)/$M12),0),IF(ISNUMBER(Data!Q12),100*ABS($G12-(Data!Q12-$K12)/$M12),0)))","v":0},{"$f":"IF($H12=0,0,CHOOSE($H12,SUMPRODUCT($O13:$O$23*X13:X$23*($E13:$E$23=$D12)),IF(ISNUMBER(Data!R12),100*ABS($G12-(Data!R12-$K12)/$M12),0),IF(ISNUMBER(Data!R12),100*ABS($G12-(Data!R12-$K12)/$M12),0)))","v":100},{"$f":"IF($H12=0,0,CHOOSE($H12,SUMPRODUCT($O13:$O$23*Y13:Y$23*($E13:$E$23=$D12)),IF(ISNUMBER(Data!S12),100*ABS($G12-(Data!S12-$K12)/$M12),0),IF(ISNUMBER(Data!S12),100*ABS($G12-(Data!S12-$K12)/$M12),0)))","v":0},{"$f":"IF($H12=0,0,CHOOSE($H12,SUMPRODUCT($O13:$O$23*Z13:Z$23*($E13:$E$23=$D12)),IF(ISNUMBER(Data!T12),100*ABS($G12-(Data!T12-$K12)/$M12),0),IF(ISNUMBER(Data!T12),100*ABS($G12-(Data!T12-$K12)/$M12),0)))","v":0},{"$f":"IF($H12=0,0,CHOOSE($H12,SUMPRODUCT($O13:$O$23*AA13:AA$23*($E13:$E$23=$D12)),IF(ISNUMBER(Data!U12),100*ABS($G12-(Data!U12-$K12)/$M12),0),IF(ISNUMBER(Data!U12),100*ABS($G12-(Data!U12-$K12)/$M12),0)))","v":100},{"$f":"IF($H12=0,0,CHOOSE($H12,SUMPRODUCT($O13:$O$23*AB13:AB$23*($E13:$E$23=$D12)),IF(ISNUMBER(Data!V12),100*ABS($G12-(Data!V12-$K12)/$M12),0),IF(ISNUMBER(Data!V12),100*ABS($G12-(Data!V12-$K12)/$M12),0)))","v":0},{"$f":"IF($H12=0,0,CHOOSE($H12,SUMPRODUCT($O13:$O$23*AC13:AC$23*($E13:$E$23=$D12)),IF(ISNUMBER(Data!W12),100*ABS($G12-(Data!W12-$K12)/$M12),0),IF(ISNUMBER(Data!W12),100*ABS($G12-(Data!W12-$K12)/$M12),0)))","v":100},{"$f":"IF($H12=0,0,CHOOSE($H12,SUMPRODUCT($O13:$O$23*AD13:AD$23*($E13:$E$23=$D12)),IF(ISNUMBER(Data!X12),100*ABS($G12-(Data!X12-$K12)/$M12),0),IF(ISNUMBER(Data!X12),100*ABS($G12-(Data!X12-$K12)/$M12),0)))","v":0},{"$f":"IF($H12=0,0,CHOOSE($H12,SUMPRODUCT($O13:$O$23*AE13:AE$23*($E13:$E$23=$D12)),IF(ISNUMBER(Data!Y12),100*ABS($G12-(Data!Y12-$K12)/$M12),0),IF(ISNUMBER(Data!Y12),100*ABS($G12-(Data!Y12-$K12)/$M12),0)))","v":0},{"$f":"IF($H12=0,0,CHOOSE($H12,SUMPRODUCT($O13:$O$23*AF13:AF$23*($E13:$E$23=$D12)),IF(ISNUMBER(Data!Z12),100*ABS($G12-(Data!Z12-$K12)/$M12),0),IF(ISNUMBER(Data!Z12),100*ABS($G12-(Data!Z12-$K12)/$M12),0)))","v":0}]
[null,{"$f":"tblIndicators!A10","v":9},{"$f":"tblIndicators!B10","v":0},{"$f":"tblIndicators!D10","v":"TT_24"},{"$f":"tblIndicators!E10","v":"TT"},{"$f":"tblIndicators!F10","v":2},{"$f":"tblIndicators!V10","v":0},{"$f":"tblIndicators!W10","v":3},{"$f":"tblIndicators!X10","v":0},{"$f":"tblIndicators!Y10","v":4},{"$f":"CHOOSE(H13,\"-\",MIN(Data!J13:Z13),I13)","v":0},{"$f":"CHOOSE(H13,\"-\",MAX(Data!J13:Z13),J13)","v":4},4,{"$f":"tblIndicators!AB10","v":"2.4)   FTZ governance "},{"$f":"tblIndicators!AA10","v":0.25},{"$f":"IF($H13=0,0,CHOOSE($H13,SUMPRODUCT($O14:$O$23*P14:P$23*($E14:$E$23=$D13)),IF(ISNUMBER(Data!J13),100*ABS($G13-(Data!J13-$K13)/$M13),0),IF(ISNUMBER(Data!J13),100*ABS($G13-(Data!J13-$K13)/$M13),0)))","v":50},{"$f":"IF($H13=0,0,CHOOSE($H13,SUMPRODUCT($O14:$O$23*Q14:Q$23*($E14:$E$23=$D13)),IF(ISNUMBER(Data!K13),100*ABS($G13-(Data!K13-$K13)/$M13),0),IF(ISNUMBER(Data!K13),100*ABS($G13-(Data!K13-$K13)/$M13),0)))","v":0},{"$f":"IF($H13=0,0,CHOOSE($H13,SUMPRODUCT($O14:$O$23*R14:R$23*($E14:$E$23=$D13)),IF(ISNUMBER(Data!L13),100*ABS($G13-(Data!L13-$K13)/$M13),0),IF(ISNUMBER(Data!L13),100*ABS($G13-(Data!L13-$K13)/$M13),0)))","v":50},{"$f":"IF($H13=0,0,CHOOSE($H13,SUMPRODUCT($O14:$O$23*S14:S$23*($E14:$E$23=$D13)),IF(ISNUMBER(Data!M13),100*ABS($G13-(Data!M13-$K13)/$M13),0),IF(ISNUMBER(Data!M13),100*ABS($G13-(Data!M13-$K13)/$M13),0)))","v":100},{"$f":"IF($H13=0,0,CHOOSE($H13,SUMPRODUCT($O14:$O$23*T14:T$23*($E14:$E$23=$D13)),IF(ISNUMBER(Data!N13),100*ABS($G13-(Data!N13-$K13)/$M13),0),IF(ISNUMBER(Data!N13),100*ABS($G13-(Data!N13-$K13)/$M13),0)))","v":25},{"$f":"IF($H13=0,0,CHOOSE($H13,SUMPRODUCT($O14:$O$23*U14:U$23*($E14:$E$23=$D13)),IF(ISNUMBER(Data!O13),100*ABS($G13-(Data!O13-$K13)/$M13),0),IF(ISNUMBER(Data!O13),100*ABS($G13-(Data!O13-$K13)/$M13),0)))","v":50},{"$f":"IF($H13=0,0,CHOOSE($H13,SUMPRODUCT($O14:$O$23*V14:V$23*($E14:$E$23=$D13)),IF(ISNUMBER(Data!P13),100*ABS($G13-(Data!P13-$K13)/$M13),0),IF(ISNUMBER(Data!P13),100*ABS($G13-(Data!P13-$K13)/$M13),0)))","v":75},{"$f":"IF($H13=0,0,CHOOSE($H13,SUMPRODUCT($O14:$O$23*W14:W$23*($E14:$E$23=$D13)),IF(ISNUMBER(Data!Q13),100*ABS($G13-(Data!Q13-$K13)/$M13),0),IF(ISNUMBER(Data!Q13),100*ABS($G13-(Data!Q13-$K13)/$M13),0)))","v":0},{"$f":"IF($H13=0,0,CHOOSE($H13,SUMPRODUCT($O14:$O$23*X14:X$23*($E14:$E$23=$D13)),IF(ISNUMBER(Data!R13),100*ABS($G13-(Data!R13-$K13)/$M13),0),IF(ISNUMBER(Data!R13),100*ABS($G13-(Data!R13-$K13)/$M13),0)))","v":100},{"$f":"IF($H13=0,0,CHOOSE($H13,SUMPRODUCT($O14:$O$23*Y14:Y$23*($E14:$E$23=$D13)),IF(ISNUMBER(Data!S13),100*ABS($G13-(Data!S13-$K13)/$M13),0),IF(ISNUMBER(Data!S13),100*ABS($G13-(Data!S13-$K13)/$M13),0)))","v":0},{"$f":"IF($H13=0,0,CHOOSE($H13,SUMPRODUCT($O14:$O$23*Z14:Z$23*($E14:$E$23=$D13)),IF(ISNUMBER(Data!T13),100*ABS($G13-(Data!T13-$K13)/$M13),0),IF(ISNUMBER(Data!T13),100*ABS($G13-(Data!T13-$K13)/$M13),0)))","v":25},{"$f":"IF($H13=0,0,CHOOSE($H13,SUMPRODUCT($O14:$O$23*AA14:AA$23*($E14:$E$23=$D13)),IF(ISNUMBER(Data!U13),100*ABS($G13-(Data!U13-$K13)/$M13),0),IF(ISNUMBER(Data!U13),100*ABS($G13-(Data!U13-$K13)/$M13),0)))","v":50},{"$f":"IF($H13=0,0,CHOOSE($H13,SUMPRODUCT($O14:$O$23*AB14:AB$23*($E14:$E$23=$D13)),IF(ISNUMBER(Data!V13),100*ABS($G13-(Data!V13-$K13)/$M13),0),IF(ISNUMBER(Data!V13),100*ABS($G13-(Data!V13-$K13)/$M13),0)))","v":25},{"$f":"IF($H13=0,0,CHOOSE($H13,SUMPRODUCT($O14:$O$23*AC14:AC$23*($E14:$E$23=$D13)),IF(ISNUMBER(Data!W13),100*ABS($G13-(Data!W13-$K13)/$M13),0),IF(ISNUMBER(Data!W13),100*ABS($G13-(Data!W13-$K13)/$M13),0)))","v":100},{"$f":"IF($H13=0,0,CHOOSE($H13,SUMPRODUCT($O14:$O$23*AD14:AD$23*($E14:$E$23=$D13)),IF(ISNUMBER(Data!X13),100*ABS($G13-(Data!X13-$K13)/$M13),0),IF(ISNUMBER(Data!X13),100*ABS($G13-(Data!X13-$K13)/$M13),0)))","v":100},{"$f":"IF($H13=0,0,CHOOSE($H13,SUMPRODUCT($O14:$O$23*AE14:AE$23*($E14:$E$23=$D13)),IF(ISNUMBER(Data!Y13),100*ABS($G13-(Data!Y13-$K13)/$M13),0),IF(ISNUMBER(Data!Y13),100*ABS($G13-(Data!Y13-$K13)/$M13),0)))","v":100},{"$f":"IF($H13=0,0,CHOOSE($H13,SUMPRODUCT($O14:$O$23*AF14:AF$23*($E14:$E$23=$D13)),IF(ISNUMBER(Data!Z13),100*ABS($G13-(Data!Z13-$K13)/$M13),0),IF(ISNUMBER(Data!Z13),100*ABS($G13-(Data!Z13-$K13)/$M13),0)))","v":75}]
[null,{"$f":"tblIndicators!A11","v":10},{"$f":"tblIndicators!B11","v":0},{"$f":"tblIndicators!D11","v":"CE"},{"$f":"tblIndicators!E11","v":"TOTAL"},{"$f":"tblIndicators!F11","v":1},{"$f":"tblIndicators!V11","v":""},{"$f":"tblIndicators!W11","v":1},{"$f":"tblIndicators!X11","v":0},{"$f":"tblIndicators!Y11","v":0},{"$f":"CHOOSE(H14,\"-\",MIN(Data!J14:Z14),I14)","v":"-"},{"$f":"CHOOSE(H14,\"-\",MAX(Data!J14:Z14),J14)","v":"-"},"-",{"$f":"tblIndicators!AB11","v":"3) CUSTOMS ENVIRONMENT"},{"$f":"tblIndicators!AA11","v":0.25},{"$f":"IF($H14=0,0,CHOOSE($H14,SUMPRODUCT($O15:$O$23*P15:P$23*($E15:$E$23=$D14)),IF(ISNUMBER(Data!J14),100*ABS($G14-(Data!J14-$K14)/$M14),0),IF(ISNUMBER(Data!J14),100*ABS($G14-(Data!J14-$K14)/$M14),0)))","v":88.01785351998376},{"$f":"IF($H14=0,0,CHOOSE($H14,SUMPRODUCT($O15:$O$23*Q15:Q$23*($E15:$E$23=$D14)),IF(ISNUMBER(Data!K14),100*ABS($G14-(Data!K14-$K14)/$M14),0),IF(ISNUMBER(Data!K14),100*ABS($G14-(Data!K14-$K14)/$M14),0)))","v":21.983273596176822},{"$f":"IF($H14=0,0,CHOOSE($H14,SUMPRODUCT($O15:$O$23*R15:R$23*($E15:$E$23=$D14)),IF(ISNUMBER(Data!L14),100*ABS($G14-(Data!L14-$K14)/$M14),0),IF(ISNUMBER(Data!L14),100*ABS($G14-(Data!L14-$K14)/$M14),0)))","v":61.861770474065054},{"$f":"IF($H14=0,0,CHOOSE($H14,SUMPRODUCT($O15:$O$23*S15:S$23*($E15:$E$23=$D14)),IF(ISNUMBER(Data!M14),100*ABS($G14-(Data!M14-$K14)/$M14),0),IF(ISNUMBER(Data!M14),100*ABS($G14-(Data!M14-$K14)/$M14),0)))","v":83.542976939203356},{"$f":"IF($H14=0,0,CHOOSE($H14,SUMPRODUCT($O15:$O$23*T15:T$23*($E15:$E$23=$D14)),IF(ISNUMBER(Data!N14),100*ABS($G14-(Data!N14-$K14)/$M14),0),IF(ISNUMBER(Data!N14),100*ABS($G14-(Data!N14-$K14)/$M14),0)))","v":65.00642456211537},{"$f":"IF($H14=0,0,CHOOSE($H14,SUMPRODUCT($O15:$O$23*U15:U$23*($E15:$E$23=$D14)),IF(ISNUMBER(Data!O14),100*ABS($G14-(Data!O14-$K14)/$M14),0),IF(ISNUMBER(Data!O14),100*ABS($G14-(Data!O14-$K14)/$M14),0)))","v":41.820518022587407},{"$f":"IF($H14=0,0,CHOOSE($H14,SUMPRODUCT($O15:$O$23*V15:V$23*($E15:$E$23=$D14)),IF(ISNUMBER(Data!P14),100*ABS($G14-(Data!P14-$K14)/$M14),0),IF(ISNUMBER(Data!P14),100*ABS($G14-(Data!P14-$K14)/$M14),0)))","v":70.796194855841833},{"$f":"IF($H14=0,0,CHOOSE($H14,SUMPRODUCT($O15:$O$23*W15:W$23*($E15:$E$23=$D14)),IF(ISNUMBER(Data!Q14),100*ABS($G14-(Data!Q14-$K14)/$M14),0),IF(ISNUMBER(Data!Q14),100*ABS($G14-(Data!Q14-$K14)/$M14),0)))","v":0},{"$f":"IF($H14=0,0,CHOOSE($H14,SUMPRODUCT($O15:$O$23*X15:X$23*($E15:$E$23=$D14)),IF(ISNUMBER(Data!R14),100*ABS($G14-(Data!R14-$K14)/$M14),0),IF(ISNUMBER(Data!R14),100*ABS($G14-(Data!R14-$K14)/$M14),0)))","v":70.311760330019609},{"$f":"IF($H14=0,0,CHOOSE($H14,SUMPRODUCT($O15:$O$23*Y15:Y$23*($E15:$E$23=$D14)),IF(ISNUMBER(Data!S14),100*ABS($G14-(Data!S14-$K14)/$M14),0),IF(ISNUMBER(Data!S14),100*ABS($G14-(Data!S14-$K14)/$M14),0)))","v":11.111111111111111},{"$f":"IF($H14=0,0,CHOOSE($H14,SUMPRODUCT($O15:$O$23*Z15:Z$23*($E15:$E$23=$D14)),IF(ISNUMBER(Data!T14),100*ABS($G14-(Data!T14-$K14)/$M14),0),IF(ISNUMBER(Data!T14),100*ABS($G14-(Data!T14-$K14)/$M14),0)))","v":87.808209914113746},{"$f":"IF($H14=0,0,CHOOSE($H14,SUMPRODUCT($O15:$O$23*AA15:AA$23*($E15:$E$23=$D14)),IF(ISNUMBER(Data!U14),100*ABS($G14-(Data!U14-$K14)/$M14),0),IF(ISNUMBER(Data!U14),100*ABS($G14-(Data!U14-$K14)/$M14),0)))","v":31.367642749261741},{"$f":"IF($H14=0,0,CHOOSE($H14,SUMPRODUCT($O15:$O$23*AB15:AB$23*($E15:$E$23=$D14)),IF(ISNUMBER(Data!V14),100*ABS($G14-(Data!V14-$K14)/$M14),0),IF(ISNUMBER(Data!V14),100*ABS($G14-(Data!V14-$K14)/$M14),0)))","v":89.937106918238982},{"$f":"IF($H14=0,0,CHOOSE($H14,SUMPRODUCT($O15:$O$23*AC15:AC$23*($E15:$E$23=$D14)),IF(ISNUMBER(Data!W14),100*ABS($G14-(Data!W14-$K14)/$M14),0),IF(ISNUMBER(Data!W14),100*ABS($G14-(Data!W14-$K14)/$M14),0)))","v":78.253871644011639},{"$f":"IF($H14=0,0,CHOOSE($H14,SUMPRODUCT($O15:$O$23*AD15:AD$23*($E15:$E$23=$D14)),IF(ISNUMBER(Data!X14),100*ABS($G14-(Data!X14-$K14)/$M14),0),IF(ISNUMBER(Data!X14),100*ABS($G14-(Data!X14-$K14)/$M14),0)))","v":83.035774666937172},{"$f":"IF($H14=0,0,CHOOSE($H14,SUMPRODUCT($O15:$O$23*AE15:AE$23*($E15:$E$23=$D14)),IF(ISNUMBER(Data!Y14),100*ABS($G14-(Data!Y14-$K14)/$M14),0),IF(ISNUMBER(Data!Y14),100*ABS($G14-(Data!Y14-$K14)/$M14),0)))","v":68.43060345799239},{"$f":"IF($H14=0,0,CHOOSE($H14,SUMPRODUCT($O15:$O$23*AF15:AF$23*($E15:$E$23=$D14)),IF(ISNUMBER(Data!Z14),100*ABS($G14-(Data!Z14-$K14)/$M14),0),IF(ISNUMBER(Data!Z14),100*ABS($G14-(Data!Z14-$K14)/$M14),0)))","v":53.225806451612897}]
[null,{"$f":"tblIndicators!A12","v":11},{"$f":"tblIndicators!B12","v":0},{"$f":"tblIndicators!D12","v":"CE_31"},{"$f":"tblIndicators!E12","v":"CE"},{"$f":"tblIndicators!F12","v":2},{"$f":"tblIndicators!V12","v":0},{"$f":"tblIndicators!W12","v":2},{"$f":"tblIndicators!X12","v":0},{"$f":"tblIndicators!Y12","v":0},{"$f":"CHOOSE(H15,\"-\",MIN(Data!J15:Z15),I15)","v":0},{"$f":"CHOOSE(H15,\"-\",MAX(Data!J15:Z15),J15)","v":53},53,{"$f":"tblIndicators!AB12","v":"3.1) Percentage of shipments physically inspected"},{"$f":"tblIndicators!AA12","v":0.1111111111111111},{"$f":"IF($H15=0,0,CHOOSE($H15,SUMPRODUCT($O16:$O$23*P16:P$23*($E16:$E$23=$D15)),IF(ISNUMBER(Data!J15),100*ABS($G15-(Data!J15-$K15)/$M15),0),IF(ISNUMBER(Data!J15),100*ABS($G15-(Data!J15-$K15)/$M15),0)))","v":3.7735849056603774},{"$f":"IF($H15=0,0,CHOOSE($H15,SUMPRODUCT($O16:$O$23*Q16:Q$23*($E16:$E$23=$D15)),IF(ISNUMBER(Data!K15),100*ABS($G15-(Data!K15-$K15)/$M15),0),IF(ISNUMBER(Data!K15),100*ABS($G15-(Data!K15-$K15)/$M15),0)))","v":0},{"$f":"IF($H15=0,0,CHOOSE($H15,SUMPRODUCT($O16:$O$23*R16:R$23*($E16:$E$23=$D15)),IF(ISNUMBER(Data!L15),100*ABS($G15-(Data!L15-$K15)/$M15),0),IF(ISNUMBER(Data!L15),100*ABS($G15-(Data!L15-$K15)/$M15),0)))","v":13.20754716981132},{"$f":"IF($H15=0,0,CHOOSE($H15,SUMPRODUCT($O16:$O$23*S16:S$23*($E16:$E$23=$D15)),IF(ISNUMBER(Data!M15),100*ABS($G15-(Data!M15-$K15)/$M15),0),IF(ISNUMBER(Data!M15),100*ABS($G15-(Data!M15-$K15)/$M15),0)))","v":1.8867924528301887},{"$f":"IF($H15=0,0,CHOOSE($H15,SUMPRODUCT($O16:$O$23*T16:T$23*($E16:$E$23=$D15)),IF(ISNUMBER(Data!N15),100*ABS($G15-(Data!N15-$K15)/$M15),0),IF(ISNUMBER(Data!N15),100*ABS($G15-(Data!N15-$K15)/$M15),0)))","v":41.509433962264154},{"$f":"IF($H15=0,0,CHOOSE($H15,SUMPRODUCT($O16:$O$23*U16:U$23*($E16:$E$23=$D15)),IF(ISNUMBER(Data!O15),100*ABS($G15-(Data!O15-$K15)/$M15),0),IF(ISNUMBER(Data!O15),100*ABS($G15-(Data!O15-$K15)/$M15),0)))","v":15.09433962264151},{"$f":"IF($H15=0,0,CHOOSE($H15,SUMPRODUCT($O16:$O$23*V16:V$23*($E16:$E$23=$D15)),IF(ISNUMBER(Data!P15),100*ABS($G15-(Data!P15-$K15)/$M15),0),IF(ISNUMBER(Data!P15),100*ABS($G15-(Data!P15-$K15)/$M15),0)))","v":5.6603773584905666},{"$f":"IF($H15=0,0,CHOOSE($H15,SUMPRODUCT($O16:$O$23*W16:W$23*($E16:$E$23=$D15)),IF(ISNUMBER(Data!Q15),100*ABS($G15-(Data!Q15-$K15)/$M15),0),IF(ISNUMBER(Data!Q15),100*ABS($G15-(Data!Q15-$K15)/$M15),0)))","v":0},{"$f":"IF($H15=0,0,CHOOSE($H15,SUMPRODUCT($O16:$O$23*X16:X$23*($E16:$E$23=$D15)),IF(ISNUMBER(Data!R15),100*ABS($G15-(Data!R15-$K15)/$M15),0),IF(ISNUMBER(Data!R15),100*ABS($G15-(Data!R15-$K15)/$M15),0)))","v":3.7735849056603774},{"$f":"IF($H15=0,0,CHOOSE($H15,SUMPRODUCT($O16:$O$23*Y16:Y$23*($E16:$E$23=$D15)),IF(ISNUMBER(Data!S15),100*ABS($G15-(Data!S15-$K15)/$M15),0),IF(ISNUMBER(Data!S15),100*ABS($G15-(Data!S15-$K15)/$M15),0)))","v":0},{"$f":"IF($H15=0,0,CHOOSE($H15,SUMPRODUCT($O16:$O$23*Z16:Z$23*($E16:$E$23=$D15)),IF(ISNUMBER(Data!T15),100*ABS($G15-(Data!T15-$K15)/$M15),0),IF(ISNUMBER(Data!T15),100*ABS($G15-(Data!T15-$K15)/$M15),0)))","v":1.8867924528301887},{"$f":"IF($H15=0,0,CHOOSE($H15,SUMPRODUCT($O16:$O$23*AA16:AA$23*($E16:$E$23=$D15)),IF(ISNUMBER(Data!U15),100*ABS($G15-(Data!U15-$K15)/$M15),0),IF(ISNUMBER(Data!U15),100*ABS($G15-(Data!U15-$K15)/$M15),0)))","v":18.867924528301888},{"$f":"IF($H15=0,0,CHOOSE($H15,SUMPRODUCT($O16:$O$23*AB16:AB$23*($E16:$E$23=$D15)),IF(ISNUMBER(Data!V15),100*ABS($G15-(Data!V15-$K15)/$M15),0),IF(ISNUMBER(Data!V15),100*ABS($G15-(Data!V15-$K15)/$M15),0)))","v":9.433962264150944},{"$f":"IF($H15=0,0,CHOOSE($H15,SUMPRODUCT($O16:$O$23*AC16:AC$23*($E16:$E$23=$D15)),IF(ISNUMBER(Data!W15),100*ABS($G15-(Data!W15-$K15)/$M15),0),IF(ISNUMBER(Data!W15),100*ABS($G15-(Data!W15-$K15)/$M15),0)))","v":33.962264150943398},{"$f":"IF($H15=0,0,CHOOSE($H15,SUMPRODUCT($O16:$O$23*AD16:AD$23*($E16:$E$23=$D15)),IF(ISNUMBER(Data!X15),100*ABS($G15-(Data!X15-$K15)/$M15),0),IF(ISNUMBER(Data!X15),100*ABS($G15-(Data!X15-$K15)/$M15),0)))","v":3.7735849056603774},{"$f":"IF($H15=0,0,CHOOSE($H15,SUMPRODUCT($O16:$O$23*AE16:AE$23*($E16:$E$23=$D15)),IF(ISNUMBER(Data!Y15),100*ABS($G15-(Data!Y15-$K15)/$M15),0),IF(ISNUMBER(Data!Y15),100*ABS($G15-(Data!Y15-$K15)/$M15),0)))","v":5.6603773584905666},{"$f":"IF($H15=0,0,CHOOSE($H15,SUMPRODUCT($O16:$O$23*AF16:AF$23*($E16:$E$23=$D15)),IF(ISNUMBER(Data!Z15),100*ABS($G15-(Data!Z15-$K15)/$M15),0),IF(ISNUMBER(Data!Z15),100*ABS($G15-(Data!Z15-$K15)/$M15),0)))","v":100}]
[null,{"$f":"tblIndicators!A13","v":12},{"$f":"tblIndicators!B13","v":0},{"$f":"tblIndicators!D13","v":"CE_32"},{"$f":"tblIndicators!E13","v":"CE"},{"$f":"tblIndicators!F13","v":2},{"$f":"tblIndicators!V13","v":1},{"$f":"tblIndicators!W13","v":2},{"$f":"tblIndicators!X13","v":0},{"$f":"tblIndicators!Y13","v":0},{"$f":"CHOOSE(H16,\"-\",MIN(Data!J16:Z16),I16)","v":1},{"$f":"CHOOSE(H16,\"-\",MAX(Data!J16:Z16),J16)","v":7},6,{"$f":"tblIndicators!AB13","v":"3.2)   Customs clearance and inspection"},{"$f":"tblIndicators!AA13","v":0.22222222222222221},{"$f":"IF($H16=0,0,CHOOSE($H16,SUMPRODUCT($O17:$O$23*P17:P$23*($E17:$E$23=$D16)),IF(ISNUMBER(Data!J16),100*ABS($G16-(Data!J16-$K16)/$M16),0),IF(ISNUMBER(Data!J16),100*ABS($G16-(Data!J16-$K16)/$M16),0)))","v":100},{"$f":"IF($H16=0,0,CHOOSE($H16,SUMPRODUCT($O17:$O$23*Q17:Q$23*($E17:$E$23=$D16)),IF(ISNUMBER(Data!K16),100*ABS($G16-(Data!K16-$K16)/$M16),0),IF(ISNUMBER(Data!K16),100*ABS($G16-(Data!K16-$K16)/$M16),0)))","v":66.666666666666671},{"$f":"IF($H16=0,0,CHOOSE($H16,SUMPRODUCT($O17:$O$23*R17:R$23*($E17:$E$23=$D16)),IF(ISNUMBER(Data!L16),100*ABS($G16-(Data!L16-$K16)/$M16),0),IF(ISNUMBER(Data!L16),100*ABS($G16-(Data!L16-$K16)/$M16),0)))","v":50},{"$f":"IF($H16=0,0,CHOOSE($H16,SUMPRODUCT($O17:$O$23*S17:S$23*($E17:$E$23=$D16)),IF(ISNUMBER(Data!M16),100*ABS($G16-(Data!M16-$K16)/$M16),0),IF(ISNUMBER(Data!M16),100*ABS($G16-(Data!M16-$K16)/$M16),0)))","v":100},{"$f":"IF($H16=0,0,CHOOSE($H16,SUMPRODUCT($O17:$O$23*T17:T$23*($E17:$E$23=$D16)),IF(ISNUMBER(Data!N16),100*ABS($G16-(Data!N16-$K16)/$M16),0),IF(ISNUMBER(Data!N16),100*ABS($G16-(Data!N16-$K16)/$M16),0)))","v":50},{"$f":"IF($H16=0,0,CHOOSE($H16,SUMPRODUCT($O17:$O$23*U17:U$23*($E17:$E$23=$D16)),IF(ISNUMBER(Data!O16),100*ABS($G16-(Data!O16-$K16)/$M16),0),IF(ISNUMBER(Data!O16),100*ABS($G16-(Data!O16-$K16)/$M16),0)))","v":50},{"$f":"IF($H16=0,0,CHOOSE($H16,SUMPRODUCT($O17:$O$23*V17:V$23*($E17:$E$23=$D16)),IF(ISNUMBER(Data!P16),100*ABS($G16-(Data!P16-$K16)/$M16),0),IF(ISNUMBER(Data!P16),100*ABS($G16-(Data!P16-$K16)/$M16),0)))","v":83.333333333333343},{"$f":"IF($H16=0,0,CHOOSE($H16,SUMPRODUCT($O17:$O$23*W17:W$23*($E17:$E$23=$D16)),IF(ISNUMBER(Data!Q16),100*ABS($G16-(Data!Q16-$K16)/$M16),0),IF(ISNUMBER(Data!Q16),100*ABS($G16-(Data!Q16-$K16)/$M16),0)))","v":0},{"$f":"IF($H16=0,0,CHOOSE($H16,SUMPRODUCT($O17:$O$23*X17:X$23*($E17:$E$23=$D16)),IF(ISNUMBER(Data!R16),100*ABS($G16-(Data!R16-$K16)/$M16),0),IF(ISNUMBER(Data!R16),100*ABS($G16-(Data!R16-$K16)/$M16),0)))","v":100},{"$f":"IF($H16=0,0,CHOOSE($H16,SUMPRODUCT($O17:$O$23*Y17:Y$23*($E17:$E$23=$D16)),IF(ISNUMBER(Data!S16),100*ABS($G16-(Data!S16-$K16)/$M16),0),IF(ISNUMBER(Data!S16),100*ABS($G16-(Data!S16-$K16)/$M16),0)))","v":50},{"$f":"IF($H16=0,0,CHOOSE($H16,SUMPRODUCT($O17:$O$23*Z17:Z$23*($E17:$E$23=$D16)),IF(ISNUMBER(Data!T16),100*ABS($G16-(Data!T16-$K16)/$M16),0),IF(ISNUMBER(Data!T16),100*ABS($G16-(Data!T16-$K16)/$M16),0)))","v":100},{"$f":"IF($H16=0,0,CHOOSE($H16,SUMPRODUCT($O17:$O$23*AA17:AA$23*($E17:$E$23=$D16)),IF(ISNUMBER(Data!U16),100*ABS($G16-(Data!U16-$K16)/$M16),0),IF(ISNUMBER(Data!U16),100*ABS($G16-(Data!U16-$K16)/$M16),0)))","v":83.333333333333343},{"$f":"IF($H16=0,0,CHOOSE($H16,SUMPRODUCT($O17:$O$23*AB17:AB$23*($E17:$E$23=$D16)),IF(ISNUMBER(Data!V16),100*ABS($G16-(Data!V16-$K16)/$M16),0),IF(ISNUMBER(Data!V16),100*ABS($G16-(Data!V16-$K16)/$M16),0)))","v":100},{"$f":"IF($H16=0,0,CHOOSE($H16,SUMPRODUCT($O17:$O$23*AC17:AC$23*($E17:$E$23=$D16)),IF(ISNUMBER(Data!W16),100*ABS($G16-(Data!W16-$K16)/$M16),0),IF(ISNUMBER(Data!W16),100*ABS($G16-(Data!W16-$K16)/$M16),0)))","v":100},{"$f":"IF($H16=0,0,CHOOSE($H16,SUMPRODUCT($O17:$O$23*AD17:AD$23*($E17:$E$23=$D16)),IF(ISNUMBER(Data!X16),100*ABS($G16-(Data!X16-$K16)/$M16),0),IF(ISNUMBER(Data!X16),100*ABS($G16-(Data!X16-$K16)/$M16),0)))","v":100},{"$f":"IF($H16=0,0,CHOOSE($H16,SUMPRODUCT($O17:$O$23*AE17:AE$23*($E17:$E$23=$D16)),IF(ISNUMBER(Data!Y16),100*ABS($G16-(Data!Y16-$K16)/$M16),0),IF(ISNUMBER(Data!Y16),100*ABS($G16-(Data!Y16-$K16)/$M16),0)))","v":83.333333333333343},{"$f":"IF($H16=0,0,CHOOSE($H16,SUMPRODUCT($O17:$O$23*AF17:AF$23*($E17:$E$23=$D16)),IF(ISNUMBER(Data!Z16),100*ABS($G16-(Data!Z16-$K16)/$M16),0),IF(ISNUMBER(Data!Z16),100*ABS($G16-(Data!Z16-$K16)/$M16),0)))","v":50}]
[null,{"$f":"tblIndicators!A14","v":13},{"$f":"tblIndicators!B14","v":0},{"$f":"tblIndicators!D14","v":"CE_33"},{"$f":"tblIndicators!E14","v":"CE"},{"$f":"tblIndicators!F14","v":2},{"$f":"tblIndicators!V14","v":0},{"$f":"tblIndicators!W14","v":2},{"$f":"tblIndicators!X14","v":0},{"$f":"tblIndicators!Y14","v":0},{"$f":"CHOOSE(H17,\"-\",MIN(Data!J17:Z17),I17)","v":0.25},{"$f":"CHOOSE(H17,\"-\",MAX(Data!J17:Z17),J17)","v":1.8},1.55,{"$f":"tblIndicators!AB14","v":"3.3)   Automation"},{"$f":"tblIndicators!AA14","v":0.22222222222222221},{"$f":"IF($H17=0,0,CHOOSE($H17,SUMPRODUCT($O18:$O$23*P18:P$23*($E18:$E$23=$D17)),IF(ISNUMBER(Data!J17),100*ABS($G17-(Data!J17-$K17)/$M17),0),IF(ISNUMBER(Data!J17),100*ABS($G17-(Data!J17-$K17)/$M17),0)))","v":94.193548387096769},{"$f":"IF($H17=0,0,CHOOSE($H17,SUMPRODUCT($O18:$O$23*Q18:Q$23*($E18:$E$23=$D17)),IF(ISNUMBER(Data!K17),100*ABS($G17-(Data!K17-$K17)/$M17),0),IF(ISNUMBER(Data!K17),100*ABS($G17-(Data!K17-$K17)/$M17),0)))","v":32.258064516129032},{"$f":"IF($H17=0,0,CHOOSE($H17,SUMPRODUCT($O18:$O$23*R18:R$23*($E18:$E$23=$D17)),IF(ISNUMBER(Data!L17),100*ABS($G17-(Data!L17-$K17)/$M17),0),IF(ISNUMBER(Data!L17),100*ABS($G17-(Data!L17-$K17)/$M17),0)))","v":96.774193548387089},{"$f":"IF($H17=0,0,CHOOSE($H17,SUMPRODUCT($O18:$O$23*S18:S$23*($E18:$E$23=$D17)),IF(ISNUMBER(Data!M17),100*ABS($G17-(Data!M17-$K17)/$M17),0),IF(ISNUMBER(Data!M17),100*ABS($G17-(Data!M17-$K17)/$M17),0)))","v":100},{"$f":"IF($H17=0,0,CHOOSE($H17,SUMPRODUCT($O18:$O$23*T18:T$23*($E18:$E$23=$D17)),IF(ISNUMBER(Data!N17),100*ABS($G17-(Data!N17-$K17)/$M17),0),IF(ISNUMBER(Data!N17),100*ABS($G17-(Data!N17-$K17)/$M17),0)))","v":96.774193548387089},{"$f":"IF($H17=0,0,CHOOSE($H17,SUMPRODUCT($O18:$O$23*U18:U$23*($E18:$E$23=$D17)),IF(ISNUMBER(Data!O17),100*ABS($G17-(Data!O17-$K17)/$M17),0),IF(ISNUMBER(Data!O17),100*ABS($G17-(Data!O17-$K17)/$M17),0)))","v":80.645161290322577},{"$f":"IF($H17=0,0,CHOOSE($H17,SUMPRODUCT($O18:$O$23*V18:V$23*($E18:$E$23=$D17)),IF(ISNUMBER(Data!P17),100*ABS($G17-(Data!P17-$K17)/$M17),0),IF(ISNUMBER(Data!P17),100*ABS($G17-(Data!P17-$K17)/$M17),0)))","v":57.419354838709666},{"$f":"IF($H17=0,0,CHOOSE($H17,SUMPRODUCT($O18:$O$23*W18:W$23*($E18:$E$23=$D17)),IF(ISNUMBER(Data!Q17),100*ABS($G17-(Data!Q17-$K17)/$M17),0),IF(ISNUMBER(Data!Q17),100*ABS($G17-(Data!Q17-$K17)/$M17),0)))","v":0},{"$f":"IF($H17=0,0,CHOOSE($H17,SUMPRODUCT($O18:$O$23*X18:X$23*($E18:$E$23=$D17)),IF(ISNUMBER(Data!R17),100*ABS($G17-(Data!R17-$K17)/$M17),0),IF(ISNUMBER(Data!R17),100*ABS($G17-(Data!R17-$K17)/$M17),0)))","v":64.516129032258064},{"$f":"IF($H17=0,0,CHOOSE($H17,SUMPRODUCT($O18:$O$23*Y18:Y$23*($E18:$E$23=$D17)),IF(ISNUMBER(Data!S17),100*ABS($G17-(Data!S17-$K17)/$M17),0),IF(ISNUMBER(Data!S17),100*ABS($G17-(Data!S17-$K17)/$M17),0)))","v":0},{"$f":"IF($H17=0,0,CHOOSE($H17,SUMPRODUCT($O18:$O$23*Z18:Z$23*($E18:$E$23=$D17)),IF(ISNUMBER(Data!T17),100*ABS($G17-(Data!T17-$K17)/$M17),0),IF(ISNUMBER(Data!T17),100*ABS($G17-(Data!T17-$K17)/$M17),0)))","v":94.193548387096769},{"$f":"IF($H17=0,0,CHOOSE($H17,SUMPRODUCT($O18:$O$23*AA18:AA$23*($E18:$E$23=$D17)),IF(ISNUMBER(Data!U17),100*ABS($G17-(Data!U17-$K17)/$M17),0),IF(ISNUMBER(Data!U17),100*ABS($G17-(Data!U17-$K17)/$M17),0)))","v":48.387096774193544},{"$f":"IF($H17=0,0,CHOOSE($H17,SUMPRODUCT($O18:$O$23*AB18:AB$23*($E18:$E$23=$D17)),IF(ISNUMBER(Data!V17),100*ABS($G17-(Data!V17-$K17)/$M17),0),IF(ISNUMBER(Data!V17),100*ABS($G17-(Data!V17-$K17)/$M17),0)))","v":100},{"$f":"IF($H17=0,0,CHOOSE($H17,SUMPRODUCT($O18:$O$23*AC18:AC$23*($E18:$E$23=$D17)),IF(ISNUMBER(Data!W17),100*ABS($G17-(Data!W17-$K17)/$M17),0),IF(ISNUMBER(Data!W17),100*ABS($G17-(Data!W17-$K17)/$M17),0)))","v":85.161290322580655},{"$f":"IF($H17=0,0,CHOOSE($H17,SUMPRODUCT($O18:$O$23*AD18:AD$23*($E18:$E$23=$D17)),IF(ISNUMBER(Data!X17),100*ABS($G17-(Data!X17-$K17)/$M17),0),IF(ISNUMBER(Data!X17),100*ABS($G17-(Data!X17-$K17)/$M17),0)))","v":96.774193548387089},{"$f":"IF($H17=0,0,CHOOSE($H17,SUMPRODUCT($O18:$O$23*AE18:AE$23*($E18:$E$23=$D17)),IF(ISNUMBER(Data!Y17),100*ABS($G17-(Data!Y17-$K17)/$M17),0),IF(ISNUMBER(Data!Y17),100*ABS($G17-(Data!Y17-$K17)/$M17),0)))","v":96.774193548387089},{"$f":"IF($H17=0,0,CHOOSE($H17,SUMPRODUCT($O18:$O$23*AF18:AF$23*($E18:$E$23=$D17)),IF(ISNUMBER(Data!Z17),100*ABS($G17-(Data!Z17-$K17)/$M17),0),IF(ISNUMBER(Data!Z17),100*ABS($G17-(Data!Z17-$K17)/$M17),0)))","v":64.516129032258064}]
[null,{"$f":"tblIndicators!A15","v":14},{"$f":"tblIndicators!B15","v":0},{"$f":"tblIndicators!D15","v":"CE_34"},{"$f":"tblIndicators!E15","v":"CE"},{"$f":"tblIndicators!F15","v":2},{"$f":"tblIndicators!V15","v":1},{"$f":"tblIndicators!W15","v":3},{"$f":"tblIndicators!X15","v":0},{"$f":"tblIndicators!Y15","v":4},{"$f":"CHOOSE(H18,\"-\",MIN(Data!J18:Z18),I18)","v":0},{"$f":"CHOOSE(H18,\"-\",MAX(Data!J18:Z18),J18)","v":4},4,{"$f":"tblIndicators!AB15","v":"3.4)   Corruption"},{"$f":"tblIndicators!AA15","v":0.22222222222222221},{"$f":"IF($H18=0,0,CHOOSE($H18,SUMPRODUCT($O19:$O$23*P19:P$23*($E19:$E$23=$D18)),IF(ISNUMBER(Data!J18),100*ABS($G18-(Data!J18-$K18)/$M18),0),IF(ISNUMBER(Data!J18),100*ABS($G18-(Data!J18-$K18)/$M18),0)))","v":100},{"$f":"IF($H18=0,0,CHOOSE($H18,SUMPRODUCT($O19:$O$23*Q19:Q$23*($E19:$E$23=$D18)),IF(ISNUMBER(Data!K18),100*ABS($G18-(Data!K18-$K18)/$M18),0),IF(ISNUMBER(Data!K18),100*ABS($G18-(Data!K18-$K18)/$M18),0)))","v":0},{"$f":"IF($H18=0,0,CHOOSE($H18,SUMPRODUCT($O19:$O$23*R19:R$23*($E19:$E$23=$D18)),IF(ISNUMBER(Data!L18),100*ABS($G18-(Data!L18-$K18)/$M18),0),IF(ISNUMBER(Data!L18),100*ABS($G18-(Data!L18-$K18)/$M18),0)))","v":25},{"$f":"IF($H18=0,0,CHOOSE($H18,SUMPRODUCT($O19:$O$23*S19:S$23*($E19:$E$23=$D18)),IF(ISNUMBER(Data!M18),100*ABS($G18-(Data!M18-$K18)/$M18),0),IF(ISNUMBER(Data!M18),100*ABS($G18-(Data!M18-$K18)/$M18),0)))","v":75},{"$f":"IF($H18=0,0,CHOOSE($H18,SUMPRODUCT($O19:$O$23*T19:T$23*($E19:$E$23=$D18)),IF(ISNUMBER(Data!N18),100*ABS($G18-(Data!N18-$K18)/$M18),0),IF(ISNUMBER(Data!N18),100*ABS($G18-(Data!N18-$K18)/$M18),0)))","v":25},{"$f":"IF($H18=0,0,CHOOSE($H18,SUMPRODUCT($O19:$O$23*U19:U$23*($E19:$E$23=$D18)),IF(ISNUMBER(Data!O18),100*ABS($G18-(Data!O18-$K18)/$M18),0),IF(ISNUMBER(Data!O18),100*ABS($G18-(Data!O18-$K18)/$M18),0)))","v":0},{"$f":"IF($H18=0,0,CHOOSE($H18,SUMPRODUCT($O19:$O$23*V19:V$23*($E19:$E$23=$D18)),IF(ISNUMBER(Data!P18),100*ABS($G18-(Data!P18-$K18)/$M18),0),IF(ISNUMBER(Data!P18),100*ABS($G18-(Data!P18-$K18)/$M18),0)))","v":75},{"$f":"IF($H18=0,0,CHOOSE($H18,SUMPRODUCT($O19:$O$23*W19:W$23*($E19:$E$23=$D18)),IF(ISNUMBER(Data!Q18),100*ABS($G18-(Data!Q18-$K18)/$M18),0),IF(ISNUMBER(Data!Q18),100*ABS($G18-(Data!Q18-$K18)/$M18),0)))","v":0},{"$f":"IF($H18=0,0,CHOOSE($H18,SUMPRODUCT($O19:$O$23*X19:X$23*($E19:$E$23=$D18)),IF(ISNUMBER(Data!R18),100*ABS($G18-(Data!R18-$K18)/$M18),0),IF(ISNUMBER(Data!R18),100*ABS($G18-(Data!R18-$K18)/$M18),0)))","v":50},{"$f":"IF($H18=0,0,CHOOSE($H18,SUMPRODUCT($O19:$O$23*Y19:Y$23*($E19:$E$23=$D18)),IF(ISNUMBER(Data!S18),100*ABS($G18-(Data!S18-$K18)/$M18),0),IF(ISNUMBER(Data!S18),100*ABS($G18-(Data!S18-$K18)/$M18),0)))","v":0},{"$f":"IF($H18=0,0,CHOOSE($H18,SUMPRODUCT($O19:$O$23*Z19:Z$23*($E19:$E$23=$D18)),IF(ISNUMBER(Data!T18),100*ABS($G18-(Data!T18-$K18)/$M18),0),IF(ISNUMBER(Data!T18),100*ABS($G18-(Data!T18-$K18)/$M18),0)))","v":100},{"$f":"IF($H18=0,0,CHOOSE($H18,SUMPRODUCT($O19:$O$23*AA19:AA$23*($E19:$E$23=$D18)),IF(ISNUMBER(Data!U18),100*ABS($G18-(Data!U18-$K18)/$M18),0),IF(ISNUMBER(Data!U18),100*ABS($G18-(Data!U18-$K18)/$M18),0)))","v":0},{"$f":"IF($H18=0,0,CHOOSE($H18,SUMPRODUCT($O19:$O$23*AB19:AB$23*($E19:$E$23=$D18)),IF(ISNUMBER(Data!V18),100*ABS($G18-(Data!V18-$K18)/$M18),0),IF(ISNUMBER(Data!V18),100*ABS($G18-(Data!V18-$K18)/$M18),0)))","v":100},{"$f":"IF($H18=0,0,CHOOSE($H18,SUMPRODUCT($O19:$O$23*AC19:AC$23*($E19:$E$23=$D18)),IF(ISNUMBER(Data!W18),100*ABS($G18-(Data!W18-$K18)/$M18),0),IF(ISNUMBER(Data!W18),100*ABS($G18-(Data!W18-$K18)/$M18),0)))","v":50},{"$f":"IF($H18=0,0,CHOOSE($H18,SUMPRODUCT($O19:$O$23*AD19:AD$23*($E19:$E$23=$D18)),IF(ISNUMBER(Data!X18),100*ABS($G18-(Data!X18-$K18)/$M18),0),IF(ISNUMBER(Data!X18),100*ABS($G18-(Data!X18-$K18)/$M18),0)))","v":75},{"$f":"IF($H18=0,0,CHOOSE($H18,SUMPRODUCT($O19:$O$23*AE19:AE$23*($E19:$E$23=$D18)),IF(ISNUMBER(Data!Y18),100*ABS($G18-(Data!Y18-$K18)/$M18),0),IF(ISNUMBER(Data!Y18),100*ABS($G18-(Data!Y18-$K18)/$M18),0)))","v":25},{"$f":"IF($H18=0,0,CHOOSE($H18,SUMPRODUCT($O19:$O$23*AF19:AF$23*($E19:$E$23=$D18)),IF(ISNUMBER(Data!Z18),100*ABS($G18-(Data!Z18-$K18)/$M18),0),IF(ISNUMBER(Data!Z18),100*ABS($G18-(Data!Z18-$K18)/$M18),0)))","v":25}]
[null,{"$f":"tblIndicators!A16","v":15},{"$f":"tblIndicators!B16","v":0},{"$f":"tblIndicators!D16","v":"CE_35"},{"$f":"tblIndicators!E16","v":"CE"},{"$f":"tblIndicators!F16","v":2},{"$f":"tblIndicators!V16","v":0},{"$f":"tblIndicators!W16","v":3},{"$f":"tblIndicators!X16","v":1},{"$f":"tblIndicators!Y16","v":3},{"$f":"CHOOSE(H19,\"-\",MIN(Data!J19:Z19),I19)","v":1},{"$f":"CHOOSE(H19,\"-\",MAX(Data!J19:Z19),J19)","v":3},2,{"$f":"tblIndicators!AB16","v":"3.5) Accredited Economic Operator programme"},{"$f":"tblIndicators!AA16","v":0.22222222222222221},{"$f":"IF($H19=0,0,CHOOSE($H19,SUMPRODUCT($O20:$O$23*P20:P$23*($E20:$E$23=$D19)),IF(ISNUMBER(Data!J19),100*ABS($G19-(Data!J19-$K19)/$M19),0),IF(ISNUMBER(Data!J19),100*ABS($G19-(Data!J19-$K19)/$M19),0)))","v":100},{"$f":"IF($H19=0,0,CHOOSE($H19,SUMPRODUCT($O20:$O$23*Q20:Q$23*($E20:$E$23=$D19)),IF(ISNUMBER(Data!K19),100*ABS($G19-(Data!K19-$K19)/$M19),0),IF(ISNUMBER(Data!K19),100*ABS($G19-(Data!K19-$K19)/$M19),0)))","v":0},{"$f":"IF($H19=0,0,CHOOSE($H19,SUMPRODUCT($O20:$O$23*R20:R$23*($E20:$E$23=$D19)),IF(ISNUMBER(Data!L19),100*ABS($G19-(Data!L19-$K19)/$M19),0),IF(ISNUMBER(Data!L19),100*ABS($G19-(Data!L19-$K19)/$M19),0)))","v":100},{"$f":"IF($H19=0,0,CHOOSE($H19,SUMPRODUCT($O20:$O$23*S20:S$23*($E20:$E$23=$D19)),IF(ISNUMBER(Data!M19),100*ABS($G19-(Data!M19-$K19)/$M19),0),IF(ISNUMBER(Data!M19),100*ABS($G19-(Data!M19-$K19)/$M19),0)))","v":100},{"$f":"IF($H19=0,0,CHOOSE($H19,SUMPRODUCT($O20:$O$23*T20:T$23*($E20:$E$23=$D19)),IF(ISNUMBER(Data!N19),100*ABS($G19-(Data!N19-$K19)/$M19),0),IF(ISNUMBER(Data!N19),100*ABS($G19-(Data!N19-$K19)/$M19),0)))","v":100},{"$f":"IF($H19=0,0,CHOOSE($H19,SUMPRODUCT($O20:$O$23*U20:U$23*($E20:$E$23=$D19)),IF(ISNUMBER(Data!O19),100*ABS($G19-(Data!O19-$K19)/$M19),0),IF(ISNUMBER(Data!O19),100*ABS($G19-(Data!O19-$K19)/$M19),0)))","v":50},{"$f":"IF($H19=0,0,CHOOSE($H19,SUMPRODUCT($O20:$O$23*V20:V$23*($E20:$E$23=$D19)),IF(ISNUMBER(Data!P19),100*ABS($G19-(Data!P19-$K19)/$M19),0),IF(ISNUMBER(Data!P19),100*ABS($G19-(Data!P19-$K19)/$M19),0)))","v":100},{"$f":"IF($H19=0,0,CHOOSE($H19,SUMPRODUCT($O20:$O$23*W20:W$23*($E20:$E$23=$D19)),IF(ISNUMBER(Data!Q19),100*ABS($G19-(Data!Q19-$K19)/$M19),0),IF(ISNUMBER(Data!Q19),100*ABS($G19-(Data!Q19-$K19)/$M19),0)))","v":0},{"$f":"IF($H19=0,0,CHOOSE($H19,SUMPRODUCT($O20:$O$23*X20:X$23*($E20:$E$23=$D19)),IF(ISNUMBER(Data!R19),100*ABS($G19-(Data!R19-$K19)/$M19),0),IF(ISNUMBER(Data!R19),100*ABS($G19-(Data!R19-$K19)/$M19),0)))","v":100},{"$f":"IF($H19=0,0,CHOOSE($H19,SUMPRODUCT($O20:$O$23*Y20:Y$23*($E20:$E$23=$D19)),IF(ISNUMBER(Data!S19),100*ABS($G19-(Data!S19-$K19)/$M19),0),IF(ISNUMBER(Data!S19),100*ABS($G19-(Data!S19-$K19)/$M19),0)))","v":0},{"$f":"IF($H19=0,0,CHOOSE($H19,SUMPRODUCT($O20:$O$23*Z20:Z$23*($E20:$E$23=$D19)),IF(ISNUMBER(Data!T19),100*ABS($G19-(Data!T19-$K19)/$M19),0),IF(ISNUMBER(Data!T19),100*ABS($G19-(Data!T19-$K19)/$M19),0)))","v":100},{"$f":"IF($H19=0,0,CHOOSE($H19,SUMPRODUCT($O20:$O$23*AA20:AA$23*($E20:$E$23=$D19)),IF(ISNUMBER(Data!U19),100*ABS($G19-(Data!U19-$K19)/$M19),0),IF(ISNUMBER(Data!U19),100*ABS($G19-(Data!U19-$K19)/$M19),0)))","v":0},{"$f":"IF($H19=0,0,CHOOSE($H19,SUMPRODUCT($O20:$O$23*AB20:AB$23*($E20:$E$23=$D19)),IF(ISNUMBER(Data!V19),100*ABS($G19-(Data!V19-$K19)/$M19),0),IF(ISNUMBER(Data!V19),100*ABS($G19-(Data!V19-$K19)/$M19),0)))","v":100},{"$f":"IF($H19=0,0,CHOOSE($H19,SUMPRODUCT($O20:$O$23*AC20:AC$23*($E20:$E$23=$D19)),IF(ISNUMBER(Data!W19),100*ABS($G19-(Data!W19-$K19)/$M19),0),IF(ISNUMBER(Data!W19),100*ABS($G19-(Data!W19-$K19)/$M19),0)))","v":100},{"$f":"IF($H19=0,0,CHOOSE($H19,SUMPRODUCT($O20:$O$23*AD20:AD$23*($E20:$E$23=$D19)),IF(ISNUMBER(Data!X19),100*ABS($G19-(Data!X19-$K19)/$M19),0),IF(ISNUMBER(Data!X19),100*ABS($G19-(Data!X19-$K19)/$M19),0)))","v":100},{"$f":"IF($H19=0,0,CHOOSE($H19,SUMPRODUCT($O20:$O$23*AE20:AE$23*($E20:$E$23=$D19)),IF(ISNUMBER(Data!Y19),100*ABS($G19-(Data!Y19-$K19)/$M19),0),IF(ISNUMBER(Data!Y19),100*ABS($G19-(Data!Y19-$K19)/$M19),0)))","v":100},{"$f":"IF($H19=0,0,CHOOSE($H19,SUMPRODUCT($O20:$O$23*AF20:AF$23*($E20:$E$23=$D19)),IF(ISNUMBER(Data!Z19),100*ABS($G19-(Data!Z19-$K19)/$M19),0),IF(ISNUMBER(Data!Z19),100*ABS($G19-(Data!Z19-$K19)/$M19),0)))","v":50}]
[null,{"$f":"tblIndicators!A17","v":16},{"$f":"tblIndicators!B17","v":0},{"$f":"tblIndicators!D17","v":"SD"},{"$f":"tblIndicators!E17","v":"TOTAL"},{"$f":"tblIndicators!F17","v":1},{"$f":"tblIndicators!V17","v":""},{"$f":"tblIndicators!W17","v":1},{"$f":"tblIndicators!X17","v":0},{"$f":"tblIndicators!Y17","v":0},{"$f":"CHOOSE(H20,\"-\",MIN(Data!J20:Z20),I20)","v":"-"},{"$f":"CHOOSE(H20,\"-\",MAX(Data!J20:Z20),J20)","v":"-"},"-",{"$f":"tblIndicators!AB17","v":"4) SUPPLY AND DEMAND"},{"$f":"tblIndicators!AA17","v":0.25},{"$f":"IF($H20=0,0,CHOOSE($H20,SUMPRODUCT($O21:$O$23*P21:P$23*($E21:$E$23=$D20)),IF(ISNUMBER(Data!J20),100*ABS($G20-(Data!J20-$K20)/$M20),0),IF(ISNUMBER(Data!J20),100*ABS($G20-(Data!J20-$K20)/$M20),0)))","v":71.296296296296291},{"$f":"IF($H20=0,0,CHOOSE($H20,SUMPRODUCT($O21:$O$23*Q21:Q$23*($E21:$E$23=$D20)),IF(ISNUMBER(Data!K20),100*ABS($G20-(Data!K20-$K20)/$M20),0),IF(ISNUMBER(Data!K20),100*ABS($G20-(Data!K20-$K20)/$M20),0)))","v":28.703703703703699},{"$f":"IF($H20=0,0,CHOOSE($H20,SUMPRODUCT($O21:$O$23*R21:R$23*($E21:$E$23=$D20)),IF(ISNUMBER(Data!L20),100*ABS($G20-(Data!L20-$K20)/$M20),0),IF(ISNUMBER(Data!L20),100*ABS($G20-(Data!L20-$K20)/$M20),0)))","v":44.444444444444436},{"$f":"IF($H20=0,0,CHOOSE($H20,SUMPRODUCT($O21:$O$23*S21:S$23*($E21:$E$23=$D20)),IF(ISNUMBER(Data!M20),100*ABS($G20-(Data!M20-$K20)/$M20),0),IF(ISNUMBER(Data!M20),100*ABS($G20-(Data!M20-$K20)/$M20),0)))","v":92.592592592592581},{"$f":"IF($H20=0,0,CHOOSE($H20,SUMPRODUCT($O21:$O$23*T21:T$23*($E21:$E$23=$D20)),IF(ISNUMBER(Data!N20),100*ABS($G20-(Data!N20-$K20)/$M20),0),IF(ISNUMBER(Data!N20),100*ABS($G20-(Data!N20-$K20)/$M20),0)))","v":39.81481481481481},{"$f":"IF($H20=0,0,CHOOSE($H20,SUMPRODUCT($O21:$O$23*U21:U$23*($E21:$E$23=$D20)),IF(ISNUMBER(Data!O20),100*ABS($G20-(Data!O20-$K20)/$M20),0),IF(ISNUMBER(Data!O20),100*ABS($G20-(Data!O20-$K20)/$M20),0)))","v":44.444444444444436},{"$f":"IF($H20=0,0,CHOOSE($H20,SUMPRODUCT($O21:$O$23*V21:V$23*($E21:$E$23=$D20)),IF(ISNUMBER(Data!P20),100*ABS($G20-(Data!P20-$K20)/$M20),0),IF(ISNUMBER(Data!P20),100*ABS($G20-(Data!P20-$K20)/$M20),0)))","v":63.888888888888879},{"$f":"IF($H20=0,0,CHOOSE($H20,SUMPRODUCT($O21:$O$23*W21:W$23*($E21:$E$23=$D20)),IF(ISNUMBER(Data!Q20),100*ABS($G20-(Data!Q20-$K20)/$M20),0),IF(ISNUMBER(Data!Q20),100*ABS($G20-(Data!Q20-$K20)/$M20),0)))","v":40.740740740740733},{"$f":"IF($H20=0,0,CHOOSE($H20,SUMPRODUCT($O21:$O$23*X21:X$23*($E21:$E$23=$D20)),IF(ISNUMBER(Data!R20),100*ABS($G20-(Data!R20-$K20)/$M20),0),IF(ISNUMBER(Data!R20),100*ABS($G20-(Data!R20-$K20)/$M20),0)))","v":63.888888888888879},{"$f":"IF($H20=0,0,CHOOSE($H20,SUMPRODUCT($O21:$O$23*Y21:Y$23*($E21:$E$23=$D20)),IF(ISNUMBER(Data!S20),100*ABS($G20-(Data!S20-$K20)/$M20),0),IF(ISNUMBER(Data!S20),100*ABS($G20-(Data!S20-$K20)/$M20),0)))","v":20.370370370370367},{"$f":"IF($H20=0,0,CHOOSE($H20,SUMPRODUCT($O21:$O$23*Z21:Z$23*($E21:$E$23=$D20)),IF(ISNUMBER(Data!T20),100*ABS($G20-(Data!T20-$K20)/$M20),0),IF(ISNUMBER(Data!T20),100*ABS($G20-(Data!T20-$K20)/$M20),0)))","v":91.666666666666657},{"$f":"IF($H20=0,0,CHOOSE($H20,SUMPRODUCT($O21:$O$23*AA21:AA$23*($E21:$E$23=$D20)),IF(ISNUMBER(Data!U20),100*ABS($G20-(Data!U20-$K20)/$M20),0),IF(ISNUMBER(Data!U20),100*ABS($G20-(Data!U20-$K20)/$M20),0)))","v":52.777777777777771},{"$f":"IF($H20=0,0,CHOOSE($H20,SUMPRODUCT($O21:$O$23*AB21:AB$23*($E21:$E$23=$D20)),IF(ISNUMBER(Data!V20),100*ABS($G20-(Data!V20-$K20)/$M20),0),IF(ISNUMBER(Data!V20),100*ABS($G20-(Data!V20-$K20)/$M20),0)))","v":83.333333333333329},{"$f":"IF($H20=0,0,CHOOSE($H20,SUMPRODUCT($O21:$O$23*AC21:AC$23*($E21:$E$23=$D20)),IF(ISNUMBER(Data!W20),100*ABS($G20-(Data!W20-$K20)/$M20),0),IF(ISNUMBER(Data!W20),100*ABS($G20-(Data!W20-$K20)/$M20),0)))","v":55.55555555555555},{"$f":"IF($H20=0,0,CHOOSE($H20,SUMPRODUCT($O21:$O$23*AD21:AD$23*($E21:$E$23=$D20)),IF(ISNUMBER(Data!X20),100*ABS($G20-(Data!X20-$K20)/$M20),0),IF(ISNUMBER(Data!X20),100*ABS($G20-(Data!X20-$K20)/$M20),0)))","v":72.222222222222214},{"$f":"IF($H20=0,0,CHOOSE($H20,SUMPRODUCT($O21:$O$23*AE21:AE$23*($E21:$E$23=$D20)),IF(ISNUMBER(Data!Y20),100*ABS($G20-(Data!Y20-$K20)/$M20),0),IF(ISNUMBER(Data!Y20),100*ABS($G20-(Data!Y20-$K20)/$M20),0)))","v":56.481481481481481},{"$f":"IF($H20=0,0,CHOOSE($H20,SUMPRODUCT($O21:$O$23*AF21:AF$23*($E21:$E$23=$D20)),IF(ISNUMBER(Data!Z20),100*ABS($G20-(Data!Z20-$K20)/$M20),0),IF(ISNUMBER(Data!Z20),100*ABS($G20-(Data!Z20-$K20)/$M20),0)))","v":44.444444444444436}]
[null,{"$f":"tblIndicators!A18","v":17},{"$f":"tblIndicators!B18","v":0},{"$f":"tblIndicators!D18","v":"SD_41"},{"$f":"tblIndicators!E18","v":"SD"},{"$f":"tblIndicators!F18","v":2},{"$f":"tblIndicators!V18","v":0},{"$f":"tblIndicators!W18","v":3},{"$f":"tblIndicators!X18","v":1},{"$f":"tblIndicators!Y18","v":5},{"$f":"CHOOSE(H21,\"-\",MIN(Data!J21:Z21),I21)","v":1},{"$f":"CHOOSE(H21,\"-\",MAX(Data!J21:Z21),J21)","v":5},4,{"$f":"tblIndicators!AB18","v":"4.1)   Tax and social security burdens"},{"$f":"tblIndicators!AA18","v":0.33333333333333331},{"$f":"IF($H21=0,0,CHOOSE($H21,SUMPRODUCT($O22:$O$23*P22:P$23*($E22:$E$23=$D21)),IF(ISNUMBER(Data!J21),100*ABS($G21-(Data!J21-$K21)/$M21),0),IF(ISNUMBER(Data!J21),100*ABS($G21-(Data!J21-$K21)/$M21),0)))","v":75},{"$f":"IF($H21=0,0,CHOOSE($H21,SUMPRODUCT($O22:$O$23*Q22:Q$23*($E22:$E$23=$D21)),IF(ISNUMBER(Data!K21),100*ABS($G21-(Data!K21-$K21)/$M21),0),IF(ISNUMBER(Data!K21),100*ABS($G21-(Data!K21-$K21)/$M21),0)))","v":50},{"$f":"IF($H21=0,0,CHOOSE($H21,SUMPRODUCT($O22:$O$23*R22:R$23*($E22:$E$23=$D21)),IF(ISNUMBER(Data!L21),100*ABS($G21-(Data!L21-$K21)/$M21),0),IF(ISNUMBER(Data!L21),100*ABS($G21-(Data!L21-$K21)/$M21),0)))","v":50},{"$f":"IF($H21=0,0,CHOOSE($H21,SUMPRODUCT($O22:$O$23*S22:S$23*($E22:$E$23=$D21)),IF(ISNUMBER(Data!M21),100*ABS($G21-(Data!M21-$K21)/$M21),0),IF(ISNUMBER(Data!M21),100*ABS($G21-(Data!M21-$K21)/$M21),0)))","v":100},{"$f":"IF($H21=0,0,CHOOSE($H21,SUMPRODUCT($O22:$O$23*T22:T$23*($E22:$E$23=$D21)),IF(ISNUMBER(Data!N21),100*ABS($G21-(Data!N21-$K21)/$M21),0),IF(ISNUMBER(Data!N21),100*ABS($G21-(Data!N21-$K21)/$M21),0)))","v":50},{"$f":"IF($H21=0,0,CHOOSE($H21,SUMPRODUCT($O22:$O$23*U22:U$23*($E22:$E$23=$D21)),IF(ISNUMBER(Data!O21),100*ABS($G21-(Data!O21-$K21)/$M21),0),IF(ISNUMBER(Data!O21),100*ABS($G21-(Data!O21-$K21)/$M21),0)))","v":50},{"$f":"IF($H21=0,0,CHOOSE($H21,SUMPRODUCT($O22:$O$23*V22:V$23*($E22:$E$23=$D21)),IF(ISNUMBER(Data!P21),100*ABS($G21-(Data!P21-$K21)/$M21),0),IF(ISNUMBER(Data!P21),100*ABS($G21-(Data!P21-$K21)/$M21),0)))","v":75},{"$f":"IF($H21=0,0,CHOOSE($H21,SUMPRODUCT($O22:$O$23*W22:W$23*($E22:$E$23=$D21)),IF(ISNUMBER(Data!Q21),100*ABS($G21-(Data!Q21-$K21)/$M21),0),IF(ISNUMBER(Data!Q21),100*ABS($G21-(Data!Q21-$K21)/$M21),0)))","v":50},{"$f":"IF($H21=0,0,CHOOSE($H21,SUMPRODUCT($O22:$O$23*X22:X$23*($E22:$E$23=$D21)),IF(ISNUMBER(Data!R21),100*ABS($G21-(Data!R21-$K21)/$M21),0),IF(ISNUMBER(Data!R21),100*ABS($G21-(Data!R21-$K21)/$M21),0)))","v":75},{"$f":"IF($H21=0,0,CHOOSE($H21,SUMPRODUCT($O22:$O$23*Y22:Y$23*($E22:$E$23=$D21)),IF(ISNUMBER(Data!S21),100*ABS($G21-(Data!S21-$K21)/$M21),0),IF(ISNUMBER(Data!S21),100*ABS($G21-(Data!S21-$K21)/$M21),0)))","v":25},{"$f":"IF($H21=0,0,CHOOSE($H21,SUMPRODUCT($O22:$O$23*Z22:Z$23*($E22:$E$23=$D21)),IF(ISNUMBER(Data!T21),100*ABS($G21-(Data!T21-$K21)/$M21),0),IF(ISNUMBER(Data!T21),100*ABS($G21-(Data!T21-$K21)/$M21),0)))","v":100},{"$f":"IF($H21=0,0,CHOOSE($H21,SUMPRODUCT($O22:$O$23*AA22:AA$23*($E22:$E$23=$D21)),IF(ISNUMBER(Data!U21),100*ABS($G21-(Data!U21-$K21)/$M21),0),IF(ISNUMBER(Data!U21),100*ABS($G21-(Data!U21-$K21)/$M21),0)))","v":50},{"$f":"IF($H21=0,0,CHOOSE($H21,SUMPRODUCT($O22:$O$23*AB22:AB$23*($E22:$E$23=$D21)),IF(ISNUMBER(Data!V21),100*ABS($G21-(Data!V21-$K21)/$M21),0),IF(ISNUMBER(Data!V21),100*ABS($G21-(Data!V21-$K21)/$M21),0)))","v":75},{"$f":"IF($H21=0,0,CHOOSE($H21,SUMPRODUCT($O22:$O$23*AC22:AC$23*($E22:$E$23=$D21)),IF(ISNUMBER(Data!W21),100*ABS($G21-(Data!W21-$K21)/$M21),0),IF(ISNUMBER(Data!W21),100*ABS($G21-(Data!W21-$K21)/$M21),0)))","v":50},{"$f":"IF($H21=0,0,CHOOSE($H21,SUMPRODUCT($O22:$O$23*AD22:AD$23*($E22:$E$23=$D21)),IF(ISNUMBER(Data!X21),100*ABS($G21-(Data!X21-$K21)/$M21),0),IF(ISNUMBER(Data!X21),100*ABS($G21-(Data!X21-$K21)/$M21),0)))","v":75},{"$f":"IF($H21=0,0,CHOOSE($H21,SUMPRODUCT($O22:$O$23*AE22:AE$23*($E22:$E$23=$D21)),IF(ISNUMBER(Data!Y21),100*ABS($G21-(Data!Y21-$K21)/$M21),0),IF(ISNUMBER(Data!Y21),100*ABS($G21-(Data!Y21-$K21)/$M21),0)))","v":50},{"$f":"IF($H21=0,0,CHOOSE($H21,SUMPRODUCT($O22:$O$23*AF22:AF$23*($E22:$E$23=$D21)),IF(ISNUMBER(Data!Z21),100*ABS($G21-(Data!Z21-$K21)/$M21),0),IF(ISNUMBER(Data!Z21),100*ABS($G21-(Data!Z21-$K21)/$M21),0)))","v":50}]
[null,{"$f":"tblIndicators!A19","v":18},{"$f":"tblIndicators!B19","v":0},{"$f":"tblIndicators!D19","v":"SD_42"},{"$f":"tblIndicators!E19","v":"SD"},{"$f":"tblIndicators!F19","v":2},{"$f":"tblIndicators!V19","v":0},{"$f":"tblIndicators!W19","v":3},{"$f":"tblIndicators!X19","v":1},{"$f":"tblIndicators!Y19","v":10},{"$f":"CHOOSE(H22,\"-\",MIN(Data!J22:Z22),I22)","v":1},{"$f":"CHOOSE(H22,\"-\",MAX(Data!J22:Z22),J22)","v":10},9,{"$f":"tblIndicators!AB19","v":"4.2)   Quality of state institutions"},{"$f":"tblIndicators!AA19","v":0.33333333333333331},{"$f":"IF($H22=0,0,CHOOSE($H22,SUMPRODUCT($O23:$O$23*P23:P$23*($E23:$E$23=$D22)),IF(ISNUMBER(Data!J22),100*ABS($G22-(Data!J22-$K22)/$M22),0),IF(ISNUMBER(Data!J22),100*ABS($G22-(Data!J22-$K22)/$M22),0)))","v":88.888888888888886},{"$f":"IF($H22=0,0,CHOOSE($H22,SUMPRODUCT($O23:$O$23*Q23:Q$23*($E23:$E$23=$D22)),IF(ISNUMBER(Data!K22),100*ABS($G22-(Data!K22-$K22)/$M22),0),IF(ISNUMBER(Data!K22),100*ABS($G22-(Data!K22-$K22)/$M22),0)))","v":11.111111111111111},{"$f":"IF($H22=0,0,CHOOSE($H22,SUMPRODUCT($O23:$O$23*R23:R$23*($E23:$E$23=$D22)),IF(ISNUMBER(Data!L22),100*ABS($G22-(Data!L22-$K22)/$M22),0),IF(ISNUMBER(Data!L22),100*ABS($G22-(Data!L22-$K22)/$M22),0)))","v":33.333333333333329},{"$f":"IF($H22=0,0,CHOOSE($H22,SUMPRODUCT($O23:$O$23*S23:S$23*($E23:$E$23=$D22)),IF(ISNUMBER(Data!M22),100*ABS($G22-(Data!M22-$K22)/$M22),0),IF(ISNUMBER(Data!M22),100*ABS($G22-(Data!M22-$K22)/$M22),0)))","v":77.777777777777786},{"$f":"IF($H22=0,0,CHOOSE($H22,SUMPRODUCT($O23:$O$23*T23:T$23*($E23:$E$23=$D22)),IF(ISNUMBER(Data!N22),100*ABS($G22-(Data!N22-$K22)/$M22),0),IF(ISNUMBER(Data!N22),100*ABS($G22-(Data!N22-$K22)/$M22),0)))","v":44.444444444444443},{"$f":"IF($H22=0,0,CHOOSE($H22,SUMPRODUCT($O23:$O$23*U23:U$23*($E23:$E$23=$D22)),IF(ISNUMBER(Data!O22),100*ABS($G22-(Data!O22-$K22)/$M22),0),IF(ISNUMBER(Data!O22),100*ABS($G22-(Data!O22-$K22)/$M22),0)))","v":33.333333333333329},{"$f":"IF($H22=0,0,CHOOSE($H22,SUMPRODUCT($O23:$O$23*V23:V$23*($E23:$E$23=$D22)),IF(ISNUMBER(Data!P22),100*ABS($G22-(Data!P22-$K22)/$M22),0),IF(ISNUMBER(Data!P22),100*ABS($G22-(Data!P22-$K22)/$M22),0)))","v":66.666666666666657},{"$f":"IF($H22=0,0,CHOOSE($H22,SUMPRODUCT($O23:$O$23*W23:W$23*($E23:$E$23=$D22)),IF(ISNUMBER(Data!Q22),100*ABS($G22-(Data!Q22-$K22)/$M22),0),IF(ISNUMBER(Data!Q22),100*ABS($G22-(Data!Q22-$K22)/$M22),0)))","v":22.222222222222221},{"$f":"IF($H22=0,0,CHOOSE($H22,SUMPRODUCT($O23:$O$23*X23:X$23*($E23:$E$23=$D22)),IF(ISNUMBER(Data!R22),100*ABS($G22-(Data!R22-$K22)/$M22),0),IF(ISNUMBER(Data!R22),100*ABS($G22-(Data!R22-$K22)/$M22),0)))","v":66.666666666666657},{"$f":"IF($H22=0,0,CHOOSE($H22,SUMPRODUCT($O23:$O$23*Y23:Y$23*($E23:$E$23=$D22)),IF(ISNUMBER(Data!S22),100*ABS($G22-(Data!S22-$K22)/$M22),0),IF(ISNUMBER(Data!S22),100*ABS($G22-(Data!S22-$K22)/$M22),0)))","v":11.111111111111111},{"$f":"IF($H22=0,0,CHOOSE($H22,SUMPRODUCT($O23:$O$23*Z23:Z$23*($E23:$E$23=$D22)),IF(ISNUMBER(Data!T22),100*ABS($G22-(Data!T22-$K22)/$M22),0),IF(ISNUMBER(Data!T22),100*ABS($G22-(Data!T22-$K22)/$M22),0)))","v":100},{"$f":"IF($H22=0,0,CHOOSE($H22,SUMPRODUCT($O23:$O$23*AA23:AA$23*($E23:$E$23=$D22)),IF(ISNUMBER(Data!U22),100*ABS($G22-(Data!U22-$K22)/$M22),0),IF(ISNUMBER(Data!U22),100*ABS($G22-(Data!U22-$K22)/$M22),0)))","v":33.333333333333329},{"$f":"IF($H22=0,0,CHOOSE($H22,SUMPRODUCT($O23:$O$23*AB23:AB$23*($E23:$E$23=$D22)),IF(ISNUMBER(Data!V22),100*ABS($G22-(Data!V22-$K22)/$M22),0),IF(ISNUMBER(Data!V22),100*ABS($G22-(Data!V22-$K22)/$M22),0)))","v":100},{"$f":"IF($H22=0,0,CHOOSE($H22,SUMPRODUCT($O23:$O$23*AC23:AC$23*($E23:$E$23=$D22)),IF(ISNUMBER(Data!W22),100*ABS($G22-(Data!W22-$K22)/$M22),0),IF(ISNUMBER(Data!W22),100*ABS($G22-(Data!W22-$K22)/$M22),0)))","v":66.666666666666657},{"$f":"IF($H22=0,0,CHOOSE($H22,SUMPRODUCT($O23:$O$23*AD23:AD$23*($E23:$E$23=$D22)),IF(ISNUMBER(Data!X22),100*ABS($G22-(Data!X22-$K22)/$M22),0),IF(ISNUMBER(Data!X22),100*ABS($G22-(Data!X22-$K22)/$M22),0)))","v":66.666666666666657},{"$f":"IF($H22=0,0,CHOOSE($H22,SUMPRODUCT($O23:$O$23*AE23:AE$23*($E23:$E$23=$D22)),IF(ISNUMBER(Data!Y22),100*ABS($G22-(Data!Y22-$K22)/$M22),0),IF(ISNUMBER(Data!Y22),100*ABS($G22-(Data!Y22-$K22)/$M22),0)))","v":44.444444444444443},{"$f":"IF($H22=0,0,CHOOSE($H22,SUMPRODUCT($O23:$O$23*AF23:AF$23*($E23:$E$23=$D22)),IF(ISNUMBER(Data!Z22),100*ABS($G22-(Data!Z22-$K22)/$M22),0),IF(ISNUMBER(Data!Z22),100*ABS($G22-(Data!Z22-$K22)/$M22),0)))","v":33.333333333333329}]
[null,{"$f":"tblIndicators!A20","v":19},{"$f":"tblIndicators!B20","v":0},{"$f":"tblIndicators!D20","v":"SD_43"},{"$f":"tblIndicators!E20","v":"SD"},{"$f":"tblIndicators!F20","v":2},{"$f":"tblIndicators!V20","v":0},{"$f":"tblIndicators!W20","v":3},{"$f":"tblIndicators!X20","v":1},{"$f":"tblIndicators!Y20","v":5},{"$f":"CHOOSE(H23,\"-\",MIN(Data!J23:Z23),I23)","v":1},{"$f":"CHOOSE(H23,\"-\",MAX(Data!J23:Z23),J23)","v":5},4,{"$f":"tblIndicators!AB20","v":"4.3)   Labour market regulations"},{"$f":"tblIndicators!AA20","v":0.33333333333333331},{"$f":"IF($H23=0,0,CHOOSE($H23,SUMPRODUCT(#REF!*#REF!*(#REF!=$D23)),IF(ISNUMBER(Data!J23),100*ABS($G23-(Data!J23-$K23)/$M23),0),IF(ISNUMBER(Data!J23),100*ABS($G23-(Data!J23-$K23)/$M23),0)))","v":50},{"$f":"IF($H23=0,0,CHOOSE($H23,SUMPRODUCT(#REF!*#REF!*(#REF!=$D23)),IF(ISNUMBER(Data!K23),100*ABS($G23-(Data!K23-$K23)/$M23),0),IF(ISNUMBER(Data!K23),100*ABS($G23-(Data!K23-$K23)/$M23),0)))","v":25},{"$f":"IF($H23=0,0,CHOOSE($H23,SUMPRODUCT(#REF!*#REF!*(#REF!=$D23)),IF(ISNUMBER(Data!L23),100*ABS($G23-(Data!L23-$K23)/$M23),0),IF(ISNUMBER(Data!L23),100*ABS($G23-(Data!L23-$K23)/$M23),0)))","v":50},{"$f":"IF($H23=0,0,CHOOSE($H23,SUMPRODUCT(#REF!*#REF!*(#REF!=$D23)),IF(ISNUMBER(Data!M23),100*ABS($G23-(Data!M23-$K23)/$M23),0),IF(ISNUMBER(Data!M23),100*ABS($G23-(Data!M23-$K23)/$M23),0)))","v":100},{"$f":"IF($H23=0,0,CHOOSE($H23,SUMPRODUCT(#REF!*#REF!*(#REF!=$D23)),IF(ISNUMBER(Data!N23),100*ABS($G23-(Data!N23-$K23)/$M23),0),IF(ISNUMBER(Data!N23),100*ABS($G23-(Data!N23-$K23)/$M23),0)))","v":25},{"$f":"IF($H23=0,0,CHOOSE($H23,SUMPRODUCT(#REF!*#REF!*(#REF!=$D23)),IF(ISNUMBER(Data!O23),100*ABS($G23-(Data!O23-$K23)/$M23),0),IF(ISNUMBER(Data!O23),100*ABS($G23-(Data!O23-$K23)/$M23),0)))","v":50},{"$f":"IF($H23=0,0,CHOOSE($H23,SUMPRODUCT(#REF!*#REF!*(#REF!=$D23)),IF(ISNUMBER(Data!P23),100*ABS($G23-(Data!P23-$K23)/$M23),0),IF(ISNUMBER(Data!P23),100*ABS($G23-(Data!P23-$K23)/$M23),0)))","v":50},{"$f":"IF($H23=0,0,CHOOSE($H23,SUMPRODUCT(#REF!*#REF!*(#REF!=$D23)),IF(ISNUMBER(Data!Q23),100*ABS($G23-(Data!Q23-$K23)/$M23),0),IF(ISNUMBER(Data!Q23),100*ABS($G23-(Data!Q23-$K23)/$M23),0)))","v":50},{"$f":"IF($H23=0,0,CHOOSE($H23,SUMPRODUCT(#REF!*#REF!*(#REF!=$D23)),IF(ISNUMBER(Data!R23),100*ABS($G23-(Data!R23-$K23)/$M23),0),IF(ISNUMBER(Data!R23),100*ABS($G23-(Data!R23-$K23)/$M23),0)))","v":50},{"$f":"IF($H23=0,0,CHOOSE($H23,SUMPRODUCT(#REF!*#REF!*(#REF!=$D23)),IF(ISNUMBER(Data!S23),100*ABS($G23-(Data!S23-$K23)/$M23),0),IF(ISNUMBER(Data!S23),100*ABS($G23-(Data!S23-$K23)/$M23),0)))","v":25},{"$f":"IF($H23=0,0,CHOOSE($H23,SUMPRODUCT(#REF!*#REF!*(#REF!=$D23)),IF(ISNUMBER(Data!T23),100*ABS($G23-(Data!T23-$K23)/$M23),0),IF(ISNUMBER(Data!T23),100*ABS($G23-(Data!T23-$K23)/$M23),0)))","v":75},{"$f":"IF($H23=0,0,CHOOSE($H23,SUMPRODUCT(#REF!*#REF!*(#REF!=$D23)),IF(ISNUMBER(Data!U23),100*ABS($G23-(Data!U23-$K23)/$M23),0),IF(ISNUMBER(Data!U23),100*ABS($G23-(Data!U23-$K23)/$M23),0)))","v":75},{"$f":"IF($H23=0,0,CHOOSE($H23,SUMPRODUCT(#REF!*#REF!*(#REF!=$D23)),IF(ISNUMBER(Data!V23),100*ABS($G23-(Data!V23-$K23)/$M23),0),IF(ISNUMBER(Data!V23),100*ABS($G23-(Data!V23-$K23)/$M23),0)))","v":75},{"$f":"IF($H23=0,0,CHOOSE($H23,SUMPRODUCT(#REF!*#REF!*(#REF!=$D23)),IF(ISNUMBER(Data!W23),100*ABS($G23-(Data!W23-$K23)/$M23),0),IF(ISNUMBER(Data!W23),100*ABS($G23-(Data!W23-$K23)/$M23),0)))","v":50},{"$f":"IF($H23=0,0,CHOOSE($H23,SUMPRODUCT(#REF!*#REF!*(#REF!=$D23)),IF(ISNUMBER(Data!X23),100*ABS($G23-(Data!X23-$K23)/$M23),0),IF(ISNUMBER(Data!X23),100*ABS($G23-(Data!X23-$K23)/$M23),0)))","v":75},{"$f":"IF($H23=0,0,CHOOSE($H23,SUMPRODUCT(#REF!*#REF!*(#REF!=$D23)),IF(ISNUMBER(Data!Y23),100*ABS($G23-(Data!Y23-$K23)/$M23),0),IF(ISNUMBER(Data!Y23),100*ABS($G23-(Data!Y23-$K23)/$M23),0)))","v":75},{"$f":"IF($H23=0,0,CHOOSE($H23,SUMPRODUCT(#REF!*#REF!*(#REF!=$D23)),IF(ISNUMBER(Data!Z23),100*ABS($G23-(Data!Z23-$K23)/$M23),0),IF(ISNUMBER(Data!Z23),100*ABS($G23-(Data!Z23-$K23)/$M23),0)))","v":50}]

{"sheet":"iCC_Overview","index":24,"n_rows":35,"n_cols":46,"rows_kept":35,"cut":false,"hidden":true,"merged":[]}
["Country_COUNT",{"$f":"uxb_works!B1","v":17}]
[{"$f":"uxb_works!A19","v":"CITY1_ID"},{"$f":"uxb_works!B19","v":1},{"$f":"uxb_works!C19","v":"Australia"}]
[{"$f":"uxb_works!A20","v":"CITY2_ID"},{"$f":"uxb_works!B20","v":4},{"$f":"uxb_works!C20","v":"Hong Kong"}]
[{"$f":"uxb_works!$A$16","v":"INDI_OR_SUB_INDI"},{"$f":"uxb_works!$B$16","v":false}]
[]
[null,null,null,null,null,null,null,{"$f":"CONCATENATE(\"Rank / \",B1)","v":"Rank / 17"},"Score / 100","Rank",null,null,null,null,"Rank Equality","Average",null,null,null,null,null,null,null,null,null,null,null,null,null,null,{"$f":"$C$2","v":"Australia"},"Average","Highest","Lowest",null,{"$f":"$C$2","v":"Australia"},null,null,null,null,null,1,2,3,4,5]
[]
[{"$f":"tblIndiSets!A5","v":"TOTAL"},{"$f":"tblIndiSets!B5","v":1},null,null,{"$f":"tblIndiSets!C5","v":"OVERALL SCORE"},null,null,{"$f":"IF(O8>1,CONCATENATE(\"=\",J8),J8)","v":1},{"$f":"INDEX(aRoundedScores,B8,$B$2)","v":85.2},{"$f":"RANK(I8,OFFSET(aRoundedScores,B8-1,0,1,$B$1))","v":1},null,null,null,null,{"$f":"COUNTIF(OFFSET(aRoundedScores,B8-1,0,1,$B$1),I8)","v":1},{"$f":"AVERAGE(OFFSET(aRoundedScores,B8-1,0,1,$B$1))","v":57.047058823529397},null,null,null,{"$f":"X15","v":"Australia Scores Higher Than Hong Kong"},{"$f":"Y15","v":"Hong Kong Scores Higher Than Australia"},{"$f":"Z15","v":"Australia and Hong Kong Score The Same"},null,null,null,null,null,null,null,null,{"$f":"INDEX(aRoundedScores,$B8,$B$2)","v":85.2},{"$f":"(AVERAGE(OFFSET(aRoundedScores,$B8-1,0,1,$B$1)))","v":57.047058823529397},{"$f":"(MAX(OFFSET(aRoundedScores,$B8-1,0,1,$B$1)))","v":85.2},{"$f":"(MIN(OFFSET(aRoundedScores,$B8-1,0,1,$B$1)))","v":10.8},null,{"$f":"INDEX(aRoundedScores,$B8,$B$2)","v":85.2},null,null,null,null,null,null,{"$f":"INDEX($E$8:$E$13,AQ6)","v":"1) INTELLECTUAL PROPERTY"},{"$f":"INDEX($E$8:$E$13,AR6)","v":"2) TRANSPARENCY AND TRADE"},{"$f":"INDEX($E$8:$E$13,AS6)","v":"3) CUSTOMS ENVIRONMENT"},{"$f":"INDEX($E$8:$E$13,AT6)","v":"4) SUPPLY AND DEMAND"}]
[{"$f":"tblIndiSets!A6","v":"IP"},{"$f":"tblIndiSets!B6","v":2},null,null,{"$f":"tblIndiSets!C6","v":"1) INTELLECTUAL PROPERTY"},null,null,{"$f":"IF(O9>1,CONCATENATE(\"=\",J9),J9)","v":"=1"},100,1,null,null,null,null,2,51.764705882352942,null,null,null,{"$f":"COUNT(T17:T35)","v":0},{"$f":"COUNT(U17:U35)","v":0},{"$f":"COUNT(V17:V35)","v":0},null,null,null,null,null,null,null,null,{"$f":"INDEX(aRoundedScores,$B9,$B$2)","v":100},{"$f":"(AVERAGE(OFFSET(aRoundedScores,$B9-1,0,1,$B$1)))","v":51.764705882352942},{"$f":"(MAX(OFFSET(aRoundedScores,$B9-1,0,1,$B$1)))","v":100},{"$f":"(MIN(OFFSET(aRoundedScores,$B9-1,0,1,$B$1)))","v":0},null,{"$f":"INDEX(aRoundedScores,$B9,$B$2)","v":100},null,null,null,null,1,{"$f":"INDEX($AJ$6:$AM$6,1,AO9)","v":"Australia"},{"$f":"INDEX($AJ$9:$AM$9,1,$AO9)","v":100},{"$f":"INDEX($AJ$10:$AM$10,1,$AO9)","v":81.5},{"$f":"INDEX(#REF!,1,$AO9)","v":{"$error":"#REF!"}},{"$f":"INDEX($AJ$13:$AM$13,1,$AO9)","v":100}]
[{"$f":"tblIndiSets!A7","v":"TT"},{"$f":"tblIndiSets!B7","v":5},null,null,{"$f":"tblIndiSets!C7","v":"2) TRANSPARENCY AND TRADE"},null,null,4,81.5,4,null,null,null,null,1,60.370588235294115,null,null,null,null,null,null,null,null,null,null,null,null,null,null,{"$f":"INDEX(aRoundedScores,$B10,$B$2)","v":81.5},{"$f":"(AVERAGE(OFFSET(aRoundedScores,$B10-1,0,1,$B$1)))","v":60.370588235294115},{"$f":"(MAX(OFFSET(aRoundedScores,$B10-1,0,1,$B$1)))","v":93.5},{"$f":"(MIN(OFFSET(aRoundedScores,$B10-1,0,1,$B$1)))","v":11},null,{"$f":"INDEX(aRoundedScores,$B10,$B$2)","v":81.5},null,null,null,null,2,{"$f":"INDEX($AJ$6:$AM$6,1,AO10)","v":0},{"$f":"INDEX($AJ$9:$AM$9,1,$AO10)","v":0},{"$f":"INDEX($AJ$10:$AM$10,1,$AO10)","v":0},{"$f":"INDEX(#REF!,1,$AO10)","v":{"$error":"#REF!"}},{"$f":"INDEX($AJ$13:$AM$13,1,$AO10)","v":0}]
[{"$f":"tblIndiSets!A8","v":"CE"},{"$f":"tblIndiSets!B8","v":10},null,null,{"$f":"tblIndiSets!C8","v":"3) CUSTOMS ENVIRONMENT"},null,null,2,88,2,null,null,null,null,1,59.199999999999989]
[{"$f":"tblIndiSets!A9","v":"SD"},{"$f":"tblIndiSets!B9","v":16},null,null,{"$f":"tblIndiSets!C9","v":"4) SUPPLY AND DEMAND"},null,null,5,71.3,5,null,null,null,null,1,56.858823529411758]
[null,null,null,null,null,null,null,null,null,null,null,null,null,null,null,null,null,null,null,null,null,null,null,null,null,null,null,null,null,null,{"$f":"INDEX(aRoundedScores,$B13,$B$2)","v":100},{"$f":"(AVERAGE(OFFSET(aRoundedScores,$B13-1,0,1,$B$1)))","v":{"$error":"#DIV/0!"}},{"$f":"(MAX(OFFSET(aRoundedScores,$B13-1,0,1,$B$1)))","v":0},{"$f":"(MIN(OFFSET(aRoundedScores,$B13-1,0,1,$B$1)))","v":0},null,{"$f":"INDEX(aRoundedScores,$B13,$B$2)","v":100},null,null,null,null,4,{"$f":"INDEX($AJ$6:$AM$6,1,AO13)","v":0},{"$f":"INDEX($AJ$9:$AM$9,1,$AO13)","v":0},{"$f":"INDEX($AJ$10:$AM$10,1,$AO13)","v":0},{"$f":"INDEX(#REF!,1,$AO13)","v":{"$error":"#REF!"}},{"$f":"INDEX($AJ$13:$AM$13,1,$AO13)","v":0}]
[null,null,null,null,null,null,null,null,null,null,null,null,null,null,null,null,null,null,null,{"$f":"100/3","v":33.333333333333336},{"$f":"2*T14","v":66.666666666666671}]
[null,null,null,null,null,null,null,null,null,null,null,null,null,null,null,null,{"$f":"uxb_works!A16","v":"INDI_OR_SUB_INDI"},{"$f":"uxb_works!B16","v":false},null,1,2,3,null,{"$f":"C2&\" Scores Higher Than \"&C3","v":"Australia Scores Higher Than Hong Kong"},{"$f":"C3&\" Scores Higher Than \"&C2","v":"Hong Kong Scores Higher Than Australia"},{"$f":"C2&\" and \"&C3&\" Score The Same\"","v":"Australia and Hong Kong Score The Same"}]
[null,null,null,null,null,null,"Rank","Rank equal",{"$f":"CONCATENATE(\"Rank / \",$B$1)","v":"Rank / 17"},"Score Country 1","Score Country 1",null,null,null,null,null,"Data","Band",null,0,0,0,null,null,null,null,null,null,null,null,null,null,{"$f":"AJ6","v":"Australia"},{"$f":"AK6","v":0},{"$f":"AL6","v":0},{"$f":"AM6","v":0}]
[{"$f":"tblIndicators!D2","v":"TOTAL"},{"$f":"tblIndicators!A2","v":1},{"$f":"IF(B17=\"\",0,INDEX(tblIndicators!$F$2:$F$20,$B17))","v":0},null,{"$f":"IF(B17=\"\",\"\",IF(C17>=2,TRIM(INDEX(tblIndicators!$AB$2:$AB$20,iCC_Overview!$B17)),UPPER(INDEX(tblIndicators!$AB$2:$AB$20,iCC_Overview!$B17))))","v":"OVERALL SCORE"},{"$f":"IF(B17=\"\",\"\",INDEX(tblIndicators!$M$2:$M$20,iCC_Overview!$B17))","v":"Index score/number"},{"$f":"IF(B17=\"\",\"\",RANK(J17,OFFSET(aRoundedScores,B17-1,0,1,$B$1)))","v":1},{"$f":"IF(B17=\"\",\"\",COUNTIF(OFFSET(aRoundedScores,B17-1,0,1,$B$1),J17))","v":1},{"$f":"IF(B17=\"\",\"\",IF(H17>1,CONCATENATE(\"=\",G17),G17))","v":1},{"$f":"IF(B17=\"\",\"\",INDEX(aRoundedScores,B17,$B$2))","v":85.2},{"$f":"IF(B17=\"\",\"\",INDEX(aRoundedScores,B17,$B$3))","v":81.400000000000006},null,0,0,{"$f":"IF(B17=\"\",\"\",REPT(\"|\",J17/3))","v":"||||||||||||||||||||||||||||"},null,{"$f":"IF(B17=\"\",\"\",IF(C17<2,\"\",IF(F17=\"%\",100*INDEX(aData,B17,$B$2),INDEX(aData,B17,$B$2))))","v":""},{"$f":"IF($B$4,IF(J17<K17,2,IF(J17=K17,3,1))*N17,IF(J17<K17,2,IF(J17=K17,3,1))*M17)","v":0},null,{"$f":"T16+MATCH(T$15,OFFSET($R$17:$R$35,T16,0),0)","v":{"$error":"#N/A"}},{"$error":"#N/A"},{"$error":"#N/A"},null,{"$f":"IF(ISNUMBER(T17),INDEX($E$17:$E$35,T17),\"\")","v":""},{"$f":"IF(ISNUMBER(U17),INDEX($E$17:$E$35,U17),\"\")","v":""},{"$f":"IF(ISNUMBER(V17),INDEX($E$17:$E$35,V17),\"\")","v":""},null,null,null,null,null,{"$f":"E17","v":"OVERALL SCORE"},{"$f":"INDEX(aRoundedScores,B17,$B$2)","v":85.2},{"$f":"INDEX(aRoundedScores,B17,$B$4)","v":{"$error":"#VALUE!"}},{"$f":"INDEX(aRoundedScores,B17,$B$5)","v":{"$error":"#VALUE!"}},{"$f":"INDEX(aRoundedScores,B17,$B$6)","v":{"$error":"#VALUE!"}},{"$f":"A17","v":"TOTAL"}]
[{"$f":"tblIndicators!D3","v":"IP"},{"$f":"tblIndicators!A3","v":2},{"$f":"IF(B18=\"\",0,INDEX(tblIndicators!$F$2:$F$20,$B18))","v":1},null,{"$f":"IF(B18=\"\",\"\",IF(C18>=2,TRIM(INDEX(tblIndicators!$AB$2:$AB$20,iCC_Overview!$B18)),UPPER(INDEX(tblIndicators!$AB$2:$AB$20,iCC_Overview!$B18))))","v":"1) INTELLECTUAL PROPERTY"},{"$f":"IF(B18=\"\",\"\",INDEX(tblIndicators!$M$2:$M$20,iCC_Overview!$B18))","v":"Index score/number"},{"$f":"IF(B18=\"\",\"\",RANK(J18,OFFSET(aRoundedScores,B18-1,0,1,$B$1)))","v":1},{"$f":"IF(B18=\"\",\"\",COUNTIF(OFFSET(aRoundedScores,B18-1,0,1,$B$1),J18))","v":2},{"$f":"IF(B18=\"\",\"\",IF(H18>1,CONCATENATE(\"=\",G18),G18))","v":"=1"},{"$f":"IF(B18=\"\",\"\",INDEX(aRoundedScores,B18,$B$2))","v":100},{"$f":"IF(B18=\"\",\"\",INDEX(aRoundedScores,B18,$B$3))","v":80},null,0,0,{"$f":"IF(B18=\"\",\"\",REPT(\"|\",J18/3))","v":"|||||||||||||||||||||||||||||||||"},null,{"$f":"IF(B18=\"\",\"\",IF(C18<2,\"\",IF(F18=\"%\",100*INDEX(aData,B18,$B$2),INDEX(aData,B18,$B$2))))","v":""},{"$f":"IF($B$4,IF(J18<K18,2,IF(J18=K18,3,1))*N18,IF(J18<K18,2,IF(J18=K18,3,1))*M18)","v":0},null,{"$error":"#N/A"},{"$error":"#N/A"},{"$error":"#N/A"},null,"","","",null,null,null,null,null,{"$f":"E18","v":"1) INTELLECTUAL PROPERTY"},{"$f":"INDEX(aRoundedScores,B18,$B$2)","v":100},{"$f":"INDEX(aRoundedScores,B18,$B$4)","v":{"$error":"#VALUE!"}},{"$f":"INDEX(aRoundedScores,B18,$B$5)","v":{"$error":"#VALUE!"}},{"$f":"INDEX(aRoundedScores,B18,$B$6)","v":{"$error":"#VALUE!"}},{"$f":"A18","v":"IP"}]
[{"$f":"tblIndicators!D4","v":"IP_11"},{"$f":"tblIndicators!A4","v":3},{"$f":"IF(B19=\"\",0,INDEX(tblIndicators!$F$2:$F$20,$B19))","v":2},null,{"$f":"IF(B19=\"\",\"\",IF(C19>=2,TRIM(INDEX(tblIndicators!$AB$2:$AB$20,iCC_Overview!$B19)),UPPER(INDEX(tblIndicators!$AB$2:$AB$20,iCC_Overview!$B19))))","v":"1.1) Protection of IP rights"},{"$f":"IF(B19=\"\",\"\",INDEX(tblIndicators!$M$2:$M$20,iCC_Overview!$B19))","v":1},1,3,"=1",100,75,null,0,0,"|||||||||||||||||||||||||||||||||",null,0,0,null,{"$error":"#N/A"},{"$error":"#N/A"},{"$error":"#N/A"},null,"","","",null,null,null,null,null,"1.1) Protection of IP rights",100,{"$error":"#VALUE!"},{"$error":"#VALUE!"},{"$error":"#VALUE!"},"IP_11"]
[{"$f":"tblIndicators!D5","v":"IP_13"},{"$f":"tblIndicators!A5","v":4},{"$f":"IF(B20=\"\",0,INDEX(tblIndicators!$F$2:$F$20,$B20))","v":2},null,{"$f":"IF(B20=\"\",\"\",IF(C20>=2,TRIM(INDEX(tblIndicators!$AB$2:$AB$20,iCC_Overview!$B20)),UPPER(INDEX(tblIndicators!$AB$2:$AB$20,iCC_Overview!$B20))))","v":"1.2) Customs recordal system"},{"$f":"IF(B20=\"\",\"\",INDEX(tblIndicators!$M$2:$M$20,iCC_Overview!$B20))","v":1},1,9,"=1",100,100,null,0,0,"|||||||||||||||||||||||||||||||||",null,1,0,null,{"$f":"#REF!+MATCH(T$15,OFFSET($R$17:$R$35,#REF!,0),0)","v":{"$error":"#REF!"}},{"$f":"#REF!+MATCH(U$15,OFFSET($R$17:$R$35,#REF!,0),0)","v":{"$error":"#REF!"}},{"$f":"#REF!+MATCH(V$15,OFFSET($R$17:$R$35,#REF!,0),0)","v":{"$error":"#REF!"}},null,"","","",null,null,null,null,null,"1.2) Customs recordal system",100,{"$error":"#VALUE!"},{"$error":"#VALUE!"},{"$error":"#VALUE!"},"IP_13"]
[{"$f":"tblIndicators!D6","v":"TT"},{"$f":"tblIndicators!A6","v":5},{"$f":"IF(B21=\"\",0,INDEX(tblIndicators!$F$2:$F$20,$B21))","v":1},null,{"$f":"IF(B21=\"\",\"\",IF(C21>=2,TRIM(INDEX(tblIndicators!$AB$2:$AB$20,iCC_Overview!$B21)),UPPER(INDEX(tblIndicators!$AB$2:$AB$20,iCC_Overview!$B21))))","v":"2) TRANSPARENCY AND TRADE"},{"$f":"IF(B21=\"\",\"\",INDEX(tblIndicators!$M$2:$M$20,iCC_Overview!$B21))","v":1},4,1,4,81.5,69.5,null,0,0,"|||||||||||||||||||||||||||",null,"",0,null,{"$f":"T20+MATCH(T$15,OFFSET($R$17:$R$35,T20,0),0)","v":{"$error":"#REF!"}},{"$f":"U20+MATCH(U$15,OFFSET($R$17:$R$35,U20,0),0)","v":{"$error":"#REF!"}},{"$f":"V20+MATCH(V$15,OFFSET($R$17:$R$35,V20,0),0)","v":{"$error":"#REF!"}},null,"","","",null,null,null,null,null,"2) TRANSPARENCY AND TRADE",81.5,{"$error":"#VALUE!"},{"$error":"#VALUE!"},{"$error":"#VALUE!"},"TT"]
[{"$f":"tblIndicators!D7","v":"TT_21"},{"$f":"tblIndicators!A7","v":6},{"$f":"IF(B22=\"\",0,INDEX(tblIndicators!$F$2:$F$20,$B22))","v":2},null,{"$f":"IF(B22=\"\",\"\",IF(C22>=2,TRIM(INDEX(tblIndicators!$AB$2:$AB$20,iCC_Overview!$B22)),UPPER(INDEX(tblIndicators!$AB$2:$AB$20,iCC_Overview!$B22))))","v":"2.1) Track and trace services"},{"$f":"IF(B22=\"\",\"\",INDEX(tblIndicators!$M$2:$M$20,iCC_Overview!$B22))","v":1},4,2,"=4",76,78,null,0,0,"|||||||||||||||||||||||||",null,3.8,0,null,{"$error":"#REF!"},{"$error":"#REF!"},{"$error":"#REF!"},null,"","","",null,null,null,null,null,"2.1) Track and trace services",76,{"$error":"#VALUE!"},{"$error":"#VALUE!"},{"$error":"#VALUE!"},"TT_21"]
[{"$f":"tblIndicators!D8","v":"TT_22"},{"$f":"tblIndicators!A8","v":7},{"$f":"IF(B23=\"\",0,INDEX(tblIndicators!$F$2:$F$20,$B23))","v":2},null,{"$f":"IF(B23=\"\",\"\",IF(C23>=2,TRIM(INDEX(tblIndicators!$AB$2:$AB$20,iCC_Overview!$B23)),UPPER(INDEX(tblIndicators!$AB$2:$AB$20,iCC_Overview!$B23))))","v":"2.2) Adoption of Annex D of Revised Kyoto Convention"},{"$f":"IF(B23=\"\",\"\",INDEX(tblIndicators!$M$2:$M$20,iCC_Overview!$B23))","v":1},1,12,"=1",100,0,null,0,0,"|||||||||||||||||||||||||||||||||",null,1,0,null,{"$error":"#REF!"},{"$error":"#REF!"},{"$error":"#REF!"},null,"","","",null,null,null,null,null,"2.2) Adoption of Annex D of Revised Kyoto Convention",100,{"$error":"#VALUE!"},{"$error":"#VALUE!"},{"$error":"#VALUE!"},"TT_22"]
[{"$f":"tblIndicators!D9","v":"TT_23"},{"$f":"tblIndicators!A9","v":8},{"$f":"IF(B24=\"\",0,INDEX(tblIndicators!$F$2:$F$20,$B24))","v":2},null,{"$f":"IF(B24=\"\",\"\",IF(C24>=2,TRIM(INDEX(tblIndicators!$AB$2:$AB$20,iCC_Overview!$B24)),UPPER(INDEX(tblIndicators!$AB$2:$AB$20,iCC_Overview!$B24))))","v":"2.3) Government cooperation"},{"$f":"IF(B24=\"\",\"\",INDEX(tblIndicators!$M$2:$M$20,iCC_Overview!$B24))","v":1},1,9,"=1",100,100,null,0,0,"|||||||||||||||||||||||||||||||||",null,2,0,null,{"$error":"#REF!"},{"$error":"#REF!"},{"$error":"#REF!"},null,"","","",null,null,null,null,null,"2.3) Government cooperation",100,{"$error":"#VALUE!"},{"$error":"#VALUE!"},{"$error":"#VALUE!"},"TT_23"]
[{"$f":"tblIndicators!D10","v":"TT_24"},{"$f":"tblIndicators!A10","v":9},{"$f":"IF(B25=\"\",0,INDEX(tblIndicators!$F$2:$F$20,$B25))","v":2},null,{"$f":"IF(B25=\"\",\"\",IF(C25>=2,TRIM(INDEX(tblIndicators!$AB$2:$AB$20,iCC_Overview!$B25)),UPPER(INDEX(tblIndicators!$AB$2:$AB$20,iCC_Overview!$B25))))","v":"2.4) FTZ governance"},{"$f":"IF(B25=\"\",\"\",INDEX(tblIndicators!$M$2:$M$20,iCC_Overview!$B25))","v":1},8,4,"=8",50,100,null,0,0,"||||||||||||||||",null,2,0,null,{"$error":"#REF!"},{"$error":"#REF!"},{"$error":"#REF!"},null,"","","",null,null,null,null,null,"2.4) FTZ governance",50,{"$error":"#VALUE!"},{"$error":"#VALUE!"},{"$error":"#VALUE!"},"TT_24"]
[{"$f":"tblIndicators!D11","v":"CE"},{"$f":"tblIndicators!A11","v":10},{"$f":"IF(B26=\"\",0,INDEX(tblIndicators!$F$2:$F$20,$B26))","v":1},null,{"$f":"IF(B26=\"\",\"\",IF(C26>=2,TRIM(INDEX(tblIndicators!$AB$2:$AB$20,iCC_Overview!$B26)),UPPER(INDEX(tblIndicators!$AB$2:$AB$20,iCC_Overview!$B26))))","v":"3) CUSTOMS ENVIRONMENT"},{"$f":"IF(B26=\"\",\"\",INDEX(tblIndicators!$M$2:$M$20,iCC_Overview!$B26))","v":1},2,1,2,88,83.5,null,0,0,"|||||||||||||||||||||||||||||",null,"",0,null,{"$error":"#REF!"},{"$error":"#REF!"},{"$error":"#REF!"},null,"","","",null,null,null,null,null,"3) CUSTOMS ENVIRONMENT",88,{"$error":"#VALUE!"},{"$error":"#VALUE!"},{"$error":"#VALUE!"},"CE"]
[{"$f":"tblIndicators!D12","v":"CE_31"},{"$f":"tblIndicators!A12","v":11},{"$f":"IF(B27=\"\",0,INDEX(tblIndicators!$F$2:$F$20,$B27))","v":2},null,{"$f":"IF(B27=\"\",\"\",IF(C27>=2,TRIM(INDEX(tblIndicators!$AB$2:$AB$20,iCC_Overview!$B27)),UPPER(INDEX(tblIndicators!$AB$2:$AB$20,iCC_Overview!$B27))))","v":"3.1) Percentage of shipments physically inspected"},{"$f":"IF(B27=\"\",\"\",INDEX(tblIndicators!$M$2:$M$20,iCC_Overview!$B27))","v":1},10,3,"=10",3.8,1.9,null,0,0,"|",null,2,0,null,{"$error":"#REF!"},{"$error":"#REF!"},{"$error":"#REF!"},null,"","","",null,null,null,null,null,"3.1) Percentage of shipments physically inspected",3.8,{"$error":"#VALUE!"},{"$error":"#VALUE!"},{"$error":"#VALUE!"},"CE_31"]
[{"$f":"tblIndicators!D13","v":"CE_32"},{"$f":"tblIndicators!A13","v":12},{"$f":"IF(B28=\"\",0,INDEX(tblIndicators!$F$2:$F$20,$B28))","v":2},null,{"$f":"IF(B28=\"\",\"\",IF(C28>=2,TRIM(INDEX(tblIndicators!$AB$2:$AB$20,iCC_Overview!$B28)),UPPER(INDEX(tblIndicators!$AB$2:$AB$20,iCC_Overview!$B28))))","v":"3.2) Customs clearance and inspection"},{"$f":"IF(B28=\"\",\"\",INDEX(tblIndicators!$M$2:$M$20,iCC_Overview!$B28))","v":1},1,7,"=1",100,100,null,0,0,"|||||||||||||||||||||||||||||||||",null,1,0,null,{"$error":"#REF!"},{"$error":"#REF!"},{"$error":"#REF!"},null,"","","",null,null,null,null,null,"3.2) Customs clearance and inspection",100,{"$error":"#VALUE!"},{"$error":"#VALUE!"},{"$error":"#VALUE!"},"CE_32"]
[{"$f":"tblIndicators!D14","v":"CE_33"},{"$f":"tblIndicators!A14","v":13},{"$f":"IF(B29=\"\",0,INDEX(tblIndicators!$F$2:$F$20,$B29))","v":2},null,{"$f":"IF(B29=\"\",\"\",IF(C29>=2,TRIM(INDEX(tblIndicators!$AB$2:$AB$20,iCC_Overview!$B29)),UPPER(INDEX(tblIndicators!$AB$2:$AB$20,iCC_Overview!$B29))))","v":"3.3) Automation"},{"$f":"IF(B29=\"\",\"\",INDEX(tblIndicators!$M$2:$M$20,iCC_Overview!$B29))","v":1},7,2,"=7",94.2,100,null,0,0,"|||||||||||||||||||||||||||||||",null,1.71,0,null,{"$error":"#REF!"},{"$error":"#REF!"},{"$error":"#REF!"},null,"","","",null,null,null,null,null,"3.3) Automation",94.2,{"$error":"#VALUE!"},{"$error":"#VALUE!"},{"$error":"#VALUE!"},"CE_33"]
[{"$f":"tblIndicators!D15","v":"CE_34"},{"$f":"tblIndicators!A15","v":14},{"$f":"IF(B30=\"\",0,INDEX(tblIndicators!$F$2:$F$20,$B30))","v":2},null,{"$f":"IF(B30=\"\",\"\",IF(C30>=2,TRIM(INDEX(tblIndicators!$AB$2:$AB$20,iCC_Overview!$B30)),UPPER(INDEX(tblIndicators!$AB$2:$AB$20,iCC_Overview!$B30))))","v":"3.4) Corruption"},{"$f":"IF(B30=\"\",\"\",INDEX(tblIndicators!$M$2:$M$20,iCC_Overview!$B30))","v":1},1,3,"=1",100,75,null,0,0,"|||||||||||||||||||||||||||||||||",null,0,0,null,{"$error":"#REF!"},{"$error":"#REF!"},{"$error":"#REF!"},null,"","","",null,null,null,null,null,"3.4) Corruption",100,{"$error":"#VALUE!"},{"$error":"#VALUE!"},{"$error":"#VALUE!"},"CE_34"]
[{"$f":"tblIndicators!D16","v":"CE_35"},{"$f":"tblIndicators!A16","v":15},{"$f":"IF(B31=\"\",0,INDEX(tblIndicators!$F$2:$F$20,$B31))","v":2},null,{"$f":"IF(B31=\"\",\"\",IF(C31>=2,TRIM(INDEX(tblIndicators!$AB$2:$AB$20,iCC_Overview!$B31)),UPPER(INDEX(tblIndicators!$AB$2:$AB$20,iCC_Overview!$B31))))","v":"3.5) Accredited Economic Operator programme"},{"$f":"IF(B31=\"\",\"\",INDEX(tblIndicators!$M$2:$M$20,iCC_Overview!$B31))","v":1},1,11,"=1",100,100,null,0,0,"|||||||||||||||||||||||||||||||||",null,3,0,null,{"$error":"#REF!"},{"$error":"#REF!"},{"$error":"#REF!"},null,"","","",null,null,null,null,null,"3.5) Accredited Economic Operator programme",100,{"$error":"#VALUE!"},{"$error":"#VALUE!"},{"$error":"#VALUE!"},"CE_35"]
[{"$f":"tblIndicators!D17","v":"SD"},{"$f":"tblIndicators!A17","v":16},{"$f":"IF(B32=\"\",0,INDEX(tblIndicators!$F$2:$F$20,$B32))","v":1},null,{"$f":"IF(B32=\"\",\"\",IF(C32>=2,TRIM(INDEX(tblIndicators!$AB$2:$AB$20,iCC_Overview!$B32)),UPPER(INDEX(tblIndicators!$AB$2:$AB$20,iCC_Overview!$B32))))","v":"4) SUPPLY AND DEMAND"},{"$f":"IF(B32=\"\",\"\",INDEX(tblIndicators!$M$2:$M$20,iCC_Overview!$B32))","v":1},5,1,5,71.3,92.6,null,0,0,"|||||||||||||||||||||||",null,"",0,null,{"$error":"#REF!"},{"$error":"#REF!"},{"$error":"#REF!"},null,"","","",null,null,null,null,null,"4) SUPPLY AND DEMAND",71.3,{"$error":"#VALUE!"},{"$error":"#VALUE!"},{"$error":"#VALUE!"},"SD"]
[{"$f":"tblIndicators!D18","v":"SD_41"},{"$f":"tblIndicators!A18","v":17},{"$f":"IF(B33=\"\",0,INDEX(tblIndicators!$F$2:$F$20,$B33))","v":2},null,{"$f":"IF(B33=\"\",\"\",IF(C33>=2,TRIM(INDEX(tblIndicators!$AB$2:$AB$20,iCC_Overview!$B33)),UPPER(INDEX(tblIndicators!$AB$2:$AB$20,iCC_Overview!$B33))))","v":"4.1) Tax and social security burdens"},{"$f":"IF(B33=\"\",\"\",INDEX(tblIndicators!$M$2:$M$20,iCC_Overview!$B33))","v":1},3,5,"=3",75,100,null,0,0,"|||||||||||||||||||||||||",null,4,0,null,{"$error":"#REF!"},{"$error":"#REF!"},{"$error":"#REF!"},null,"","","",null,null,null,null,null,"4.1) Tax and social security burdens",75,{"$error":"#VALUE!"},{"$error":"#VALUE!"},{"$error":"#VALUE!"},"SD_41"]
[{"$f":"tblIndicators!D19","v":"SD_42"},{"$f":"tblIndicators!A19","v":18},{"$f":"IF(B34=\"\",0,INDEX(tblIndicators!$F$2:$F$20,$B34))","v":2},null,{"$f":"IF(B34=\"\",\"\",IF(C34>=2,TRIM(INDEX(tblIndicators!$AB$2:$AB$20,iCC_Overview!$B34)),UPPER(INDEX(tblIndicators!$AB$2:$AB$20,iCC_Overview!$B34))))","v":"4.2) Quality of state institutions"},{"$f":"IF(B34=\"\",\"\",INDEX(tblIndicators!$M$2:$M$20,iCC_Overview!$B34))","v":1},3,1,3,88.9,77.8,null,0,0,"|||||||||||||||||||||||||||||",null,9,0,null,{"$error":"#REF!"},{"$error":"#REF!"},{"$error":"#REF!"},null,"","","",null,null,null,null,null,"4.2) Quality of state institutions",88.9,{"$error":"#VALUE!"},{"$error":"#VALUE!"},{"$error":"#VALUE!"},"SD_42"]
[{"$f":"tblIndicators!D20","v":"SD_43"},{"$f":"tblIndicators!A20","v":19},{"$f":"IF(B35=\"\",0,INDEX(tblIndicators!$F$2:$F$20,$B35))","v":2},null,{"$f":"IF(B35=\"\",\"\",IF(C35>=2,TRIM(INDEX(tblIndicators!$AB$2:$AB$20,iCC_Overview!$B35)),UPPER(INDEX(tblIndicators!$AB$2:$AB$20,iCC_Overview!$B35))))","v":"4.3) Labour market regulations"},{"$f":"IF(B35=\"\",\"\",INDEX(tblIndicators!$M$2:$M$20,iCC_Overview!$B35))","v":1},7,8,"=7",50,100,null,0,0,"||||||||||||||||",null,3,0,null,{"$error":"#REF!"},{"$error":"#REF!"},{"$error":"#REF!"},null,"","","",null,null,null,null,null,"4.3) Labour market regulations",50,{"$error":"#VALUE!"},{"$error":"#VALUE!"},{"$error":"#VALUE!"},"SD_43"]

{"sheet":"iCountryCompSpider","index":25,"n_rows":43,"n_cols":34,"rows_kept":43,"cut":false,"hidden":true,"merged":[]}
["Overall Score",null,null,"Score","Rank"]
[{"$f":"uxb_works!A19","v":"CITY1_ID"},{"$f":"uxb_works!B19","v":1},{"$f":"CONCATENATE(\"Description: \",uxb_works!C19)","v":"Description: Australia"},{"$f":"E6","v":85.203537454070016},{"$f":"INDEX(iIndiRank!$H$6:$H$22,$B$2)","v":1},{"$f":"IF(E2<E3,\"*\",\"\")","v":"*"},null,{"$f":"uxb_works!C19","v":"Australia"}]
[{"$f":"uxb_works!A20","v":"CITY2_ID"},{"$f":"uxb_works!B20","v":4},{"$f":"CONCATENATE(\"Description: \",uxb_works!C20)","v":"Description: Hong Kong"},{"$f":"G6","v":81.408892382948977},{"$f":"INDEX(iIndiRank!$H$6:$H$22,$B$3)","v":3},{"$f":"IF(E3<E2,\"*\",\"\")","v":""},null,{"$f":"uxb_works!C20","v":"Hong Kong"}]
[]
[null,null,null,null,"Score","rank","Score","Rank",null,null,null,null,null,null,null,null,null,null,null,null,"Total"]
[null,null,null,null,{"$f":"INDEX(aScores,1,$B$2)","v":85.203537454070016},{"$f":"INDEX(aRank,1,$B$2)","v":"1"},{"$f":"INDEX(aScores,1,$B$3)","v":81.408892382948977},{"$f":"INDEX(aRank,1,$B$3)","v":"3"},null,null,null,null,null,1]
[null,null,null,null,"Country 1",null,"Country 2",null,null,null,null,null,null,{"$f":"INDEX(tblIndiSets!$B$5:$B$11,N6)","v":1},null,null,null,null,null,null,1,1,2,3,4,5,null,null,null,null,null,1]
[null,null,"ActiveStatus",null,"Score","Data","Score","Data","Average",null,null,null,null,"Score","Rank","LU","Rank",null,null,null,"Name","Score","Data","Score","Data","Average","Rank`",null,"units","Star","Star",2,null,"units"]
[{"$f":"tblCategories!A3","v":1},{"$f":"tblCategories!D3","v":"1) INTELLECTUAL PROPERTY"},{"$f":"tblCategories!U3","v":1},1,{"$f":"INDEX(aScores,$A9+1,$B$2)","v":100},{"$f":"IF(INDEX(aData,$A9+1,$B$2)=\"\",\"\",INDEX(aData,$A9+1,$B$2))","v":""},{"$f":"INDEX(aScores,$A9+1,$B$3)","v":80},{"$f":"IF(INDEX(aData,$A9+1,$B$3)=\"\",\"\",INDEX(aData,$A9+1,$B$3))","v":""},{"$f":"rScores!T3","v":51.764705882352942},null,null,null,null,{"$f":"IF($C9=0,\"\",(INDEX($D$9:$H$26,$A9,N$7)))","v":1},{"$f":"IF($C9=0,\"\",RANK(N9,N$9:N$26,1)+COUNTIF(N$9:N9,N9)-1)","v":1},{"$f":"IF(ISERROR(MATCH($A9,O$9:O$26,0)),\"\",MATCH($A9,O$9:O$26,0))","v":1},{"$f":"IF(P9=\"\",\"\",RANK(V9,V$9:V$26,0))","v":1},{"$f":"IF(P9=\"\",\"\",COUNTIF(V$9:V$26,V9))","v":1},{"$f":"IF(P9=\"\",0,INDEX($D$9:$D$26,P9))","v":1},{"$f":"IF(P9=\"\",\"\",IF(R9>1,CONCATENATE(\"=\",Q9),Q9))","v":1},{"$f":"IF($P9=\"\",\"\",INDEX($B$9:$H$26,$P9,U$7))","v":"1) INTELLECTUAL PROPERTY"},{"$f":"IF($P9=\"\",\"\",INDEX($E$9:$L$26,$P9,V$7))","v":100},"",{"$f":"IF($P9=\"\",\"\",INDEX($E$9:$H$26,$P9,X$7))","v":80},{"$f":"IF($P9=\"\",\"\",INDEX($E$9:$L$26,$P9,Y$7))","v":""},51.764705882352942,{"$f":"IF(Q9=\"\",\"\",IF(ISERROR(INDEX(aRank,$P9+1,uxb_works!$B$20)),\"\",INDEX(aRank,$P9+1,uxb_works!$B$20)))","v":"=3"},null,{"$f":"IF(P9=\"\",\"\",INDEX(tblIndicators!$H$3:$H$78,iCountryCompSpider!P9))","v":"Intellectual property"},{"$f":"IF(Z9<AA9,\"*\",\"\")","v":"*"},{"$f":"IF(AA9<Z9,\"*\",\"\")","v":""},3,null,{"$f":"IF(P9=\"\",\"\",INDEX(tblIndicators!$S$3:$S$20,iCountryCompSpider!P9))","v":"#0.0"}]
[{"$f":"tblCategories!A4","v":2},{"$f":"tblCategories!D4","v":"1.1)   Protection of IP rights"},{"$f":"tblCategories!U4","v":0},1,100,0,75,1,{"$f":"rScores!T4","v":51.470588235294116},null,null,null,null,"",{"$f":"IF($C10=0,\"\",RANK(N10,N$9:N$26,1)+COUNTIF(N$9:N10,N10)-1)","v":""},4,3,1,1,{"$f":"IF(P10=\"\",\"\",IF(R10>1,CONCATENATE(\"=\",Q10),Q10))","v":3},"2) TRANSPARENCY AND TRADE",81.5,"",69.5,"",60.370588235294115,{"$f":"IF(Q10=\"\",\"\",IF(ISERROR(INDEX(aRank,$P10+1,uxb_works!$B$20)),\"\",INDEX(aRank,$P10+1,uxb_works!$B$20)))","v":"9"},null,{"$f":"IF(P10=\"\",\"\",INDEX(tblIndicators!$H$3:$H$78,iCountryCompSpider!P10))","v":"Transparency and trade"},{"$f":"IF(Z10<AA10,\"*\",\"\")","v":"*"},{"$f":"IF(AA10<Z10,\"*\",\"\")","v":""},3,null,{"$f":"IF(P10=\"\",\"\",INDEX(tblIndicators!$S$3:$S$20,iCountryCompSpider!P10))","v":"#0.0"}]
[{"$f":"tblCategories!A5","v":3},{"$f":"tblCategories!D5","v":"1.2)   Customs recordal system"},{"$f":"tblCategories!U5","v":0},1,100,1,100,1,{"$f":"rScores!T5","v":52.941176470588232},null,null,null,null,"",{"$f":"IF($C11=0,\"\",RANK(N11,N$9:N$26,1)+COUNTIF(N$9:N11,N11)-1)","v":""},9,2,1,1,{"$f":"IF(P11=\"\",\"\",IF(R11>1,CONCATENATE(\"=\",Q11),Q11))","v":2},"3) CUSTOMS ENVIRONMENT",88.01785351998376,"",83.542976939203356,"",59.199999999999989,{"$f":"IF(Q11=\"\",\"\",IF(ISERROR(INDEX(aRank,$P11+1,uxb_works!$B$20)),\"\",INDEX(aRank,$P11+1,uxb_works!$B$20)))","v":"4"},null,{"$f":"IF(P11=\"\",\"\",INDEX(tblIndicators!$H$3:$H$78,iCountryCompSpider!P11))","v":"Customs environment"},{"$f":"IF(Z11<AA11,\"*\",\"\")","v":"*"},{"$f":"IF(AA11<Z11,\"*\",\"\")","v":""},3,null,{"$f":"IF(P11=\"\",\"\",INDEX(tblIndicators!$S$3:$S$20,iCountryCompSpider!P11))","v":"#0.0"}]
[{"$f":"tblCategories!A6","v":4},{"$f":"tblCategories!D6","v":"2) TRANSPARENCY AND TRADE"},{"$f":"tblCategories!U6","v":1},1,81.5,"",69.5,"",{"$f":"rScores!T6","v":60.370588235294115},null,null,null,null,1,{"$f":"IF($C12=0,\"\",RANK(N12,N$9:N$26,1)+COUNTIF(N$9:N12,N12)-1)","v":2},15,4,1,1,4,"4) SUPPLY AND DEMAND",71.296296296296291,"",92.592592592592581,"",56.858823529411758,{"$f":"IF(Q12=\"\",\"\",IF(ISERROR(INDEX(aRank,$P12+1,uxb_works!$B$20)),\"\",INDEX(aRank,$P12+1,uxb_works!$B$20)))","v":"1"},null,{"$f":"IF(P12=\"\",\"\",INDEX(tblIndicators!$H$3:$H$78,iCountryCompSpider!P12))","v":"Supply and demand"},"*","",3,null,{"$f":"IF(P12=\"\",\"\",INDEX(tblIndicators!$S$3:$S$20,iCountryCompSpider!P12))","v":"#0.0"}]
[{"$f":"tblCategories!A7","v":5},{"$f":"tblCategories!D7","v":"2.1)   Track and trace services"},{"$f":"tblCategories!U7","v":0},1,76,3.8,78,3.9,{"$f":"rScores!T7","v":63.482352941176472},null,null,null,null,"",{"$f":"IF($C13=0,\"\",RANK(N13,N$9:N$26,1)+COUNTIF(N$9:N13,N13)-1)","v":""},"","","",0,"","","","","","","",{"$f":"IF(Q13=\"\",\"\",IF(ISERROR(INDEX(aRank,$P13+1,uxb_works!$B$20)),\"\",INDEX(aRank,$P13+1,uxb_works!$B$20)))","v":""},null,{"$f":"IF(P13=\"\",\"\",INDEX(tblIndicators!$H$3:$H$78,iCountryCompSpider!P13))","v":""},"","",3,null,{"$f":"IF(P13=\"\",\"\",INDEX(tblIndicators!$S$3:$S$20,iCountryCompSpider!P13))","v":""}]
[{"$f":"tblCategories!A8","v":6},{"$f":"tblCategories!D8","v":"2.2)   Adoption of Annex D of Revised Kyoto Convention  "},{"$f":"tblCategories!U8","v":0},1,100,1,0,0,{"$f":"rScores!T8","v":70.588235294117652},null,null,null,null,"",{"$f":"IF($C14=0,\"\",RANK(N14,N$9:N$26,1)+COUNTIF(N$9:N14,N14)-1)","v":""},"","","",0,"","","","","","","",{"$f":"IF(Q14=\"\",\"\",IF(ISERROR(INDEX(aRank,$P14+1,uxb_works!$B$20)),\"\",INDEX(aRank,$P14+1,uxb_works!$B$20)))","v":""},null,{"$f":"IF(P14=\"\",\"\",INDEX(tblIndicators!$H$3:$H$78,iCountryCompSpider!P14))","v":""},"","",3,null,{"$f":"IF(P14=\"\",\"\",INDEX(tblIndicators!$S$3:$S$20,iCountryCompSpider!P14))","v":""}]
[{"$f":"tblCategories!A9","v":7},{"$f":"tblCategories!D9","v":"2.3)   Government cooperation"},{"$f":"tblCategories!U9","v":0},1,100,2,100,2,{"$f":"rScores!T9","v":52.941176470588232},null,null,null,null,"",{"$f":"IF($C15=0,\"\",RANK(N15,N$9:N$26,1)+COUNTIF(N$9:N15,N15)-1)","v":""},"","","",0,"","","","","","","",{"$f":"IF(Q15=\"\",\"\",IF(ISERROR(INDEX(aRank,$P15+1,uxb_works!$B$20)),\"\",INDEX(aRank,$P15+1,uxb_works!$B$20)))","v":""},null,{"$f":"IF(P15=\"\",\"\",INDEX(tblIndicators!$H$3:$H$78,iCountryCompSpider!P15))","v":""},"","",3,null,{"$f":"IF(P15=\"\",\"\",INDEX(tblIndicators!$S$3:$S$20,iCountryCompSpider!P15))","v":""}]
[{"$f":"tblCategories!A10","v":8},{"$f":"tblCategories!D10","v":"2.4)   FTZ governance "},{"$f":"tblCategories!U10","v":0},1,50,2,100,4,{"$f":"rScores!T10","v":54.411764705882355},null,null,null,null,"",{"$f":"IF($C16=0,\"\",RANK(N16,N$9:N$26,1)+COUNTIF(N$9:N16,N16)-1)","v":""},"","","",0,"","","","","","","",{"$f":"IF(Q16=\"\",\"\",IF(ISERROR(INDEX(aRank,$P16+1,uxb_works!$B$20)),\"\",INDEX(aRank,$P16+1,uxb_works!$B$20)))","v":""},null,{"$f":"IF(P16=\"\",\"\",INDEX(tblIndicators!$H$3:$H$78,iCountryCompSpider!P16))","v":""},"","",3,null,{"$f":"IF(P16=\"\",\"\",INDEX(tblIndicators!$S$3:$S$20,iCountryCompSpider!P16))","v":""}]
[{"$f":"tblCategories!A11","v":9},{"$f":"tblCategories!D11","v":"3) CUSTOMS ENVIRONMENT"},{"$f":"tblCategories!U11","v":1},1,88.01785351998376,"",83.542976939203356,"",{"$f":"rScores!T11","v":59.199999999999989},null,null,null,null,1,{"$f":"IF($C17=0,\"\",RANK(N17,N$9:N$26,1)+COUNTIF(N$9:N17,N17)-1)","v":3},"","","",0,"","","","","","","",{"$f":"IF(Q17=\"\",\"\",IF(ISERROR(INDEX(aRank,$P17+1,uxb_works!$B$20)),\"\",INDEX(aRank,$P17+1,uxb_works!$B$20)))","v":""},null,{"$f":"IF(P17=\"\",\"\",INDEX(tblIndicators!$H$3:$H$78,iCountryCompSpider!P17))","v":""},"","",3,null,{"$f":"IF(P17=\"\",\"\",INDEX(tblIndicators!$S$3:$S$20,iCountryCompSpider!P17))","v":""}]
[{"$f":"tblCategories!A12","v":10},{"$f":"tblCategories!D12","v":"3.1) Percentage of shipments physically inspected"},{"$f":"tblCategories!U12","v":0},1,3.7735849056603774,2,1.8867924528301887,1,{"$f":"rScores!T12","v":15.217647058823532},null,null,null,null,"",{"$f":"IF($C18=0,\"\",RANK(N18,N$9:N$26,1)+COUNTIF(N$9:N18,N18)-1)","v":""},"","","",0,"","","","","","","",{"$f":"IF(Q18=\"\",\"\",IF(ISERROR(INDEX(aRank,$P18+1,uxb_works!$B$20)),\"\",INDEX(aRank,$P18+1,uxb_works!$B$20)))","v":""},null,{"$f":"IF(P18=\"\",\"\",INDEX(tblIndicators!$H$3:$H$78,iCountryCompSpider!P18))","v":""},"","",3,null,{"$f":"IF(P18=\"\",\"\",INDEX(tblIndicators!$S$3:$S$20,iCountryCompSpider!P18))","v":""}]
[{"$f":"tblCategories!A13","v":11},{"$f":"tblCategories!D13","v":"3.2)   Customs clearance and inspection"},{"$f":"tblCategories!U13","v":0},1,100,1,100,1,{"$f":"rScores!T13","v":74.505882352941171},null,null,null,null,"",{"$f":"IF($C19=0,\"\",RANK(N19,N$9:N$26,1)+COUNTIF(N$9:N19,N19)-1)","v":""},"","","",0,"","","","","","","",{"$f":"IF(Q19=\"\",\"\",IF(ISERROR(INDEX(aRank,$P19+1,uxb_works!$B$20)),\"\",INDEX(aRank,$P19+1,uxb_works!$B$20)))","v":""},null,{"$f":"IF(P19=\"\",\"\",INDEX(tblIndicators!$H$3:$H$78,iCountryCompSpider!P19))","v":""},"","",3,null,{"$f":"IF(P19=\"\",\"\",INDEX(tblIndicators!$S$3:$S$20,iCountryCompSpider!P19))","v":""}]
[{"$f":"tblCategories!A14","v":12},{"$f":"tblCategories!D14","v":"3.3)   Automation"},{"$f":"tblCategories!U14","v":0},1,94.193548387096769,1.71,100,1.8,{"$f":"rScores!T14","v":71.088235294117652},null,null,null,null,"",{"$f":"IF($C20=0,\"\",RANK(N20,N$9:N$26,1)+COUNTIF(N$9:N20,N20)-1)","v":""},"","","",0,"","","","","","","",{"$f":"IF(Q20=\"\",\"\",IF(ISERROR(INDEX(aRank,$P20+1,uxb_works!$B$20)),\"\",INDEX(aRank,$P20+1,uxb_works!$B$20)))","v":""},null,{"$f":"IF(P20=\"\",\"\",INDEX(tblIndicators!$H$3:$H$78,iCountryCompSpider!P20))","v":""},"","",3,null,{"$f":"IF(P20=\"\",\"\",INDEX(tblIndicators!$S$3:$S$20,iCountryCompSpider!P20))","v":""}]
[{"$f":"tblCategories!A15","v":13},{"$f":"tblCategories!D15","v":"3.4)   Corruption"},{"$f":"tblCategories!U15","v":0},1,100,0,75,1,{"$f":"rScores!T15","v":42.647058823529413},null,null,null,null,"",{"$f":"IF($C21=0,\"\",RANK(N21,N$9:N$26,1)+COUNTIF(N$9:N21,N21)-1)","v":""},"","","",0,"","","","","","","",{"$f":"IF(Q21=\"\",\"\",IF(ISERROR(INDEX(aRank,$P21+1,uxb_works!$B$20)),\"\",INDEX(aRank,$P21+1,uxb_works!$B$20)))","v":""},null,{"$f":"IF(P21=\"\",\"\",INDEX(tblIndicators!$H$3:$H$78,iCountryCompSpider!P21))","v":""},"","",3,null,{"$f":"IF(P21=\"\",\"\",INDEX(tblIndicators!$S$3:$S$20,iCountryCompSpider!P21))","v":""}]
[{"$f":"tblCategories!A16","v":14},{"$f":"tblCategories!D16","v":"3.5) Accredited Economic Operator programme"},{"$f":"tblCategories!U16","v":0},1,100,3,100,3,{"$f":"rScores!T16","v":70.588235294117652},null,null,null,null,"",{"$f":"IF($C22=0,\"\",RANK(N22,N$9:N$26,1)+COUNTIF(N$9:N22,N22)-1)","v":""},"","","",0,"","","","","","","",{"$f":"IF(Q22=\"\",\"\",IF(ISERROR(INDEX(aRank,$P22+1,uxb_works!$B$20)),\"\",INDEX(aRank,$P22+1,uxb_works!$B$20)))","v":""},null,{"$f":"IF(P22=\"\",\"\",INDEX(tblIndicators!$H$3:$H$78,iCountryCompSpider!P22))","v":""},"","",3,null,{"$f":"IF(P22=\"\",\"\",INDEX(tblIndicators!$S$3:$S$20,iCountryCompSpider!P22))","v":""}]
[{"$f":"tblCategories!A17","v":15},{"$f":"tblCategories!D17","v":"4) SUPPLY AND DEMAND"},{"$f":"tblCategories!U17","v":1},1,71.296296296296291,"",92.592592592592581,"",{"$f":"rScores!T17","v":56.858823529411758},null,null,null,null,1,{"$f":"IF($C23=0,\"\",RANK(N23,N$9:N$26,1)+COUNTIF(N$9:N23,N23)-1)","v":4},"","","",0,"","","","","","","",{"$f":"IF(Q23=\"\",\"\",IF(ISERROR(INDEX(aRank,$P23+1,uxb_works!$B$20)),\"\",INDEX(aRank,$P23+1,uxb_works!$B$20)))","v":""},null,{"$f":"IF(P23=\"\",\"\",INDEX(tblIndicators!$H$3:$H$78,iCountryCompSpider!P23))","v":""},"","",3,null,{"$f":"IF(P23=\"\",\"\",INDEX(tblIndicators!$S$3:$S$20,iCountryCompSpider!P23))","v":""}]
[{"$f":"tblCategories!A18","v":16},{"$f":"tblCategories!D18","v":"4.1)   Tax and social security burdens"},{"$f":"tblCategories!U18","v":0},1,75,4,100,5,{"$f":"rScores!T18","v":61.764705882352942},null,null,null,null,"",{"$f":"IF($C24=0,\"\",RANK(N24,N$9:N$26,1)+COUNTIF(N$9:N24,N24)-1)","v":""},"","","",0,"","","","","","","",{"$f":"IF(Q24=\"\",\"\",IF(ISERROR(INDEX(aRank,$P24+1,uxb_works!$B$20)),\"\",INDEX(aRank,$P24+1,uxb_works!$B$20)))","v":""},null,{"$f":"IF(P24=\"\",\"\",INDEX(tblIndicators!$H$3:$H$78,iCountryCompSpider!P24))","v":""},"","",3,null,{"$f":"IF(P24=\"\",\"\",INDEX(tblIndicators!$S$3:$S$20,iCountryCompSpider!P24))","v":""}]
[{"$f":"tblCategories!A19","v":17},{"$f":"tblCategories!D19","v":"4.2)   Quality of state institutions"},{"$f":"tblCategories!U19","v":0},1,88.888888888888886,9,77.777777777777786,8,{"$f":"rScores!T19","v":52.935294117647061},null,null,null,null,"",{"$f":"IF($C25=0,\"\",RANK(N25,N$9:N$26,1)+COUNTIF(N$9:N25,N25)-1)","v":""},"","","",0,"","","","","","","",{"$f":"IF(Q25=\"\",\"\",IF(ISERROR(INDEX(aRank,$P25+1,uxb_works!$B$20)),\"\",INDEX(aRank,$P25+1,uxb_works!$B$20)))","v":""},null,{"$f":"IF(P25=\"\",\"\",INDEX(tblIndicators!$H$3:$H$78,iCountryCompSpider!P25))","v":""},"","",3,null,{"$f":"IF(P25=\"\",\"\",INDEX(tblIndicators!$S$3:$S$20,iCountryCompSpider!P25))","v":""}]
[{"$f":"tblCategories!A20","v":18},{"$f":"tblCategories!D20","v":"4.3)   Labour market regulations"},{"$f":"tblCategories!U20","v":0},1,50,3,100,5,{"$f":"rScores!T20","v":55.882352941176471},null,null,null,null,"",{"$f":"IF($C26=0,\"\",RANK(N26,N$9:N$26,1)+COUNTIF(N$9:N26,N26)-1)","v":""},"","","",0,"","","","","","","",{"$f":"IF(Q26=\"\",\"\",IF(ISERROR(INDEX(aRank,$P26+1,uxb_works!$B$20)),\"\",INDEX(aRank,$P26+1,uxb_works!$B$20)))","v":""},null,{"$f":"IF(P26=\"\",\"\",INDEX(tblIndicators!$H$3:$H$78,iCountryCompSpider!P26))","v":""},"","",3,null,{"$f":"IF(P26=\"\",\"\",INDEX(tblIndicators!$S$3:$S$20,iCountryCompSpider!P26))","v":""}]
[]
[]
[]
[]
[]
[]
[]
[]
[null,null,null,null,{"$f":"H2","v":"Australia"},{"$f":"H3","v":"Hong Kong"},{"$f":"rScores!T1","v":"Average: All Incomes"}]
[null,null,{"$f":"IF(D36=\"\",0,1)","v":1},{"$f":"U9","v":"1) INTELLECTUAL PROPERTY"},{"$f":"V9","v":100},{"$f":"X9","v":80},{"$f":"Z9","v":51.764705882352942}]
[null,null,{"$f":"IF(D37=\"\",0,1)","v":1},{"$f":"U10","v":"2) TRANSPARENCY AND TRADE"},{"$f":"V10","v":81.5},{"$f":"X10","v":69.5},{"$f":"Z10","v":60.370588235294115}]
[null,null,{"$error":"#REF!"},{"$f":"#REF!","v":{"$error":"#REF!"}},{"$f":"#REF!","v":{"$error":"#REF!"}},{"$f":"#REF!","v":{"$error":"#REF!"}},{"$f":"#REF!","v":{"$error":"#REF!"}}]
[null,null,1,{"$f":"U11","v":"3) CUSTOMS ENVIRONMENT"},{"$f":"V11","v":88.01785351998376},{"$f":"X11","v":83.542976939203356},{"$f":"Z11","v":59.199999999999989}]
[null,null,1,"4) SUPPLY AND DEMAND",71.296296296296291,92.592592592592581,56.858823529411758]
[null,null,0,"","","",""]
[null,null,0,"","","",""]
[null,null,{"$f":"IF(D43=\"\",0,1)","v":0},"","","",""]

{"sheet":"Data","index":26,"n_rows":23,"n_cols":26,"rows_kept":23,"cut":false,"hidden":true,"merged":[]}
[]
[]
[null,null,null,null,null,null,null,null,null,3,4,5,6,7,8,9,10,11,12,13,14,15,16,17,18,19]
[null,{"$f":"tblIndicators!A1","v":"ID"},{"$f":"tblIndicators!B1","v":"IS_BG"},{"$f":"tblIndicators!D1","v":"INDI_CODE"},{"$f":"tblIndicators!E1","v":"PARENT_CODE"},"Name",{"$f":"tblIndicators!W1","v":"NORM_ID (1=sumproduct, 2=min max set by data values, 3=min max set by user here)"},"Indicator","Units",{"$f":"INDEX(tblTerritories!$C$3:$C$19,J3-2)","v":"Australia"},{"$f":"INDEX(tblTerritories!$C$3:$C$19,K3-2)","v":"Cambodia"},{"$f":"INDEX(tblTerritories!$C$3:$C$19,L3-2)","v":"China"},{"$f":"INDEX(tblTerritories!$C$3:$C$19,M3-2)","v":"Hong Kong"},{"$f":"INDEX(tblTerritories!$C$3:$C$19,N3-2)","v":"India"},{"$f":"INDEX(tblTerritories!$C$3:$C$19,O3-2)","v":"Indonesia"},{"$f":"INDEX(tblTerritories!$C$3:$C$19,P3-2)","v":"Japan"},{"$f":"INDEX(tblTerritories!$C$3:$C$19,Q3-2)","v":"Laos "},{"$f":"INDEX(tblTerritories!$C$3:$C$19,R3-2)","v":"Malaysia"},{"$f":"INDEX(tblTerritories!$C$3:$C$19,S3-2)","v":"Myanmar"},{"$f":"INDEX(tblTerritories!$C$3:$C$19,T3-2)","v":"New Zealand"},{"$f":"INDEX(tblTerritories!$C$3:$C$19,U3-2)","v":"Philippines"},{"$f":"INDEX(tblTerritories!$C$3:$C$19,V3-2)","v":"Singapore"},{"$f":"INDEX(tblTerritories!$C$3:$C$19,W3-2)","v":"South Korea"},{"$f":"INDEX(tblTerritories!$C$3:$C$19,X3-2)","v":"Taiwan"},{"$f":"INDEX(tblTerritories!$C$3:$C$19,Y3-2)","v":"Thailand"},{"$f":"INDEX(tblTerritories!$C$3:$C$19,Z3-2)","v":"Vietnam "}]
[null,{"$f":"tblIndicators!A2","v":1},{"$f":"tblIndicators!B2","v":0},{"$f":"tblIndicators!D2","v":"TOTAL"},{"$f":"tblIndicators!E2","v":"OVERALL SCORE"},{"$f":"tblIndicators!H2","v":"OVERALL SCORE"},{"$f":"tblIndicators!W2","v":1},{"$f":"REPT(\" \",tblIndicators!F2)&tblIndicators!AB2","v":"OVERALL SCORE"},{"$f":"IF(G5=1,\"\",tblIndicators!O2)","v":""}]
[null,{"$f":"tblIndicators!A3","v":2},{"$f":"tblIndicators!B3","v":0},{"$f":"tblIndicators!D3","v":"IP"},{"$f":"tblIndicators!E3","v":"TOTAL"},{"$f":"tblIndicators!H3","v":"Intellectual property"},{"$f":"tblIndicators!W3","v":1},{"$f":"REPT(\" \",tblIndicators!F3)&tblIndicators!AB3","v":" 1) INTELLECTUAL PROPERTY"},{"$f":"IF(G6=1,\"\",tblIndicators!O3)","v":""},"","","","","","","","","","","","","","","","",""]
[null,{"$f":"tblIndicators!A4","v":3},{"$f":"tblIndicators!B4","v":0},{"$f":"tblIndicators!D4","v":"IP_11"},{"$f":"tblIndicators!E4","v":"IP"},{"$f":"tblIndicators!H4","v":"  Protection of IP rights"},{"$f":"tblIndicators!W4","v":3},{"$f":"REPT(\" \",tblIndicators!F4)&tblIndicators!AB4","v":"  1.1)   Protection of IP rights"},{"$f":"IF(G7=1,\"\",tblIndicators!O4)","v":"0-4 (4 = bad/high risk)"},0,3,2,1,2,3,1,4,1,4,0,3,0,2,1,3,3]
[null,{"$f":"tblIndicators!A5","v":4},{"$f":"tblIndicators!B5","v":0},{"$f":"tblIndicators!D5","v":"IP_13"},{"$f":"tblIndicators!E5","v":"IP"},{"$f":"tblIndicators!H5","v":"  Customs recordal system"},{"$f":"tblIndicators!W5","v":3},{"$f":"REPT(\" \",tblIndicators!F5)&tblIndicators!AB5","v":"  1.2)   Customs recordal system"},{"$f":"IF(G8=1,\"\",tblIndicators!O5)","v":"0 = No, 1 = yes"},1,0,1,1,0,0,1,0,0,0,1,1,0,1,1,0,1]
[null,{"$f":"tblIndicators!A6","v":5},{"$f":"tblIndicators!B6","v":0},{"$f":"tblIndicators!D6","v":"TT"},{"$f":"tblIndicators!E6","v":"TOTAL"},{"$f":"tblIndicators!H6","v":"Transparency and trade"},{"$f":"tblIndicators!W6","v":1},{"$f":"REPT(\" \",tblIndicators!F6)&tblIndicators!AB6","v":" 2) TRANSPARENCY AND TRADE"},{"$f":"IF(G9=1,\"\",tblIndicators!O6)","v":""},"","","","","","","","","","","","","","","","",""]
[null,{"$f":"tblIndicators!A7","v":6},{"$f":"tblIndicators!B7","v":0},{"$f":"tblIndicators!D7","v":"TT_21"},{"$f":"tblIndicators!E7","v":"TT"},{"$f":"tblIndicators!H7","v":"  Track and trace services"},{"$f":"tblIndicators!W7","v":3},{"$f":"REPT(\" \",tblIndicators!F7)&tblIndicators!AB7","v":"  2.1)   Track and trace services"},{"$f":"IF(G10=1,\"\",tblIndicators!O7)","v":"0-5 (5 = high)"},3.8,"",3.5,3.9,3.1,3.1,4,2.2000000000000002,3.6,2.36,3.3,3,3.9,3.7,3.8,3.5,3.2]
[null,{"$f":"tblIndicators!A8","v":7},{"$f":"tblIndicators!B8","v":0},{"$f":"tblIndicators!D8","v":"TT_22"},{"$f":"tblIndicators!E8","v":"TT"},{"$f":"tblIndicators!H8","v":"  Adoption of Annex D of Revised Kyoto Convention  "},{"$f":"tblIndicators!W8","v":3},{"$f":"REPT(\" \",tblIndicators!F8)&tblIndicators!AB8","v":"  2.2)   Adoption of Annex D of Revised Kyoto Convention  "},{"$f":"IF(G11=1,\"\",tblIndicators!O8)","v":"0 = No, 1 = yes"},1,1,1,0,1,1,1,0,1,0,1,1,0,1,0,1,1]
[null,{"$f":"tblIndicators!A9","v":8},{"$f":"tblIndicators!B9","v":0},{"$f":"tblIndicators!D9","v":"TT_23"},{"$f":"tblIndicators!E9","v":"TT"},{"$f":"tblIndicators!H9","v":"  Government cooperation"},{"$f":"tblIndicators!W9","v":3},{"$f":"REPT(\" \",tblIndicators!F9)&tblIndicators!AB9","v":"  2.3)   Government cooperation"},{"$f":"IF(G12=1,\"\",tblIndicators!O9)","v":"1 = No, 2 = yes"},2,1,2,2,2,2,2,1,2,1,1,2,1,2,1,1,1]
[null,{"$f":"tblIndicators!A10","v":9},{"$f":"tblIndicators!B10","v":0},{"$f":"tblIndicators!D10","v":"TT_24"},{"$f":"tblIndicators!E10","v":"TT"},{"$f":"tblIndicators!H10","v":"  FTZ governance "},{"$f":"tblIndicators!W10","v":3},{"$f":"REPT(\" \",tblIndicators!F10)&tblIndicators!AB10","v":"  2.4)   FTZ governance "},{"$f":"IF(G13=1,\"\",tblIndicators!O10)","v":"0 - 4 (4 = good governance)"},2,0,2,4,1,2,3,0,4,0,1,2,1,4,4,4,3]
[null,{"$f":"tblIndicators!A11","v":10},{"$f":"tblIndicators!B11","v":0},{"$f":"tblIndicators!D11","v":"CE"},{"$f":"tblIndicators!E11","v":"TOTAL"},{"$f":"tblIndicators!H11","v":"Customs environment"},{"$f":"tblIndicators!W11","v":1},{"$f":"REPT(\" \",tblIndicators!F11)&tblIndicators!AB11","v":" 3) CUSTOMS ENVIRONMENT"},{"$f":"IF(G14=1,\"\",tblIndicators!O11)","v":""},"","","","","","","","","","","","","","","","",""]
[null,{"$f":"tblIndicators!A12","v":11},{"$f":"tblIndicators!B12","v":0},{"$f":"tblIndicators!D12","v":"CE_31"},{"$f":"tblIndicators!E12","v":"CE"},{"$f":"tblIndicators!H12","v":"Percentage of shipments physically inspected"},{"$f":"tblIndicators!W12","v":2},{"$f":"REPT(\" \",tblIndicators!F12)&tblIndicators!AB12","v":"  3.1) Percentage of shipments physically inspected"},{"$f":"IF(G15=1,\"\",tblIndicators!O12)","v":"Higher = better"},2,0,7,1,22,8,3,0,2,0,1,10,5,18,2,3,53]
[null,{"$f":"tblIndicators!A13","v":12},{"$f":"tblIndicators!B13","v":0},{"$f":"tblIndicators!D13","v":"CE_32"},{"$f":"tblIndicators!E13","v":"CE"},{"$f":"tblIndicators!H13","v":"  Customs clearance and inspection"},{"$f":"tblIndicators!W13","v":2},{"$f":"REPT(\" \",tblIndicators!F13)&tblIndicators!AB13","v":"  3.2)   Customs clearance and inspection"},{"$f":"IF(G16=1,\"\",tblIndicators!O13)","v":"Lower = better"},1,3,4,1,4,4,2,7,1,4,1,2,1,1,1,2,4]
[null,{"$f":"tblIndicators!A14","v":13},{"$f":"tblIndicators!B14","v":0},{"$f":"tblIndicators!D14","v":"CE_33"},{"$f":"tblIndicators!E14","v":"CE"},{"$f":"tblIndicators!H14","v":"  Automation"},{"$f":"tblIndicators!W14","v":2},{"$f":"REPT(\" \",tblIndicators!F14)&tblIndicators!AB14","v":"  3.3)   Automation"},{"$f":"IF(G17=1,\"\",tblIndicators!O14)","v":"Higher = better"},1.71,0.75,1.75,1.8,1.75,1.5,1.1399999999999999,0.25,1.25,0.25,1.71,1,1.8,1.57,1.75,1.75,1.25]
[null,{"$f":"tblIndicators!A15","v":14},{"$f":"tblIndicators!B15","v":0},{"$f":"tblIndicators!D15","v":"CE_34"},{"$f":"tblIndicators!E15","v":"CE"},{"$f":"tblIndicators!H15","v":"  Corruption"},{"$f":"tblIndicators!W15","v":3},{"$f":"REPT(\" \",tblIndicators!F15)&tblIndicators!AB15","v":"  3.4)   Corruption"},{"$f":"IF(G18=1,\"\",tblIndicators!O15)","v":"0 - 4 (0 = best, 4 = worst)"},0,4,3,1,3,4,1,4,2,4,0,4,0,2,1,3,3]
[null,{"$f":"tblIndicators!A16","v":15},{"$f":"tblIndicators!B16","v":0},{"$f":"tblIndicators!D16","v":"CE_35"},{"$f":"tblIndicators!E16","v":"CE"},{"$f":"tblIndicators!H16","v":"Accredited Economic Operator programme"},{"$f":"tblIndicators!W16","v":3},{"$f":"REPT(\" \",tblIndicators!F16)&tblIndicators!AB16","v":"  3.5) Accredited Economic Operator programme"},{"$f":"IF(G19=1,\"\",tblIndicators!O16)","v":"3 = Programmes exist; 2 = Programme to be launched; 1 = No programme exists"},3,1,3,3,3,2,3,1,3,1,3,1,3,3,3,3,2]
[null,{"$f":"tblIndicators!A17","v":16},{"$f":"tblIndicators!B17","v":0},{"$f":"tblIndicators!D17","v":"SD"},{"$f":"tblIndicators!E17","v":"TOTAL"},{"$f":"tblIndicators!H17","v":"Supply and demand"},{"$f":"tblIndicators!W17","v":1},{"$f":"REPT(\" \",tblIndicators!F17)&tblIndicators!AB17","v":" 4) SUPPLY AND DEMAND"},{"$f":"IF(G20=1,\"\",tblIndicators!O17)","v":""},"","","","","","","","","","","","","","","","",""]
[null,{"$f":"tblIndicators!A18","v":17},{"$f":"tblIndicators!B18","v":0},{"$f":"tblIndicators!D18","v":"SD_41"},{"$f":"tblIndicators!E18","v":"SD"},{"$f":"tblIndicators!H18","v":"  Tax and social security burdens"},{"$f":"tblIndicators!W18","v":3},{"$f":"REPT(\" \",tblIndicators!F18)&tblIndicators!AB18","v":"  4.1)   Tax and social security burdens"},{"$f":"IF(G21=1,\"\",tblIndicators!O18)","v":"1-5 (5 = high)"},4,3,3,5,3,3,4,3,4,2,5,3,4,3,4,3,3]
[null,{"$f":"tblIndicators!A19","v":18},{"$f":"tblIndicators!B19","v":0},{"$f":"tblIndicators!D19","v":"SD_42"},{"$f":"tblIndicators!E19","v":"SD"},{"$f":"tblIndicators!H19","v":"  Quality of state institutions"},{"$f":"tblIndicators!W19","v":3},{"$f":"REPT(\" \",tblIndicators!F19)&tblIndicators!AB19","v":"  4.2)   Quality of state institutions"},{"$f":"IF(G22=1,\"\",tblIndicators!O19)","v":"1-10 (10 = high)"},9,2,4,8,5,4,7,3,7,2,10,4,10,7,7,5,4]
[null,{"$f":"tblIndicators!A20","v":19},{"$f":"tblIndicators!B20","v":0},{"$f":"tblIndicators!D20","v":"SD_43"},{"$f":"tblIndicators!E20","v":"SD"},{"$f":"tblIndicators!H20","v":"  Labour market regulations"},{"$f":"tblIndicators!W20","v":3},{"$f":"REPT(\" \",tblIndicators!F20)&tblIndicators!AB20","v":"  4.3)   Labour market regulations"},{"$f":"IF(G23=1,\"\",tblIndicators!O20)","v":"1-5 (5 = high)"},3,2,3,5,2,3,3,3,3,2,4,4,4,3,4,4,3]

{"sheet":"rScores","index":27,"n_rows":89,"n_cols":40,"rows_kept":89,"cut":false,"hidden":true,"merged":[]}
[1,{"$f":"Scores!P4","v":"Australia"},{"$f":"Scores!Q4","v":"Cambodia"},{"$f":"Scores!R4","v":"China"},{"$f":"Scores!S4","v":"Hong Kong"},{"$f":"Scores!T4","v":"India"},{"$f":"Scores!U4","v":"Indonesia"},{"$f":"Scores!V4","v":"Japan"},{"$f":"Scores!W4","v":"Laos "},{"$f":"Scores!X4","v":"Malaysia"},{"$f":"Scores!Y4","v":"Myanmar"},{"$f":"Scores!Z4","v":"New Zealand"},{"$f":"Scores!AA4","v":"Philippines"},{"$f":"Scores!AB4","v":"Singapore"},{"$f":"Scores!AC4","v":"South Korea"},{"$f":"Scores!AD4","v":"Taiwan"},{"$f":"Scores!AE4","v":"Thailand"},{"$f":"Scores!AF4","v":"Vietnam "},null,{"$f":"\"Average: \"&U1","v":"Average: All Incomes"},{"$f":"INDEX(tblTerritories!O4:O8,V1)","v":"All Incomes"},{"$f":"uxb_works!$B$8","v":1},"Index Number",1,{"$f":"X1+1","v":2},{"$f":"Y1+1","v":3},4,5,6,7,8,9,10,11,12,13,14,15,16,17]
[{"$f":"Scores!N5","v":"OVERALL SCORE"},{"$f":"ROUND(Scores!P5,$A$1)","v":85.2},{"$f":"ROUND(Scores!Q5,$A$1)","v":23.9},{"$f":"ROUND(Scores!R5,$A$1)","v":61.6},{"$f":"ROUND(Scores!S5,$A$1)","v":81.400000000000006},{"$f":"ROUND(Scores!T5,$A$1)","v":54.1},{"$f":"ROUND(Scores!U5,$A$1)","v":46.1},{"$f":"ROUND(Scores!V5,$A$1)","v":75.900000000000006},{"$f":"ROUND(Scores!W5,$A$1)","v":12.9},{"$f":"ROUND(Scores!X5,$A$1)","v":71.8},{"$f":"ROUND(Scores!Y5,$A$1)","v":10.8},{"$f":"ROUND(Scores!Z5,$A$1)","v":81.8},{"$f":"ROUND(Scores!AA5,$A$1)","v":50.4},{"$f":"ROUND(Scores!AB5,$A$1)","v":69.8},{"$f":"ROUND(Scores!AC5,$A$1)","v":71.8},{"$f":"ROUND(Scores!AD5,$A$1)","v":69.8},{"$f":"ROUND(Scores!AE5,$A$1)","v":53.1},{"$f":"ROUND(Scores!AF5,$A$1)","v":49.4},null,{"$f":"SUMIF($X$2:$AN$2,1,B2:R2)/$U$2","v":57.047058823529397},{"$f":"SUM(X2:AN2)","v":17},null,"IN/OUT",{"$f":"INDEX(tblTerritories!$R$3:$V$19,X1,$V$1)","v":1},{"$f":"INDEX(tblTerritories!$R$3:$V$19,Y1,$V$1)","v":1},{"$f":"INDEX(tblTerritories!$R$3:$V$19,Z1,$V$1)","v":1},{"$f":"INDEX(tblTerritories!$R$3:$V$19,AA1,$V$1)","v":1},{"$f":"INDEX(tblTerritories!$R$3:$V$19,AB1,$V$1)","v":1},{"$f":"INDEX(tblTerritories!$R$3:$V$19,AC1,$V$1)","v":1},{"$f":"INDEX(tblTerritories!$R$3:$V$19,AD1,$V$1)","v":1},{"$f":"INDEX(tblTerritories!$R$3:$V$19,AE1,$V$1)","v":1},{"$f":"INDEX(tblTerritories!$R$3:$V$19,AF1,$V$1)","v":1},{"$f":"INDEX(tblTerritories!$R$3:$V$19,AG1,$V$1)","v":1},{"$f":"INDEX(tblTerritories!$R$3:$V$19,AH1,$V$1)","v":1},{"$f":"INDEX(tblTerritories!$R$3:$V$19,AI1,$V$1)","v":1},{"$f":"INDEX(tblTerritories!$R$3:$V$19,AJ1,$V$1)","v":1},{"$f":"INDEX(tblTerritories!$R$3:$V$19,AK1,$V$1)","v":1},{"$f":"INDEX(tblTerritories!$R$3:$V$19,AL1,$V$1)","v":1},{"$f":"INDEX(tblTerritories!$R$3:$V$19,AM1,$V$1)","v":1},{"$f":"INDEX(tblTerritories!$R$3:$V$19,AN1,$V$1)","v":1}]
[{"$f":"Scores!N6","v":"1) INTELLECTUAL PROPERTY"},{"$f":"ROUND(Scores!P6,$A$1)","v":100},{"$f":"ROUND(Scores!Q6,$A$1)","v":20},{"$f":"ROUND(Scores!R6,$A$1)","v":60},{"$f":"ROUND(Scores!S6,$A$1)","v":80},{"$f":"ROUND(Scores!T6,$A$1)","v":40},{"$f":"ROUND(Scores!U6,$A$1)","v":20},{"$f":"ROUND(Scores!V6,$A$1)","v":80},{"$f":"ROUND(Scores!W6,$A$1)","v":0},{"$f":"ROUND(Scores!X6,$A$1)","v":60},{"$f":"ROUND(Scores!Y6,$A$1)","v":0},{"$f":"ROUND(Scores!Z6,$A$1)","v":100},{"$f":"ROUND(Scores!AA6,$A$1)","v":40},{"$f":"ROUND(Scores!AB6,$A$1)","v":80},{"$f":"ROUND(Scores!AC6,$A$1)","v":60},{"$f":"ROUND(Scores!AD6,$A$1)","v":80},{"$f":"ROUND(Scores!AE6,$A$1)","v":20},{"$f":"ROUND(Scores!AF6,$A$1)","v":40},null,51.764705882352942]
[{"$f":"Scores!N7","v":"1.1)   Protection of IP rights"},{"$f":"ROUND(Scores!P7,$A$1)","v":100},{"$f":"ROUND(Scores!Q7,$A$1)","v":25},{"$f":"ROUND(Scores!R7,$A$1)","v":50},{"$f":"ROUND(Scores!S7,$A$1)","v":75},{"$f":"ROUND(Scores!T7,$A$1)","v":50},{"$f":"ROUND(Scores!U7,$A$1)","v":25},{"$f":"ROUND(Scores!V7,$A$1)","v":75},{"$f":"ROUND(Scores!W7,$A$1)","v":0},{"$f":"ROUND(Scores!X7,$A$1)","v":75},{"$f":"ROUND(Scores!Y7,$A$1)","v":0},{"$f":"ROUND(Scores!Z7,$A$1)","v":100},{"$f":"ROUND(Scores!AA7,$A$1)","v":25},{"$f":"ROUND(Scores!AB7,$A$1)","v":100},{"$f":"ROUND(Scores!AC7,$A$1)","v":50},{"$f":"ROUND(Scores!AD7,$A$1)","v":75},{"$f":"ROUND(Scores!AE7,$A$1)","v":25},{"$f":"ROUND(Scores!AF7,$A$1)","v":25},null,51.470588235294116]
[{"$f":"Scores!N8","v":"1.2)   Customs recordal system"},{"$f":"ROUND(Scores!P8,$A$1)","v":100},{"$f":"ROUND(Scores!Q8,$A$1)","v":0},{"$f":"ROUND(Scores!R8,$A$1)","v":100},{"$f":"ROUND(Scores!S8,$A$1)","v":100},{"$f":"ROUND(Scores!T8,$A$1)","v":0},{"$f":"ROUND(Scores!U8,$A$1)","v":0},{"$f":"ROUND(Scores!V8,$A$1)","v":100},{"$f":"ROUND(Scores!W8,$A$1)","v":0},{"$f":"ROUND(Scores!X8,$A$1)","v":0},{"$f":"ROUND(Scores!Y8,$A$1)","v":0},{"$f":"ROUND(Scores!Z8,$A$1)","v":100},{"$f":"ROUND(Scores!AA8,$A$1)","v":100},{"$f":"ROUND(Scores!AB8,$A$1)","v":0},{"$f":"ROUND(Scores!AC8,$A$1)","v":100},{"$f":"ROUND(Scores!AD8,$A$1)","v":100},{"$f":"ROUND(Scores!AE8,$A$1)","v":0},{"$f":"ROUND(Scores!AF8,$A$1)","v":100},null,52.941176470588232]
[{"$f":"Scores!N9","v":"2) TRANSPARENCY AND TRADE"},{"$f":"ROUND(Scores!P9,$A$1)","v":81.5},{"$f":"ROUND(Scores!Q9,$A$1)","v":25},{"$f":"ROUND(Scores!R9,$A$1)","v":80},{"$f":"ROUND(Scores!S9,$A$1)","v":69.5},{"$f":"ROUND(Scores!T9,$A$1)","v":71.8},{"$f":"ROUND(Scores!U9,$A$1)","v":78},{"$f":"ROUND(Scores!V9,$A$1)","v":88.8},{"$f":"ROUND(Scores!W9,$A$1)","v":11},{"$f":"ROUND(Scores!X9,$A$1)","v":93},{"$f":"ROUND(Scores!Y9,$A$1)","v":11.8},{"$f":"ROUND(Scores!Z9,$A$1)","v":47.8},{"$f":"ROUND(Scores!AA9,$A$1)","v":77.5},{"$f":"ROUND(Scores!AB9,$A$1)","v":25.8},{"$f":"ROUND(Scores!AC9,$A$1)","v":93.5},{"$f":"ROUND(Scores!AD9,$A$1)","v":44},{"$f":"ROUND(Scores!AE9,$A$1)","v":67.5},{"$f":"ROUND(Scores!AF9,$A$1)","v":59.8},null,60.370588235294115]
[{"$f":"Scores!N10","v":"2.1)   Track and trace services"},{"$f":"ROUND(Scores!P10,$A$1)","v":76},{"$f":"ROUND(Scores!Q10,$A$1)","v":0},{"$f":"ROUND(Scores!R10,$A$1)","v":70},{"$f":"ROUND(Scores!S10,$A$1)","v":78},{"$f":"ROUND(Scores!T10,$A$1)","v":62},{"$f":"ROUND(Scores!U10,$A$1)","v":62},{"$f":"ROUND(Scores!V10,$A$1)","v":80},{"$f":"ROUND(Scores!W10,$A$1)","v":44},{"$f":"ROUND(Scores!X10,$A$1)","v":72},{"$f":"ROUND(Scores!Y10,$A$1)","v":47.2},{"$f":"ROUND(Scores!Z10,$A$1)","v":66},{"$f":"ROUND(Scores!AA10,$A$1)","v":60},{"$f":"ROUND(Scores!AB10,$A$1)","v":78},{"$f":"ROUND(Scores!AC10,$A$1)","v":74},{"$f":"ROUND(Scores!AD10,$A$1)","v":76},{"$f":"ROUND(Scores!AE10,$A$1)","v":70},{"$f":"ROUND(Scores!AF10,$A$1)","v":64},null,63.482352941176472]
[{"$f":"Scores!N11","v":"2.2)   Adoption of Annex D of Revised Kyoto Convention  "},{"$f":"ROUND(Scores!P11,$A$1)","v":100},{"$f":"ROUND(Scores!Q11,$A$1)","v":100},{"$f":"ROUND(Scores!R11,$A$1)","v":100},{"$f":"ROUND(Scores!S11,$A$1)","v":0},{"$f":"ROUND(Scores!T11,$A$1)","v":100},{"$f":"ROUND(Scores!U11,$A$1)","v":100},{"$f":"ROUND(Scores!V11,$A$1)","v":100},{"$f":"ROUND(Scores!W11,$A$1)","v":0},{"$f":"ROUND(Scores!X11,$A$1)","v":100},{"$f":"ROUND(Scores!Y11,$A$1)","v":0},{"$f":"ROUND(Scores!Z11,$A$1)","v":100},{"$f":"ROUND(Scores!AA11,$A$1)","v":100},{"$f":"ROUND(Scores!AB11,$A$1)","v":0},{"$f":"ROUND(Scores!AC11,$A$1)","v":100},{"$f":"ROUND(Scores!AD11,$A$1)","v":0},{"$f":"ROUND(Scores!AE11,$A$1)","v":100},{"$f":"ROUND(Scores!AF11,$A$1)","v":100},null,70.588235294117652]
[{"$f":"Scores!N12","v":"2.3)   Government cooperation"},{"$f":"ROUND(Scores!P12,$A$1)","v":100},{"$f":"ROUND(Scores!Q12,$A$1)","v":0},{"$f":"ROUND(Scores!R12,$A$1)","v":100},{"$f":"ROUND(Scores!S12,$A$1)","v":100},{"$f":"ROUND(Scores!T12,$A$1)","v":100},{"$f":"ROUND(Scores!U12,$A$1)","v":100},{"$f":"ROUND(Scores!V12,$A$1)","v":100},{"$f":"ROUND(Scores!W12,$A$1)","v":0},{"$f":"ROUND(Scores!X12,$A$1)","v":100},{"$f":"ROUND(Scores!Y12,$A$1)","v":0},{"$f":"ROUND(Scores!Z12,$A$1)","v":0},{"$f":"ROUND(Scores!AA12,$A$1)","v":100},{"$f":"ROUND(Scores!AB12,$A$1)","v":0},{"$f":"ROUND(Scores!AC12,$A$1)","v":100},{"$f":"ROUND(Scores!AD12,$A$1)","v":0},{"$f":"ROUND(Scores!AE12,$A$1)","v":0},{"$f":"ROUND(Scores!AF12,$A$1)","v":0},null,52.941176470588232]
[{"$f":"Scores!N13","v":"2.4)   FTZ governance "},{"$f":"ROUND(Scores!P13,$A$1)","v":50},{"$f":"ROUND(Scores!Q13,$A$1)","v":0},{"$f":"ROUND(Scores!R13,$A$1)","v":50},{"$f":"ROUND(Scores!S13,$A$1)","v":100},{"$f":"ROUND(Scores!T13,$A$1)","v":25},{"$f":"ROUND(Scores!U13,$A$1)","v":50},{"$f":"ROUND(Scores!V13,$A$1)","v":75},{"$f":"ROUND(Scores!W13,$A$1)","v":0},{"$f":"ROUND(Scores!X13,$A$1)","v":100},{"$f":"ROUND(Scores!Y13,$A$1)","v":0},{"$f":"ROUND(Scores!Z13,$A$1)","v":25},{"$f":"ROUND(Scores!AA13,$A$1)","v":50},{"$f":"ROUND(Scores!AB13,$A$1)","v":25},{"$f":"ROUND(Scores!AC13,$A$1)","v":100},{"$f":"ROUND(Scores!AD13,$A$1)","v":100},{"$f":"ROUND(Scores!AE13,$A$1)","v":100},{"$f":"ROUND(Scores!AF13,$A$1)","v":75},null,54.411764705882355]
[{"$f":"Scores!N14","v":"3) CUSTOMS ENVIRONMENT"},{"$f":"ROUND(Scores!P14,$A$1)","v":88},{"$f":"ROUND(Scores!Q14,$A$1)","v":22},{"$f":"ROUND(Scores!R14,$A$1)","v":61.9},{"$f":"ROUND(Scores!S14,$A$1)","v":83.5},{"$f":"ROUND(Scores!T14,$A$1)","v":65},{"$f":"ROUND(Scores!U14,$A$1)","v":41.8},{"$f":"ROUND(Scores!V14,$A$1)","v":70.8},{"$f":"ROUND(Scores!W14,$A$1)","v":0},{"$f":"ROUND(Scores!X14,$A$1)","v":70.3},{"$f":"ROUND(Scores!Y14,$A$1)","v":11.1},{"$f":"ROUND(Scores!Z14,$A$1)","v":87.8},{"$f":"ROUND(Scores!AA14,$A$1)","v":31.4},{"$f":"ROUND(Scores!AB14,$A$1)","v":89.9},{"$f":"ROUND(Scores!AC14,$A$1)","v":78.3},{"$f":"ROUND(Scores!AD14,$A$1)","v":83},{"$f":"ROUND(Scores!AE14,$A$1)","v":68.400000000000006},{"$f":"ROUND(Scores!AF14,$A$1)","v":53.2},null,59.199999999999989]
[{"$f":"Scores!N15","v":"3.1) Percentage of shipments physically inspected"},{"$f":"ROUND(Scores!P15,$A$1)","v":3.8},{"$f":"ROUND(Scores!Q15,$A$1)","v":0},{"$f":"ROUND(Scores!R15,$A$1)","v":13.2},{"$f":"ROUND(Scores!S15,$A$1)","v":1.9},{"$f":"ROUND(Scores!T15,$A$1)","v":41.5},{"$f":"ROUND(Scores!U15,$A$1)","v":15.1},{"$f":"ROUND(Scores!V15,$A$1)","v":5.7},{"$f":"ROUND(Scores!W15,$A$1)","v":0},{"$f":"ROUND(Scores!X15,$A$1)","v":3.8},{"$f":"ROUND(Scores!Y15,$A$1)","v":0},{"$f":"ROUND(Scores!Z15,$A$1)","v":1.9},{"$f":"ROUND(Scores!AA15,$A$1)","v":18.899999999999999},{"$f":"ROUND(Scores!AB15,$A$1)","v":9.4},{"$f":"ROUND(Scores!AC15,$A$1)","v":34},{"$f":"ROUND(Scores!AD15,$A$1)","v":3.8},{"$f":"ROUND(Scores!AE15,$A$1)","v":5.7},{"$f":"ROUND(Scores!AF15,$A$1)","v":100},null,15.217647058823532]
[{"$f":"Scores!N16","v":"3.2)   Customs clearance and inspection"},{"$f":"ROUND(Scores!P16,$A$1)","v":100},{"$f":"ROUND(Scores!Q16,$A$1)","v":66.7},{"$f":"ROUND(Scores!R16,$A$1)","v":50},{"$f":"ROUND(Scores!S16,$A$1)","v":100},{"$f":"ROUND(Scores!T16,$A$1)","v":50},{"$f":"ROUND(Scores!U16,$A$1)","v":50},{"$f":"ROUND(Scores!V16,$A$1)","v":83.3},{"$f":"ROUND(Scores!W16,$A$1)","v":0},{"$f":"ROUND(Scores!X16,$A$1)","v":100},{"$f":"ROUND(Scores!Y16,$A$1)","v":50},{"$f":"ROUND(Scores!Z16,$A$1)","v":100},{"$f":"ROUND(Scores!AA16,$A$1)","v":83.3},{"$f":"ROUND(Scores!AB16,$A$1)","v":100},{"$f":"ROUND(Scores!AC16,$A$1)","v":100},{"$f":"ROUND(Scores!AD16,$A$1)","v":100},{"$f":"ROUND(Scores!AE16,$A$1)","v":83.3},{"$f":"ROUND(Scores!AF16,$A$1)","v":50},null,74.505882352941171]
[{"$f":"Scores!N17","v":"3.3)   Automation"},{"$f":"ROUND(Scores!P17,$A$1)","v":94.2},{"$f":"ROUND(Scores!Q17,$A$1)","v":32.299999999999997},{"$f":"ROUND(Scores!R17,$A$1)","v":96.8},{"$f":"ROUND(Scores!S17,$A$1)","v":100},{"$f":"ROUND(Scores!T17,$A$1)","v":96.8},{"$f":"ROUND(Scores!U17,$A$1)","v":80.599999999999994},{"$f":"ROUND(Scores!V17,$A$1)","v":57.4},{"$f":"ROUND(Scores!W17,$A$1)","v":0},{"$f":"ROUND(Scores!X17,$A$1)","v":64.5},{"$f":"ROUND(Scores!Y17,$A$1)","v":0},{"$f":"ROUND(Scores!Z17,$A$1)","v":94.2},{"$f":"ROUND(Scores!AA17,$A$1)","v":48.4},{"$f":"ROUND(Scores!AB17,$A$1)","v":100},{"$f":"ROUND(Scores!AC17,$A$1)","v":85.2},{"$f":"ROUND(Scores!AD17,$A$1)","v":96.8},{"$f":"ROUND(Scores!AE17,$A$1)","v":96.8},{"$f":"ROUND(Scores!AF17,$A$1)","v":64.5},null,71.088235294117652]
[{"$f":"Scores!N18","v":"3.4)   Corruption"},{"$f":"ROUND(Scores!P18,$A$1)","v":100},{"$f":"ROUND(Scores!Q18,$A$1)","v":0},{"$f":"ROUND(Scores!R18,$A$1)","v":25},{"$f":"ROUND(Scores!S18,$A$1)","v":75},{"$f":"ROUND(Scores!T18,$A$1)","v":25},{"$f":"ROUND(Scores!U18,$A$1)","v":0},{"$f":"ROUND(Scores!V18,$A$1)","v":75},{"$f":"ROUND(Scores!W18,$A$1)","v":0},{"$f":"ROUND(Scores!X18,$A$1)","v":50},{"$f":"ROUND(Scores!Y18,$A$1)","v":0},{"$f":"ROUND(Scores!Z18,$A$1)","v":100},{"$f":"ROUND(Scores!AA18,$A$1)","v":0},{"$f":"ROUND(Scores!AB18,$A$1)","v":100},{"$f":"ROUND(Scores!AC18,$A$1)","v":50},{"$f":"ROUND(Scores!AD18,$A$1)","v":75},{"$f":"ROUND(Scores!AE18,$A$1)","v":25},{"$f":"ROUND(Scores!AF18,$A$1)","v":25},null,42.647058823529413]
[{"$f":"Scores!N19","v":"3.5) Accredited Economic Operator programme"},{"$f":"ROUND(Scores!P19,$A$1)","v":100},{"$f":"ROUND(Scores!Q19,$A$1)","v":0},{"$f":"ROUND(Scores!R19,$A$1)","v":100},{"$f":"ROUND(Scores!S19,$A$1)","v":100},{"$f":"ROUND(Scores!T19,$A$1)","v":100},{"$f":"ROUND(Scores!U19,$A$1)","v":50},{"$f":"ROUND(Scores!V19,$A$1)","v":100},{"$f":"ROUND(Scores!W19,$A$1)","v":0},{"$f":"ROUND(Scores!X19,$A$1)","v":100},{"$f":"ROUND(Scores!Y19,$A$1)","v":0},{"$f":"ROUND(Scores!Z19,$A$1)","v":100},{"$f":"ROUND(Scores!AA19,$A$1)","v":0},{"$f":"ROUND(Scores!AB19,$A$1)","v":100},{"$f":"ROUND(Scores!AC19,$A$1)","v":100},{"$f":"ROUND(Scores!AD19,$A$1)","v":100},{"$f":"ROUND(Scores!AE19,$A$1)","v":100},{"$f":"ROUND(Scores!AF19,$A$1)","v":50},null,70.588235294117652]
[{"$f":"Scores!N20","v":"4) SUPPLY AND DEMAND"},{"$f":"ROUND(Scores!P20,$A$1)","v":71.3},{"$f":"ROUND(Scores!Q20,$A$1)","v":28.7},{"$f":"ROUND(Scores!R20,$A$1)","v":44.4},{"$f":"ROUND(Scores!S20,$A$1)","v":92.6},{"$f":"ROUND(Scores!T20,$A$1)","v":39.799999999999997},{"$f":"ROUND(Scores!U20,$A$1)","v":44.4},{"$f":"ROUND(Scores!V20,$A$1)","v":63.9},{"$f":"ROUND(Scores!W20,$A$1)","v":40.700000000000003},{"$f":"ROUND(Scores!X20,$A$1)","v":63.9},{"$f":"ROUND(Scores!Y20,$A$1)","v":20.399999999999999},{"$f":"ROUND(Scores!Z20,$A$1)","v":91.7},{"$f":"ROUND(Scores!AA20,$A$1)","v":52.8},{"$f":"ROUND(Scores!AB20,$A$1)","v":83.3},{"$f":"ROUND(Scores!AC20,$A$1)","v":55.6},{"$f":"ROUND(Scores!AD20,$A$1)","v":72.2},{"$f":"ROUND(Scores!AE20,$A$1)","v":56.5},{"$f":"ROUND(Scores!AF20,$A$1)","v":44.4},null,56.858823529411758]
[{"$f":"Scores!N21","v":"4.1)   Tax and social security burdens"},{"$f":"ROUND(Scores!P21,$A$1)","v":75},{"$f":"ROUND(Scores!Q21,$A$1)","v":50},{"$f":"ROUND(Scores!R21,$A$1)","v":50},{"$f":"ROUND(Scores!S21,$A$1)","v":100},{"$f":"ROUND(Scores!T21,$A$1)","v":50},{"$f":"ROUND(Scores!U21,$A$1)","v":50},{"$f":"ROUND(Scores!V21,$A$1)","v":75},{"$f":"ROUND(Scores!W21,$A$1)","v":50},{"$f":"ROUND(Scores!X21,$A$1)","v":75},{"$f":"ROUND(Scores!Y21,$A$1)","v":25},{"$f":"ROUND(Scores!Z21,$A$1)","v":100},{"$f":"ROUND(Scores!AA21,$A$1)","v":50},{"$f":"ROUND(Scores!AB21,$A$1)","v":75},{"$f":"ROUND(Scores!AC21,$A$1)","v":50},{"$f":"ROUND(Scores!AD21,$A$1)","v":75},{"$f":"ROUND(Scores!AE21,$A$1)","v":50},{"$f":"ROUND(Scores!AF21,$A$1)","v":50},null,61.764705882352942]
[{"$f":"Scores!N22","v":"4.2)   Quality of state institutions"},{"$f":"ROUND(Scores!P22,$A$1)","v":88.9},{"$f":"ROUND(Scores!Q22,$A$1)","v":11.1},{"$f":"ROUND(Scores!R22,$A$1)","v":33.299999999999997},{"$f":"ROUND(Scores!S22,$A$1)","v":77.8},{"$f":"ROUND(Scores!T22,$A$1)","v":44.4},{"$f":"ROUND(Scores!U22,$A$1)","v":33.299999999999997},{"$f":"ROUND(Scores!V22,$A$1)","v":66.7},{"$f":"ROUND(Scores!W22,$A$1)","v":22.2},{"$f":"ROUND(Scores!X22,$A$1)","v":66.7},{"$f":"ROUND(Scores!Y22,$A$1)","v":11.1},{"$f":"ROUND(Scores!Z22,$A$1)","v":100},{"$f":"ROUND(Scores!AA22,$A$1)","v":33.299999999999997},{"$f":"ROUND(Scores!AB22,$A$1)","v":100},{"$f":"ROUND(Scores!AC22,$A$1)","v":66.7},{"$f":"ROUND(Scores!AD22,$A$1)","v":66.7},{"$f":"ROUND(Scores!AE22,$A$1)","v":44.4},{"$f":"ROUND(Scores!AF22,$A$1)","v":33.299999999999997},null,52.935294117647061]
[{"$f":"Scores!N23","v":"4.3)   Labour market regulations"},{"$f":"ROUND(Scores!P23,$A$1)","v":50},{"$f":"ROUND(Scores!Q23,$A$1)","v":25},{"$f":"ROUND(Scores!R23,$A$1)","v":50},{"$f":"ROUND(Scores!S23,$A$1)","v":100},{"$f":"ROUND(Scores!T23,$A$1)","v":25},{"$f":"ROUND(Scores!U23,$A$1)","v":50},{"$f":"ROUND(Scores!V23,$A$1)","v":50},{"$f":"ROUND(Scores!W23,$A$1)","v":50},{"$f":"ROUND(Scores!X23,$A$1)","v":50},{"$f":"ROUND(Scores!Y23,$A$1)","v":25},{"$f":"ROUND(Scores!Z23,$A$1)","v":75},{"$f":"ROUND(Scores!AA23,$A$1)","v":75},{"$f":"ROUND(Scores!AB23,$A$1)","v":75},{"$f":"ROUND(Scores!AC23,$A$1)","v":50},{"$f":"ROUND(Scores!AD23,$A$1)","v":75},{"$f":"ROUND(Scores!AE23,$A$1)","v":75},{"$f":"ROUND(Scores!AF23,$A$1)","v":50},null,55.882352941176471]
[]
[]
["RANK"]
[]
[{"$f":"A2","v":"OVERALL SCORE"},{"$f":"IF(B47>1,\"=\",\"\")&RANK(B2,$B2:$R2,0)","v":"1"},{"$f":"IF(C47>1,\"=\",\"\")&RANK(C2,$B2:$R2,0)","v":"15"},"9","3","10","14","4","16","=5","17","2","12","=7","=5","=7","11","13"]
["1) INTELLECTUAL PROPERTY",{"$f":"IF(B48>1,\"=\",\"\")&RANK(B3,$B3:$R3,0)","v":"=1"},"=13","=7","=3","=10","=13","=3","=16","=7","=16","=1","=10","=3","=7","=3","=13","=10"]
["1.1)   Protection of IP rights",{"$f":"IF(B49>1,\"=\",\"\")&RANK(B4,$B4:$R4,0)","v":"=1"},"=11","=8","=4","=8","=11","=4","=16","=4","=16","=1","=11","=1","=8","=4","=11","=11"]
["1.2)   Customs recordal system",{"$f":"IF(B50>1,\"=\",\"\")&RANK(B5,$B5:$R5,0)","v":"=1"},"=10","=1","=1","=10","=10","=1","=10","=10","=10","=1","=1","=10","=1","=1","=10","=1"]
["2) TRANSPARENCY AND TRADE",{"$f":"IF(B51>1,\"=\",\"\")&RANK(B6,$B6:$R6,0)","v":"4"},"15","5","9","8","6","3","17","2","16","12","7","14","1","13","10","11"]
["2.1)   Track and trace services",{"$f":"IF(B52>1,\"=\",\"\")&RANK(B7,$B7:$R7,0)","v":"=4"},"17","=8","=2","=12","=12","1","16","7","15","10","14","=2","6","=4","=8","11"]
["2.2)   Adoption of Annex D of Revised Kyoto Convention  ",{"$f":"IF(B53>1,\"=\",\"\")&RANK(B8,$B8:$R8,0)","v":"=1"},"=1","=1","=13","=1","=1","=1","=13","=1","=13","=1","=1","=13","=1","=13","=1","=1"]
["2.3)   Government cooperation",{"$f":"IF(B54>1,\"=\",\"\")&RANK(B9,$B9:$R9,0)","v":"=1"},"=10","=1","=1","=1","=1","=1","=10","=1","=10","=10","=1","=10","=1","=10","=10","=10"]
["2.4)   FTZ governance ",{"$f":"IF(B55>1,\"=\",\"\")&RANK(B10,$B10:$R10,0)","v":"=8"},"=15","=8","=1","=12","=8","=6","=15","=1","=15","=12","=8","=12","=1","=1","=1","=6"]
["3) CUSTOMS ENVIRONMENT",{"$f":"IF(B56>1,\"=\",\"\")&RANK(B11,$B11:$R11,0)","v":"2"},"15","11","4","10","13","7","17","8","16","3","14","1","6","5","9","12"]
["3.1) Percentage of shipments physically inspected",{"$f":"IF(B57>1,\"=\",\"\")&RANK(B12,$B12:$R12,0)","v":"=10"},"=15","6","=13","2","5","=8","=15","=10","=15","=13","4","7","3","=10","=8","1"]
["3.2)   Customs clearance and inspection",{"$f":"IF(B58>1,\"=\",\"\")&RANK(B13,$B13:$R13,0)","v":"=1"},"11","=12","=1","=12","=12","=8","17","=1","=12","=1","=8","=1","=1","=1","=8","=12"]
["3.3)   Automation",{"$f":"IF(B59>1,\"=\",\"\")&RANK(B14,$B14:$R14,0)","v":"=7"},"15","=3","=1","=3","10","13","=16","=11","=16","=7","14","=1","9","=3","=3","=11"]
["3.4)   Corruption",{"$f":"IF(B60>1,\"=\",\"\")&RANK(B15,$B15:$R15,0)","v":"=1"},"=13","=9","=4","=9","=13","=4","=13","=7","=13","=1","=13","=1","=7","=4","=9","=9"]
["3.5) Accredited Economic Operator programme",{"$f":"IF(B61>1,\"=\",\"\")&RANK(B16,$B16:$R16,0)","v":"=1"},"=14","=1","=1","=1","=12","=1","=14","=1","=14","=1","=14","=1","=1","=1","=1","=12"]
["4) SUPPLY AND DEMAND",{"$f":"IF(B62>1,\"=\",\"\")&RANK(B17,$B17:$R17,0)","v":"5"},"16","=11","1","15","=11","=6","14","=6","17","2","10","3","9","4","8","=11"]
["4.1)   Tax and social security burdens",{"$f":"IF(B63>1,\"=\",\"\")&RANK(B18,$B18:$R18,0)","v":"=3"},"=8","=8","=1","=8","=8","=3","=8","=3","17","=1","=8","=3","=8","=3","=8","=8"]
["4.2)   Quality of state institutions",{"$f":"IF(B64>1,\"=\",\"\")&RANK(B19,$B19:$R19,0)","v":"3"},"=16","=11","4","=9","=11","=5","15","=5","=16","=1","=11","=1","=5","=5","=9","=11"]
["4.3)   Labour market regulations",{"$f":"IF(B65>1,\"=\",\"\")&RANK(B20,$B20:$R20,0)","v":"=7"},"=15","=7","1","=15","=7","=7","=7","=7","=15","=2","=2","=2","=7","=2","=2","=7"]
[]
[]
[]
[{"$f":"A25","v":"OVERALL SCORE"},{"$f":"COUNTIF($B2:$R2,\"=\"&B2)","v":1},{"$f":"COUNTIF($B2:$R2,\"=\"&C2)","v":1},1,1,1,1,1,1,2,1,1,1,2,2,2,1,1]
[{"$f":"A26","v":"1) INTELLECTUAL PROPERTY"},{"$f":"COUNTIF($B3:$R3,\"=\"&B3)","v":2},3,3,4,3,3,4,2,3,2,2,3,4,3,4,3,3]
["1.1)   Protection of IP rights",3,5,3,4,3,5,4,2,4,2,3,5,3,3,4,5,5]
["1.2)   Customs recordal system",9,8,9,9,8,8,9,8,8,8,9,9,8,9,9,8,9]
["2) TRANSPARENCY AND TRADE",1,1,1,1,1,1,1,1,1,1,1,1,1,1,1,1,1]
["2.1)   Track and trace services",2,1,2,2,2,2,1,1,1,1,1,1,2,1,2,2,1]
["2.2)   Adoption of Annex D of Revised Kyoto Convention  ",12,12,12,5,12,12,12,5,12,5,12,12,5,12,5,12,12]
["2.3)   Government cooperation",9,8,9,9,9,9,9,8,9,8,8,9,8,9,8,8,8]
["2.4)   FTZ governance ",4,3,4,5,3,4,2,3,5,3,3,4,3,5,5,5,2]
["3) CUSTOMS ENVIRONMENT",1,1,1,1,1,1,1,1,1,1,1,1,1,1,1,1,1]
["3.1) Percentage of shipments physically inspected",3,3,1,2,1,1,2,3,3,3,2,1,1,1,3,2,1]
["3.2)   Customs clearance and inspection",7,1,5,7,5,5,3,1,7,5,7,3,7,7,7,3,5]
["3.3)   Automation",2,1,4,2,4,1,1,2,2,2,2,1,2,1,4,4,2]
["3.4)   Corruption",3,5,4,3,4,5,3,5,2,5,3,5,3,2,3,4,4]
["3.5) Accredited Economic Operator programme",11,4,11,11,11,2,11,4,11,4,11,4,11,11,11,11,2]
["4) SUPPLY AND DEMAND",1,1,3,1,1,3,2,1,2,1,1,1,1,1,1,1,3]
["4.1)   Tax and social security burdens",5,{"$f":"COUNTIF($B18:$R18,\"=\"&C18)","v":9},9,2,9,9,5,9,5,1,2,9,5,9,5,9,9]
["4.2)   Quality of state institutions",1,2,4,1,2,4,4,1,4,2,2,4,2,4,4,2,4]
["4.3)   Labour market regulations",8,3,8,1,3,8,8,8,8,3,5,5,5,8,5,5,8]
[]
[]
[]
["RANK (number only)"]
[]
[{"$f":"A25","v":"OVERALL SCORE"},{"$f":"RANK(B2,$B2:$R2,0)","v":1},{"$f":"RANK(C2,$B2:$R2,0)","v":15},9,3,10,14,4,16,5,17,2,12,7,5,7,11,13]
[{"$f":"A26","v":"1) INTELLECTUAL PROPERTY"},{"$f":"RANK(B3,$B3:$R3,0)","v":1},13,7,3,10,13,3,16,7,16,1,10,3,7,3,13,10]
["1.1)   Protection of IP rights",{"$f":"RANK(B4,$B4:$R4,0)","v":1},11,8,4,8,11,4,16,4,16,1,11,1,8,4,11,11]
["1.2)   Customs recordal system",{"$f":"RANK(B5,$B5:$R5,0)","v":1},10,1,1,10,10,1,10,10,10,1,1,10,1,1,10,1]
["2) TRANSPARENCY AND TRADE",{"$f":"RANK(B6,$B6:$R6,0)","v":4},15,5,9,8,6,3,17,2,16,12,7,14,1,13,10,11]
["2.1)   Track and trace services",{"$f":"RANK(B7,$B7:$R7,0)","v":4},17,8,2,12,12,1,16,7,15,10,14,2,6,4,8,11]
["2.2)   Adoption of Annex D of Revised Kyoto Convention  ",{"$f":"RANK(B8,$B8:$R8,0)","v":1},1,1,13,1,1,1,13,1,13,1,1,13,1,13,1,1]
["2.3)   Government cooperation",{"$f":"RANK(B9,$B9:$R9,0)","v":1},10,1,1,1,1,1,10,1,10,10,1,10,1,10,10,10]
["2.4)   FTZ governance ",{"$f":"RANK(B10,$B10:$R10,0)","v":8},15,8,1,12,8,6,15,1,15,12,8,12,1,1,1,6]
["3) CUSTOMS ENVIRONMENT",{"$f":"RANK(B11,$B11:$R11,0)","v":2},15,11,4,10,13,7,17,8,16,3,14,1,6,5,9,12]
["3.1) Percentage of shipments physically inspected",{"$f":"RANK(B12,$B12:$R12,0)","v":10},15,6,13,2,5,8,15,10,15,13,4,7,3,10,8,1]
["3.2)   Customs clearance and inspection",{"$f":"RANK(B13,$B13:$R13,0)","v":1},11,12,1,12,12,8,17,1,12,1,8,1,1,1,8,12]
["3.3)   Automation",{"$f":"RANK(B14,$B14:$R14,0)","v":7},15,3,1,3,10,13,16,11,16,7,14,1,9,3,3,11]
["3.4)   Corruption",{"$f":"RANK(B15,$B15:$R15,0)","v":1},13,9,4,9,13,4,13,7,13,1,13,1,7,4,9,9]
["3.5) Accredited Economic Operator programme",{"$f":"RANK(B16,$B16:$R16,0)","v":1},14,1,1,1,12,1,14,1,14,1,14,1,1,1,1,12]
["4) SUPPLY AND DEMAND",{"$f":"RANK(B17,$B17:$R17,0)","v":5},16,11,1,15,11,6,14,6,17,2,10,3,9,4,8,11]
["4.1)   Tax and social security burdens",{"$f":"RANK(B18,$B18:$R18,0)","v":3},8,8,1,8,8,3,8,3,17,1,8,3,8,3,8,8]
["4.2)   Quality of state institutions",{"$f":"RANK(B19,$B19:$R19,0)","v":3},16,11,4,9,11,5,15,5,16,1,11,1,5,5,9,11]
["4.3)   Labour market regulations",{"$f":"RANK(B20,$B20:$R20,0)","v":7},15,7,1,15,7,7,7,7,15,2,2,2,7,2,2,7]

{"sheet":"iWeights","index":28,"n_rows":38,"n_cols":21,"rows_kept":38,"cut":false,"hidden":true,"merged":[]}
[]
["Weight Profile Names",null,null,null,null,null,null,1,1,2,3,4,5,6,7,8,9]
["Final Weighting",null,"Code","Row","Level","Indicator/Category Name",null,{"$f":"A3","v":"Final Weighting"},{"$f":"INDEX($A$4:$A$12,I2)","v":"Equal Weighting"},"Spare#2","Spare#3","Spare#4","Spare#5","Spare#7","Spare#8","Spare#9","Spare#10",null,"if Changed from Neutral",null,{"$f":"IF(SUM(U5:U31)=0,0,1)","v":0}]
["Equal Weighting"]
["Spare#2",null,{"$f":"tblIndiSets!A6","v":"IP"},{"$f":"tblIndiSets!B6","v":2},{"$f":"INDEX(OFFSET(lu_indicode,0,2),D5)","v":1},{"$f":"tblIndiSets!C6","v":"1) INTELLECTUAL PROPERTY"},{"$f":"IF(E5=1,UPPER(F5),F5)","v":"1) INTELLECTUAL PROPERTY"},1,0.21052631578947367,1,1,1,1,1,1,1,1,null,1,{"$f":"Weights!G7","v":1},{"$f":"IF(AND(T5=S5),0,1)","v":0}]
["Spare#3",null,{"$f":"tblIndiSets!A7","v":"TT"},{"$f":"tblIndiSets!B7","v":5},{"$f":"INDEX(OFFSET(lu_indicode,0,2),D6)","v":1},{"$f":"tblIndiSets!C7","v":"2) TRANSPARENCY AND TRADE"},{"$f":"IF(E6=1,UPPER(F6),F6)","v":"2) TRANSPARENCY AND TRADE"},1,0.21052631578947367,1,1,1,1,1,1,1,1,null,1,{"$f":"Weights!G8","v":1},{"$f":"IF(AND(T6=S6),0,1)","v":0}]
["Spare#4",null,{"$f":"tblIndiSets!A8","v":"CE"},{"$f":"tblIndiSets!B8","v":10},{"$f":"INDEX(OFFSET(lu_indicode,0,2),D7)","v":1},{"$f":"tblIndiSets!C8","v":"3) CUSTOMS ENVIRONMENT"},"3) CUSTOMS ENVIRONMENT",1,0.26315789473684209,1,1,1,1,1,1,1,1,null,1,{"$f":"Weights!G9","v":1},0]
["Spare#5",null,{"$f":"tblIndiSets!A9","v":"SD"},{"$f":"tblIndiSets!B9","v":16},{"$f":"INDEX(OFFSET(lu_indicode,0,2),D8)","v":1},{"$f":"tblIndiSets!C9","v":"4) SUPPLY AND DEMAND"},"4) SUPPLY AND DEMAND",1,0.26315789473684209,1,1,1,1,1,1,1,1,null,1,{"$f":"Weights!G10","v":1},0]
["Spare#7"]
["Spare#8"]
["Spare#9",null,{"$f":"tblIndiSets!A14","v":"IP"},{"$f":"tblIndiSets!B14","v":2},{"$f":"INDEX(OFFSET(lu_indicode,0,2),D11)","v":1},{"$f":"tblIndiSets!C14","v":"1) INTELLECTUAL PROPERTY"},{"$f":"IF(E11=1,UPPER(F11),F11)","v":"1) INTELLECTUAL PROPERTY"}]
["Spare#10",null,{"$f":"tblIndiSets!A15","v":"IP_11"},{"$f":"tblIndiSets!B15","v":3},2,{"$f":"tblIndiSets!C15","v":"1.1)   Protection of IP rights"},{"$f":"IF(E12=1,UPPER(F12),F12)","v":"1.1)   Protection of IP rights"},4,1,1,1,1,1,1,1,1,1,null,4,{"$f":"Weights!G14","v":4},0]
[null,null,{"$f":"tblIndiSets!A16","v":"IP_13"},{"$f":"tblIndiSets!B16","v":4},2,{"$f":"tblIndiSets!C16","v":"1.2)   Customs recordal system"},"1.2)   Customs recordal system",1,1,1,1,1,1,1,1,1,1,null,1,{"$f":"Weights!G15","v":1},0]
[null,null,{"$f":"tblIndiSets!A17","v":"TT"},{"$f":"tblIndiSets!B17","v":5},1,{"$f":"tblIndiSets!C17","v":"2) TRANSPARENCY AND TRADE"},"2) TRANSPARENCY AND TRADE"]
[null,null,{"$f":"tblIndiSets!A18","v":"TT_21"},{"$f":"tblIndiSets!B18","v":6},2,{"$f":"tblIndiSets!C18","v":"2.1)   Track and trace services"},"2.1)   Track and trace services",1,1,1,1,1,1,1,1,1,1,null,1,{"$f":"Weights!G17","v":1},0]
[null,null,{"$f":"tblIndiSets!A19","v":"TT_22"},{"$f":"tblIndiSets!B19","v":7},2,{"$f":"tblIndiSets!C19","v":"2.2)   Adoption of Annex D of Revised Kyoto Convention  "},"2.2)   Adoption of Annex D of Revised Kyoto Convention  ",1,1,1,1,1,1,1,1,1,1,null,1,{"$f":"Weights!G18","v":1},0]
[null,null,{"$f":"tblIndiSets!A20","v":"TT_23"},{"$f":"tblIndiSets!B20","v":8},2,{"$f":"tblIndiSets!C20","v":"2.3)   Government cooperation"},"2.3)   Government cooperation",1,1,1,1,1,1,1,1,1,1,null,1,{"$f":"Weights!G19","v":1},0]
[null,null,{"$f":"tblIndiSets!A21","v":"TT_24"},{"$f":"tblIndiSets!B21","v":9},2,{"$f":"tblIndiSets!C21","v":"2.4)   FTZ governance "},"2.4)   FTZ governance ",1,1,1,1,1,1,1,1,1,1,null,1,{"$f":"Weights!G20","v":1},0]
[null,null,{"$f":"tblIndiSets!A22","v":"CE"},{"$f":"tblIndiSets!B22","v":10},1,{"$f":"tblIndiSets!C22","v":"3) CUSTOMS ENVIRONMENT"},"3) CUSTOMS ENVIRONMENT"]
[null,null,{"$f":"tblIndiSets!A23","v":"CE_31"},{"$f":"tblIndiSets!B23","v":11},2,{"$f":"tblIndiSets!C23","v":"3.1) Percentage of shipments physically inspected"},"3.1) Percentage of shipments physically inspected",0.5,1,1,1,1,1,1,1,1,1,null,0.5,{"$f":"Weights!G22","v":0.5},0]
[27,null,{"$f":"tblIndiSets!A24","v":"CE_32"},{"$f":"tblIndiSets!B24","v":12},2,{"$f":"tblIndiSets!C24","v":"3.2)   Customs clearance and inspection"},"3.2)   Customs clearance and inspection",1,1,1,1,1,1,1,1,1,1,null,1,{"$f":"Weights!G23","v":1},0]
[4,null,{"$f":"tblIndiSets!A25","v":"CE_33"},{"$f":"tblIndiSets!B25","v":13},2,{"$f":"tblIndiSets!C25","v":"3.3)   Automation"},"3.3)   Automation",1,1,1,1,1,1,1,1,1,1,null,1,{"$f":"Weights!G24","v":1},0]
[null,null,{"$f":"tblIndiSets!A26","v":"CE_34"},{"$f":"tblIndiSets!B26","v":14},2,{"$f":"tblIndiSets!C26","v":"3.4)   Corruption"},"3.4)   Corruption",1,1,1,1,1,1,1,1,1,1,null,1,{"$f":"Weights!G25","v":1},0]
[null,null,{"$f":"tblIndiSets!A27","v":"CE_35"},{"$f":"tblIndiSets!B27","v":15},2,{"$f":"tblIndiSets!C27","v":"3.5) Accredited Economic Operator programme"},"3.5) Accredited Economic Operator programme",1,1,1,1,1,1,1,1,1,1,null,1,{"$f":"Weights!G26","v":1},0]
[null,null,{"$f":"tblIndiSets!A28","v":"SD"},{"$f":"tblIndiSets!B28","v":16},1,{"$f":"tblIndiSets!C28","v":"4) SUPPLY AND DEMAND"},"4) SUPPLY AND DEMAND"]
[null,null,{"$f":"tblIndiSets!A29","v":"SD_41"},{"$f":"tblIndiSets!B29","v":17},2,{"$f":"tblIndiSets!C29","v":"4.1)   Tax and social security burdens"},"4.1)   Tax and social security burdens",1,1,1,1,1,1,1,1,1,1,null,1,{"$f":"Weights!G28","v":1},0]
[null,null,{"$f":"tblIndiSets!A30","v":"SD_42"},{"$f":"tblIndiSets!B30","v":18},2,{"$f":"tblIndiSets!C30","v":"4.2)   Quality of state institutions"},"4.2)   Quality of state institutions",1,1,1,1,1,1,1,1,1,1,null,1,{"$f":"Weights!G29","v":1},0]
[null,null,{"$f":"tblIndiSets!A31","v":"SD_43"},{"$f":"tblIndiSets!B31","v":19},2,{"$f":"tblIndiSets!C31","v":"4.3)   Labour market regulations"},"4.3)   Labour market regulations",1,1,1,1,1,1,1,1,1,1,null,1,{"$f":"Weights!G30","v":1},0]
[]
[]
[]
[]
[]
[]
["Notice of weight change"]
[]
[]
["The weightings profile has been changed from it's default setting."]

{"sheet":"Weights","index":29,"n_rows":30,"n_cols":10,"rows_kept":30,"cut":false,"hidden":true,"merged":[]}
[]
[]
[null,null,null,null,null,"SELECT WEIGHT PROFILE"]
[]
[]
[null,null,null,null,null,"MAIN CATEGORIES",null,"Weight %"]
[null,null,{"$f":"iWeights!C5","v":"IP"},{"$f":"iWeights!D5","v":2},{"$f":"iWeights!E5","v":1},{"$f":"iWeights!F5","v":"1) INTELLECTUAL PROPERTY"},1,{"$f":"INDEX(tblIndicators!AA$2:AA$20,D7)","v":0.25},null,{"$f":"REPT(\"|\",H7*50)","v":"||||||||||||"}]
[null,null,{"$f":"iWeights!C6","v":"TT"},{"$f":"iWeights!D6","v":5},{"$f":"iWeights!E6","v":1},{"$f":"iWeights!F6","v":"2) TRANSPARENCY AND TRADE"},1,{"$f":"INDEX(tblIndicators!AA$2:AA$20,D8)","v":0.25},null,{"$f":"REPT(\"|\",H8*50)","v":"||||||||||||"}]
[null,null,{"$f":"iWeights!C7","v":"CE"},{"$f":"iWeights!D7","v":10},{"$f":"iWeights!E7","v":1},{"$f":"iWeights!F7","v":"3) CUSTOMS ENVIRONMENT"},1,{"$f":"INDEX(tblIndicators!AA$2:AA$20,D9)","v":0.25},null,"||||||||||||"]
[null,null,{"$f":"iWeights!C8","v":"SD"},{"$f":"iWeights!D8","v":16},{"$f":"iWeights!E8","v":1},{"$f":"iWeights!F8","v":"4) SUPPLY AND DEMAND"},1,{"$f":"INDEX(tblIndicators!AA$2:AA$20,D10)","v":0.25},null,"||||||||||||"]
[]
[null,null,null,null,null,"INDICATORS",null,"Weight %"]
[null,null,{"$f":"iWeights!C11","v":"IP"},{"$f":"iWeights!D11","v":2},{"$f":"iWeights!E11","v":1},{"$f":"iWeights!F11","v":"1) INTELLECTUAL PROPERTY"}]
[null,null,{"$f":"iWeights!C12","v":"IP_11"},{"$f":"iWeights!D12","v":3},{"$f":"iWeights!E12","v":2},{"$f":"iWeights!F12","v":"1.1)   Protection of IP rights"},4,{"$f":"INDEX(tblIndicators!AA$2:AA$20,D14)","v":0.8},null,{"$f":"REPT(\"|\",H14*50)","v":"||||||||||||||||||||||||||||||||||||||||"}]
[null,null,{"$f":"iWeights!C13","v":"IP_13"},{"$f":"iWeights!D13","v":4},{"$f":"iWeights!E13","v":2},{"$f":"iWeights!F13","v":"1.2)   Customs recordal system"},1,{"$f":"INDEX(tblIndicators!AA$2:AA$20,D15)","v":0.2},null,{"$f":"REPT(\"|\",H15*50)","v":"||||||||||"}]
[null,null,{"$f":"iWeights!C14","v":"TT"},{"$f":"iWeights!D14","v":5},{"$f":"iWeights!E14","v":1},{"$f":"iWeights!F14","v":"2) TRANSPARENCY AND TRADE"}]
[null,null,{"$f":"iWeights!C15","v":"TT_21"},{"$f":"iWeights!D15","v":6},{"$f":"iWeights!E15","v":2},{"$f":"iWeights!F15","v":"2.1)   Track and trace services"},1,{"$f":"INDEX(tblIndicators!AA$2:AA$20,D17)","v":0.25},null,"||||||||||||"]
[null,null,{"$f":"iWeights!C16","v":"TT_22"},{"$f":"iWeights!D16","v":7},{"$f":"iWeights!E16","v":2},{"$f":"iWeights!F16","v":"2.2)   Adoption of Annex D of Revised Kyoto Convention  "},1,{"$f":"INDEX(tblIndicators!AA$2:AA$20,D18)","v":0.25},null,"||||||||||||"]
[null,null,{"$f":"iWeights!C17","v":"TT_23"},{"$f":"iWeights!D17","v":8},{"$f":"iWeights!E17","v":2},{"$f":"iWeights!F17","v":"2.3)   Government cooperation"},1,{"$f":"INDEX(tblIndicators!AA$2:AA$20,D19)","v":0.25},null,"||||||||||||"]
[null,null,{"$f":"iWeights!C18","v":"TT_24"},{"$f":"iWeights!D18","v":9},{"$f":"iWeights!E18","v":2},{"$f":"iWeights!F18","v":"2.4)   FTZ governance "},1,{"$f":"INDEX(tblIndicators!AA$2:AA$20,D20)","v":0.25},null,"||||||||||||"]
[null,null,{"$f":"iWeights!C19","v":"CE"},{"$f":"iWeights!D19","v":10},{"$f":"iWeights!E19","v":1},{"$f":"iWeights!F19","v":"3) CUSTOMS ENVIRONMENT"}]
[null,null,{"$f":"iWeights!C20","v":"CE_31"},{"$f":"iWeights!D20","v":11},{"$f":"iWeights!E20","v":2},{"$f":"iWeights!F20","v":"3.1) Percentage of shipments physically inspected"},0.5,{"$f":"INDEX(tblIndicators!AA$2:AA$20,D22)","v":0.1111111111111111},null,"|||||"]
[null,null,{"$f":"iWeights!C21","v":"CE_32"},{"$f":"iWeights!D21","v":12},{"$f":"iWeights!E21","v":2},{"$f":"iWeights!F21","v":"3.2)   Customs clearance and inspection"},1,{"$f":"INDEX(tblIndicators!AA$2:AA$20,D23)","v":0.22222222222222221},null,"|||||||||||"]
[null,null,{"$f":"iWeights!C22","v":"CE_33"},{"$f":"iWeights!D22","v":13},{"$f":"iWeights!E22","v":2},{"$f":"iWeights!F22","v":"3.3)   Automation"},1,{"$f":"INDEX(tblIndicators!AA$2:AA$20,D24)","v":0.22222222222222221},null,"|||||||||||"]
[null,null,{"$f":"iWeights!C23","v":"CE_34"},{"$f":"iWeights!D23","v":14},{"$f":"iWeights!E23","v":2},{"$f":"iWeights!F23","v":"3.4)   Corruption"},1,{"$f":"INDEX(tblIndicators!AA$2:AA$20,D25)","v":0.22222222222222221},null,"|||||||||||"]
[null,null,{"$f":"iWeights!C24","v":"CE_35"},{"$f":"iWeights!D24","v":15},{"$f":"iWeights!E24","v":2},{"$f":"iWeights!F24","v":"3.5) Accredited Economic Operator programme"},1,{"$f":"INDEX(tblIndicators!AA$2:AA$20,D26)","v":0.22222222222222221},null,"|||||||||||"]
[null,null,{"$f":"iWeights!C25","v":"SD"},{"$f":"iWeights!D25","v":16},{"$f":"iWeights!E25","v":1},{"$f":"iWeights!F25","v":"4) SUPPLY AND DEMAND"}]
[null,null,{"$f":"iWeights!C26","v":"SD_41"},{"$f":"iWeights!D26","v":17},{"$f":"iWeights!E26","v":2},{"$f":"iWeights!F26","v":"4.1)   Tax and social security burdens"},1,{"$f":"INDEX(tblIndicators!AA$2:AA$20,D28)","v":0.33333333333333331},null,"||||||||||||||||"]
[null,null,{"$f":"iWeights!C27","v":"SD_42"},{"$f":"iWeights!D27","v":18},{"$f":"iWeights!E27","v":2},{"$f":"iWeights!F27","v":"4.2)   Quality of state institutions"},1,{"$f":"INDEX(tblIndicators!AA$2:AA$20,D29)","v":0.33333333333333331},null,"||||||||||||||||"]
[null,null,{"$f":"iWeights!C28","v":"SD_43"},{"$f":"iWeights!D28","v":19},{"$f":"iWeights!E28","v":2},{"$f":"iWeights!F28","v":"4.3)   Labour market regulations"},1,{"$f":"INDEX(tblIndicators!AA$2:AA$20,D30)","v":0.33333333333333331},null,"||||||||||||||||"]

{"sheet":"iScoresWS2","index":30,"n_rows":23,"n_cols":32,"rows_kept":23,"cut":false,"hidden":true,"merged":[]}
[]
[]
[null,null,null,null,null,null,null,null,null,null,null,null,null,null,null,{"$f":"Data!J3","v":3},{"$f":"Data!K3","v":4},{"$f":"Data!L3","v":5},{"$f":"Data!M3","v":6},{"$f":"Data!N3","v":7},{"$f":"Data!O3","v":8},{"$f":"Data!P3","v":9},{"$f":"Data!Q3","v":10},{"$f":"Data!R3","v":11},{"$f":"Data!S3","v":12},{"$f":"Data!T3","v":13},{"$f":"Data!U3","v":14},{"$f":"Data!V3","v":15},{"$f":"Data!W3","v":16},{"$f":"Data!X3","v":17},{"$f":"Data!Y3","v":18},{"$f":"Data!Z3","v":19}]
[null,{"$f":"tblIndicators!A1","v":"ID"},{"$f":"tblIndicators!B1","v":"IS_BG"},{"$f":"tblIndicators!D1","v":"INDI_CODE"},{"$f":"tblIndicators!E1","v":"PARENT_CODE"},{"$f":"tblIndicators!F1","v":"DEPTH"},{"$f":"tblIndicators!V1","v":"HIGH_IS"},{"$f":"tblIndicators!W1","v":"NORM_ID (1=sumproduct, 2=min max set by data values, 3=min max set by user here)"},{"$f":"tblIndicators!X1","v":"Set Min"},{"$f":"tblIndicators!Y1","v":"Set Max"},"MIN","MAX","RANGE","Indicators","Weight",{"$f":"Data!J4","v":"Australia"},{"$f":"Data!K4","v":"Cambodia"},{"$f":"Data!L4","v":"China"},{"$f":"Data!M4","v":"Hong Kong"},{"$f":"Data!N4","v":"India"},{"$f":"Data!O4","v":"Indonesia"},{"$f":"Data!P4","v":"Japan"},{"$f":"Data!Q4","v":"Laos "},{"$f":"Data!R4","v":"Malaysia"},{"$f":"Data!S4","v":"Myanmar"},{"$f":"Data!T4","v":"New Zealand"},{"$f":"Data!U4","v":"Philippines"},{"$f":"Data!V4","v":"Singapore"},{"$f":"Data!W4","v":"South Korea"},{"$f":"Data!X4","v":"Taiwan"},{"$f":"Data!Y4","v":"Thailand"},{"$f":"Data!Z4","v":"Vietnam "}]
[null,{"$f":"tblIndicators!A2","v":1},{"$f":"tblIndicators!B2","v":0},{"$f":"tblIndicators!D2","v":"TOTAL"},{"$f":"tblIndicators!E2","v":"OVERALL SCORE"},{"$f":"tblIndicators!F2","v":0},{"$f":"tblIndicators!V2","v":""},{"$f":"tblIndicators!W2","v":1},{"$f":"tblIndicators!X2","v":0},{"$f":"tblIndicators!Y2","v":0},{"$f":"CHOOSE(H5,\"-\",MIN(Data!J5:Z5),I5)","v":"-"},{"$f":"CHOOSE(H5,\"-\",MAX(Data!J5:Z5),J5)","v":"-"},{"$f":"CHOOSE(H5,\"-\",L5-K5,L5-K5)","v":"-"},{"$f":"tblIndicators!AB2","v":"OVERALL SCORE"},null,{"$f":"IF($H5=0,0,CHOOSE($H5,SUMPRODUCT($O6:$O$23*P6:P$23*($E6:$E$23=$D5)),IF(ISNUMBER(Data!J5),100*ABS($G5-(Data!J5-$K5)/$M5),0),IF(ISNUMBER(Data!J5),100*ABS($G5-(Data!J5-$K5)/$M5),0)))","v":85.203537454070016},{"$f":"IF($H5=0,0,CHOOSE($H5,SUMPRODUCT($O6:$O$23*Q6:Q$23*($E6:$E$23=$D5)),IF(ISNUMBER(Data!K5),100*ABS($G5-(Data!K5-$K5)/$M5),0),IF(ISNUMBER(Data!K5),100*ABS($G5-(Data!K5-$K5)/$M5),0)))","v":23.921744324970128},{"$f":"IF($H5=0,0,CHOOSE($H5,SUMPRODUCT($O6:$O$23*R6:R$23*($E6:$E$23=$D5)),IF(ISNUMBER(Data!L5),100*ABS($G5-(Data!L5-$K5)/$M5),0),IF(ISNUMBER(Data!L5),100*ABS($G5-(Data!L5-$K5)/$M5),0)))","v":61.576553729627371},{"$f":"IF($H5=0,0,CHOOSE($H5,SUMPRODUCT($O6:$O$23*S6:S$23*($E6:$E$23=$D5)),IF(ISNUMBER(Data!M5),100*ABS($G5-(Data!M5-$K5)/$M5),0),IF(ISNUMBER(Data!M5),100*ABS($G5-(Data!M5-$K5)/$M5),0)))","v":81.408892382948977},{"$f":"IF($H5=0,0,CHOOSE($H5,SUMPRODUCT($O6:$O$23*T6:T$23*($E6:$E$23=$D5)),IF(ISNUMBER(Data!N5),100*ABS($G5-(Data!N5-$K5)/$M5),0),IF(ISNUMBER(Data!N5),100*ABS($G5-(Data!N5-$K5)/$M5),0)))","v":54.142809844232545},{"$f":"IF($H5=0,0,CHOOSE($H5,SUMPRODUCT($O6:$O$23*U6:U$23*($E6:$E$23=$D5)),IF(ISNUMBER(Data!O5),100*ABS($G5-(Data!O5-$K5)/$M5),0),IF(ISNUMBER(Data!O5),100*ABS($G5-(Data!O5-$K5)/$M5),0)))","v":46.066240616757959},{"$f":"IF($H5=0,0,CHOOSE($H5,SUMPRODUCT($O6:$O$23*V6:V$23*($E6:$E$23=$D5)),IF(ISNUMBER(Data!P5),100*ABS($G5-(Data!P5-$K5)/$M5),0),IF(ISNUMBER(Data!P5),100*ABS($G5-(Data!P5-$K5)/$M5),0)))","v":75.85877093618268},{"$f":"IF($H5=0,0,CHOOSE($H5,SUMPRODUCT($O6:$O$23*W6:W$23*($E6:$E$23=$D5)),IF(ISNUMBER(Data!Q5),100*ABS($G5-(Data!Q5-$K5)/$M5),0),IF(ISNUMBER(Data!Q5),100*ABS($G5-(Data!Q5-$K5)/$M5),0)))","v":12.935185185185183},{"$f":"IF($H5=0,0,CHOOSE($H5,SUMPRODUCT($O6:$O$23*X6:X$23*($E6:$E$23=$D5)),IF(ISNUMBER(Data!R5),100*ABS($G5-(Data!R5-$K5)/$M5),0),IF(ISNUMBER(Data!R5),100*ABS($G5-(Data!R5-$K5)/$M5),0)))","v":71.800162304727124},{"$f":"IF($H5=0,0,CHOOSE($H5,SUMPRODUCT($O6:$O$23*Y6:Y$23*($E6:$E$23=$D5)),IF(ISNUMBER(Data!S5),100*ABS($G5-(Data!S5-$K5)/$M5),0),IF(ISNUMBER(Data!S5),100*ABS($G5-(Data!S5-$K5)/$M5),0)))","v":10.82037037037037},{"$f":"IF($H5=0,0,CHOOSE($H5,SUMPRODUCT($O6:$O$23*Z6:Z$23*($E6:$E$23=$D5)),IF(ISNUMBER(Data!T5),100*ABS($G5-(Data!T5-$K5)/$M5),0),IF(ISNUMBER(Data!T5),100*ABS($G5-(Data!T5-$K5)/$M5),0)))","v":81.806219145195101},{"$f":"IF($H5=0,0,CHOOSE($H5,SUMPRODUCT($O6:$O$23*AA6:AA$23*($E6:$E$23=$D5)),IF(ISNUMBER(Data!U5),100*ABS($G5-(Data!U5-$K5)/$M5),0),IF(ISNUMBER(Data!U5),100*ABS($G5-(Data!U5-$K5)/$M5),0)))","v":50.411355131759876},{"$f":"IF($H5=0,0,CHOOSE($H5,SUMPRODUCT($O6:$O$23*AB6:AB$23*($E6:$E$23=$D5)),IF(ISNUMBER(Data!V5),100*ABS($G5-(Data!V5-$K5)/$M5),0),IF(ISNUMBER(Data!V5),100*ABS($G5-(Data!V5-$K5)/$M5),0)))","v":69.755110062893081},{"$f":"IF($H5=0,0,CHOOSE($H5,SUMPRODUCT($O6:$O$23*AC6:AC$23*($E6:$E$23=$D5)),IF(ISNUMBER(Data!W5),100*ABS($G5-(Data!W5-$K5)/$M5),0),IF(ISNUMBER(Data!W5),100*ABS($G5-(Data!W5-$K5)/$M5),0)))","v":71.827356799891803},{"$f":"IF($H5=0,0,CHOOSE($H5,SUMPRODUCT($O6:$O$23*AD6:AD$23*($E6:$E$23=$D5)),IF(ISNUMBER(Data!X5),100*ABS($G5-(Data!X5-$K5)/$M5),0),IF(ISNUMBER(Data!X5),100*ABS($G5-(Data!X5-$K5)/$M5),0)))","v":69.814499222289854},{"$f":"IF($H5=0,0,CHOOSE($H5,SUMPRODUCT($O6:$O$23*AE6:AE$23*($E6:$E$23=$D5)),IF(ISNUMBER(Data!Y5),100*ABS($G5-(Data!Y5-$K5)/$M5),0),IF(ISNUMBER(Data!Y5),100*ABS($G5-(Data!Y5-$K5)/$M5),0)))","v":53.103021234868464},{"$f":"IF($H5=0,0,CHOOSE($H5,SUMPRODUCT($O6:$O$23*AF6:AF$23*($E6:$E$23=$D5)),IF(ISNUMBER(Data!Z5),100*ABS($G5-(Data!Z5-$K5)/$M5),0),IF(ISNUMBER(Data!Z5),100*ABS($G5-(Data!Z5-$K5)/$M5),0)))","v":49.355062724014331}]
[null,{"$f":"tblIndicators!A3","v":2},{"$f":"tblIndicators!B3","v":0},{"$f":"tblIndicators!D3","v":"IP"},{"$f":"tblIndicators!E3","v":"TOTAL"},{"$f":"tblIndicators!F3","v":1},{"$f":"tblIndicators!V3","v":""},{"$f":"tblIndicators!W3","v":1},{"$f":"tblIndicators!X3","v":0},{"$f":"tblIndicators!Y3","v":0},{"$f":"CHOOSE(H6,\"-\",MIN(Data!J6:Z6),I6)","v":"-"},{"$f":"CHOOSE(H6,\"-\",MAX(Data!J6:Z6),J6)","v":"-"},{"$f":"CHOOSE(H6,\"-\",L6-K6,L6-K6)","v":"-"},{"$f":"tblIndicators!AB3","v":"1) INTELLECTUAL PROPERTY"},{"$f":"tblIndicators!AI3","v":0.25},{"$f":"IF($H6=0,0,CHOOSE($H6,SUMPRODUCT($O7:$O$23*P7:P$23*($E7:$E$23=$D6)),IF(ISNUMBER(Data!J6),100*ABS($G6-(Data!J6-$K6)/$M6),0),IF(ISNUMBER(Data!J6),100*ABS($G6-(Data!J6-$K6)/$M6),0)))","v":100},{"$f":"IF($H6=0,0,CHOOSE($H6,SUMPRODUCT($O7:$O$23*Q7:Q$23*($E7:$E$23=$D6)),IF(ISNUMBER(Data!K6),100*ABS($G6-(Data!K6-$K6)/$M6),0),IF(ISNUMBER(Data!K6),100*ABS($G6-(Data!K6-$K6)/$M6),0)))","v":20},{"$f":"IF($H6=0,0,CHOOSE($H6,SUMPRODUCT($O7:$O$23*R7:R$23*($E7:$E$23=$D6)),IF(ISNUMBER(Data!L6),100*ABS($G6-(Data!L6-$K6)/$M6),0),IF(ISNUMBER(Data!L6),100*ABS($G6-(Data!L6-$K6)/$M6),0)))","v":60},{"$f":"IF($H6=0,0,CHOOSE($H6,SUMPRODUCT($O7:$O$23*S7:S$23*($E7:$E$23=$D6)),IF(ISNUMBER(Data!M6),100*ABS($G6-(Data!M6-$K6)/$M6),0),IF(ISNUMBER(Data!M6),100*ABS($G6-(Data!M6-$K6)/$M6),0)))","v":80},{"$f":"IF($H6=0,0,CHOOSE($H6,SUMPRODUCT($O7:$O$23*T7:T$23*($E7:$E$23=$D6)),IF(ISNUMBER(Data!N6),100*ABS($G6-(Data!N6-$K6)/$M6),0),IF(ISNUMBER(Data!N6),100*ABS($G6-(Data!N6-$K6)/$M6),0)))","v":40},{"$f":"IF($H6=0,0,CHOOSE($H6,SUMPRODUCT($O7:$O$23*U7:U$23*($E7:$E$23=$D6)),IF(ISNUMBER(Data!O6),100*ABS($G6-(Data!O6-$K6)/$M6),0),IF(ISNUMBER(Data!O6),100*ABS($G6-(Data!O6-$K6)/$M6),0)))","v":20},{"$f":"IF($H6=0,0,CHOOSE($H6,SUMPRODUCT($O7:$O$23*V7:V$23*($E7:$E$23=$D6)),IF(ISNUMBER(Data!P6),100*ABS($G6-(Data!P6-$K6)/$M6),0),IF(ISNUMBER(Data!P6),100*ABS($G6-(Data!P6-$K6)/$M6),0)))","v":80},{"$f":"IF($H6=0,0,CHOOSE($H6,SUMPRODUCT($O7:$O$23*W7:W$23*($E7:$E$23=$D6)),IF(ISNUMBER(Data!Q6),100*ABS($G6-(Data!Q6-$K6)/$M6),0),IF(ISNUMBER(Data!Q6),100*ABS($G6-(Data!Q6-$K6)/$M6),0)))","v":0},{"$f":"IF($H6=0,0,CHOOSE($H6,SUMPRODUCT($O7:$O$23*X7:X$23*($E7:$E$23=$D6)),IF(ISNUMBER(Data!R6),100*ABS($G6-(Data!R6-$K6)/$M6),0),IF(ISNUMBER(Data!R6),100*ABS($G6-(Data!R6-$K6)/$M6),0)))","v":60},{"$f":"IF($H6=0,0,CHOOSE($H6,SUMPRODUCT($O7:$O$23*Y7:Y$23*($E7:$E$23=$D6)),IF(ISNUMBER(Data!S6),100*ABS($G6-(Data!S6-$K6)/$M6),0),IF(ISNUMBER(Data!S6),100*ABS($G6-(Data!S6-$K6)/$M6),0)))","v":0},{"$f":"IF($H6=0,0,CHOOSE($H6,SUMPRODUCT($O7:$O$23*Z7:Z$23*($E7:$E$23=$D6)),IF(ISNUMBER(Data!T6),100*ABS($G6-(Data!T6-$K6)/$M6),0),IF(ISNUMBER(Data!T6),100*ABS($G6-(Data!T6-$K6)/$M6),0)))","v":100},{"$f":"IF($H6=0,0,CHOOSE($H6,SUMPRODUCT($O7:$O$23*AA7:AA$23*($E7:$E$23=$D6)),IF(ISNUMBER(Data!U6),100*ABS($G6-(Data!U6-$K6)/$M6),0),IF(ISNUMBER(Data!U6),100*ABS($G6-(Data!U6-$K6)/$M6),0)))","v":40},{"$f":"IF($H6=0,0,CHOOSE($H6,SUMPRODUCT($O7:$O$23*AB7:AB$23*($E7:$E$23=$D6)),IF(ISNUMBER(Data!V6),100*ABS($G6-(Data!V6-$K6)/$M6),0),IF(ISNUMBER(Data!V6),100*ABS($G6-(Data!V6-$K6)/$M6),0)))","v":80},{"$f":"IF($H6=0,0,CHOOSE($H6,SUMPRODUCT($O7:$O$23*AC7:AC$23*($E7:$E$23=$D6)),IF(ISNUMBER(Data!W6),100*ABS($G6-(Data!W6-$K6)/$M6),0),IF(ISNUMBER(Data!W6),100*ABS($G6-(Data!W6-$K6)/$M6),0)))","v":60},{"$f":"IF($H6=0,0,CHOOSE($H6,SUMPRODUCT($O7:$O$23*AD7:AD$23*($E7:$E$23=$D6)),IF(ISNUMBER(Data!X6),100*ABS($G6-(Data!X6-$K6)/$M6),0),IF(ISNUMBER(Data!X6),100*ABS($G6-(Data!X6-$K6)/$M6),0)))","v":80},{"$f":"IF($H6=0,0,CHOOSE($H6,SUMPRODUCT($O7:$O$23*AE7:AE$23*($E7:$E$23=$D6)),IF(ISNUMBER(Data!Y6),100*ABS($G6-(Data!Y6-$K6)/$M6),0),IF(ISNUMBER(Data!Y6),100*ABS($G6-(Data!Y6-$K6)/$M6),0)))","v":20},{"$f":"IF($H6=0,0,CHOOSE($H6,SUMPRODUCT($O7:$O$23*AF7:AF$23*($E7:$E$23=$D6)),IF(ISNUMBER(Data!Z6),100*ABS($G6-(Data!Z6-$K6)/$M6),0),IF(ISNUMBER(Data!Z6),100*ABS($G6-(Data!Z6-$K6)/$M6),0)))","v":40}]
[null,{"$f":"tblIndicators!A4","v":3},{"$f":"tblIndicators!B4","v":0},{"$f":"tblIndicators!D4","v":"IP_11"},{"$f":"tblIndicators!E4","v":"IP"},{"$f":"tblIndicators!F4","v":2},{"$f":"tblIndicators!V4","v":1},{"$f":"tblIndicators!W4","v":3},{"$f":"tblIndicators!X4","v":0},{"$f":"tblIndicators!Y4","v":4},{"$f":"CHOOSE(H7,\"-\",MIN(Data!J7:Z7),I7)","v":0},{"$f":"CHOOSE(H7,\"-\",MAX(Data!J7:Z7),J7)","v":4},{"$f":"CHOOSE(H7,\"-\",L7-K7,L7-K7)","v":4},{"$f":"tblIndicators!AB4","v":"1.1)   Protection of IP rights"},{"$f":"tblIndicators!AI4","v":0.8},{"$f":"IF($H7=0,0,CHOOSE($H7,SUMPRODUCT($O8:$O$23*P8:P$23*($E8:$E$23=$D7)),IF(ISNUMBER(Data!J7),100*ABS($G7-(Data!J7-$K7)/$M7),0),IF(ISNUMBER(Data!J7),100*ABS($G7-(Data!J7-$K7)/$M7),0)))","v":100},{"$f":"IF($H7=0,0,CHOOSE($H7,SUMPRODUCT($O8:$O$23*Q8:Q$23*($E8:$E$23=$D7)),IF(ISNUMBER(Data!K7),100*ABS($G7-(Data!K7-$K7)/$M7),0),IF(ISNUMBER(Data!K7),100*ABS($G7-(Data!K7-$K7)/$M7),0)))","v":25},{"$f":"IF($H7=0,0,CHOOSE($H7,SUMPRODUCT($O8:$O$23*R8:R$23*($E8:$E$23=$D7)),IF(ISNUMBER(Data!L7),100*ABS($G7-(Data!L7-$K7)/$M7),0),IF(ISNUMBER(Data!L7),100*ABS($G7-(Data!L7-$K7)/$M7),0)))","v":50},{"$f":"IF($H7=0,0,CHOOSE($H7,SUMPRODUCT($O8:$O$23*S8:S$23*($E8:$E$23=$D7)),IF(ISNUMBER(Data!M7),100*ABS($G7-(Data!M7-$K7)/$M7),0),IF(ISNUMBER(Data!M7),100*ABS($G7-(Data!M7-$K7)/$M7),0)))","v":75},{"$f":"IF($H7=0,0,CHOOSE($H7,SUMPRODUCT($O8:$O$23*T8:T$23*($E8:$E$23=$D7)),IF(ISNUMBER(Data!N7),100*ABS($G7-(Data!N7-$K7)/$M7),0),IF(ISNUMBER(Data!N7),100*ABS($G7-(Data!N7-$K7)/$M7),0)))","v":50},{"$f":"IF($H7=0,0,CHOOSE($H7,SUMPRODUCT($O8:$O$23*U8:U$23*($E8:$E$23=$D7)),IF(ISNUMBER(Data!O7),100*ABS($G7-(Data!O7-$K7)/$M7),0),IF(ISNUMBER(Data!O7),100*ABS($G7-(Data!O7-$K7)/$M7),0)))","v":25},{"$f":"IF($H7=0,0,CHOOSE($H7,SUMPRODUCT($O8:$O$23*V8:V$23*($E8:$E$23=$D7)),IF(ISNUMBER(Data!P7),100*ABS($G7-(Data!P7-$K7)/$M7),0),IF(ISNUMBER(Data!P7),100*ABS($G7-(Data!P7-$K7)/$M7),0)))","v":75},{"$f":"IF($H7=0,0,CHOOSE($H7,SUMPRODUCT($O8:$O$23*W8:W$23*($E8:$E$23=$D7)),IF(ISNUMBER(Data!Q7),100*ABS($G7-(Data!Q7-$K7)/$M7),0),IF(ISNUMBER(Data!Q7),100*ABS($G7-(Data!Q7-$K7)/$M7),0)))","v":0},{"$f":"IF($H7=0,0,CHOOSE($H7,SUMPRODUCT($O8:$O$23*X8:X$23*($E8:$E$23=$D7)),IF(ISNUMBER(Data!R7),100*ABS($G7-(Data!R7-$K7)/$M7),0),IF(ISNUMBER(Data!R7),100*ABS($G7-(Data!R7-$K7)/$M7),0)))","v":75},{"$f":"IF($H7=0,0,CHOOSE($H7,SUMPRODUCT($O8:$O$23*Y8:Y$23*($E8:$E$23=$D7)),IF(ISNUMBER(Data!S7),100*ABS($G7-(Data!S7-$K7)/$M7),0),IF(ISNUMBER(Data!S7),100*ABS($G7-(Data!S7-$K7)/$M7),0)))","v":0},{"$f":"IF($H7=0,0,CHOOSE($H7,SUMPRODUCT($O8:$O$23*Z8:Z$23*($E8:$E$23=$D7)),IF(ISNUMBER(Data!T7),100*ABS($G7-(Data!T7-$K7)/$M7),0),IF(ISNUMBER(Data!T7),100*ABS($G7-(Data!T7-$K7)/$M7),0)))","v":100},{"$f":"IF($H7=0,0,CHOOSE($H7,SUMPRODUCT($O8:$O$23*AA8:AA$23*($E8:$E$23=$D7)),IF(ISNUMBER(Data!U7),100*ABS($G7-(Data!U7-$K7)/$M7),0),IF(ISNUMBER(Data!U7),100*ABS($G7-(Data!U7-$K7)/$M7),0)))","v":25},{"$f":"IF($H7=0,0,CHOOSE($H7,SUMPRODUCT($O8:$O$23*AB8:AB$23*($E8:$E$23=$D7)),IF(ISNUMBER(Data!V7),100*ABS($G7-(Data!V7-$K7)/$M7),0),IF(ISNUMBER(Data!V7),100*ABS($G7-(Data!V7-$K7)/$M7),0)))","v":100},{"$f":"IF($H7=0,0,CHOOSE($H7,SUMPRODUCT($O8:$O$23*AC8:AC$23*($E8:$E$23=$D7)),IF(ISNUMBER(Data!W7),100*ABS($G7-(Data!W7-$K7)/$M7),0),IF(ISNUMBER(Data!W7),100*ABS($G7-(Data!W7-$K7)/$M7),0)))","v":50},{"$f":"IF($H7=0,0,CHOOSE($H7,SUMPRODUCT($O8:$O$23*AD8:AD$23*($E8:$E$23=$D7)),IF(ISNUMBER(Data!X7),100*ABS($G7-(Data!X7-$K7)/$M7),0),IF(ISNUMBER(Data!X7),100*ABS($G7-(Data!X7-$K7)/$M7),0)))","v":75},{"$f":"IF($H7=0,0,CHOOSE($H7,SUMPRODUCT($O8:$O$23*AE8:AE$23*($E8:$E$23=$D7)),IF(ISNUMBER(Data!Y7),100*ABS($G7-(Data!Y7-$K7)/$M7),0),IF(ISNUMBER(Data!Y7),100*ABS($G7-(Data!Y7-$K7)/$M7),0)))","v":25},{"$f":"IF($H7=0,0,CHOOSE($H7,SUMPRODUCT($O8:$O$23*AF8:AF$23*($E8:$E$23=$D7)),IF(ISNUMBER(Data!Z7),100*ABS($G7-(Data!Z7-$K7)/$M7),0),IF(ISNUMBER(Data!Z7),100*ABS($G7-(Data!Z7-$K7)/$M7),0)))","v":25}]
[null,{"$f":"tblIndicators!A5","v":4},{"$f":"tblIndicators!B5","v":0},{"$f":"tblIndicators!D5","v":"IP_13"},{"$f":"tblIndicators!E5","v":"IP"},{"$f":"tblIndicators!F5","v":2},{"$f":"tblIndicators!V5","v":0},{"$f":"tblIndicators!W5","v":3},{"$f":"tblIndicators!X5","v":0},{"$f":"tblIndicators!Y5","v":1},{"$f":"CHOOSE(H8,\"-\",MIN(Data!J8:Z8),I8)","v":0},{"$f":"CHOOSE(H8,\"-\",MAX(Data!J8:Z8),J8)","v":1},{"$f":"CHOOSE(H8,\"-\",L8-K8,L8-K8)","v":1},{"$f":"tblIndicators!AB5","v":"1.2)   Customs recordal system"},{"$f":"tblIndicators!AI5","v":0.2},{"$f":"IF($H8=0,0,CHOOSE($H8,SUMPRODUCT($O9:$O$23*P9:P$23*($E9:$E$23=$D8)),IF(ISNUMBER(Data!J8),100*ABS($G8-(Data!J8-$K8)/$M8),0),IF(ISNUMBER(Data!J8),100*ABS($G8-(Data!J8-$K8)/$M8),0)))","v":100},{"$f":"IF($H8=0,0,CHOOSE($H8,SUMPRODUCT($O9:$O$23*Q9:Q$23*($E9:$E$23=$D8)),IF(ISNUMBER(Data!K8),100*ABS($G8-(Data!K8-$K8)/$M8),0),IF(ISNUMBER(Data!K8),100*ABS($G8-(Data!K8-$K8)/$M8),0)))","v":0},{"$f":"IF($H8=0,0,CHOOSE($H8,SUMPRODUCT($O9:$O$23*R9:R$23*($E9:$E$23=$D8)),IF(ISNUMBER(Data!L8),100*ABS($G8-(Data!L8-$K8)/$M8),0),IF(ISNUMBER(Data!L8),100*ABS($G8-(Data!L8-$K8)/$M8),0)))","v":100},{"$f":"IF($H8=0,0,CHOOSE($H8,SUMPRODUCT($O9:$O$23*S9:S$23*($E9:$E$23=$D8)),IF(ISNUMBER(Data!M8),100*ABS($G8-(Data!M8-$K8)/$M8),0),IF(ISNUMBER(Data!M8),100*ABS($G8-(Data!M8-$K8)/$M8),0)))","v":100},{"$f":"IF($H8=0,0,CHOOSE($H8,SUMPRODUCT($O9:$O$23*T9:T$23*($E9:$E$23=$D8)),IF(ISNUMBER(Data!N8),100*ABS($G8-(Data!N8-$K8)/$M8),0),IF(ISNUMBER(Data!N8),100*ABS($G8-(Data!N8-$K8)/$M8),0)))","v":0},{"$f":"IF($H8=0,0,CHOOSE($H8,SUMPRODUCT($O9:$O$23*U9:U$23*($E9:$E$23=$D8)),IF(ISNUMBER(Data!O8),100*ABS($G8-(Data!O8-$K8)/$M8),0),IF(ISNUMBER(Data!O8),100*ABS($G8-(Data!O8-$K8)/$M8),0)))","v":0},{"$f":"IF($H8=0,0,CHOOSE($H8,SUMPRODUCT($O9:$O$23*V9:V$23*($E9:$E$23=$D8)),IF(ISNUMBER(Data!P8),100*ABS($G8-(Data!P8-$K8)/$M8),0),IF(ISNUMBER(Data!P8),100*ABS($G8-(Data!P8-$K8)/$M8),0)))","v":100},{"$f":"IF($H8=0,0,CHOOSE($H8,SUMPRODUCT($O9:$O$23*W9:W$23*($E9:$E$23=$D8)),IF(ISNUMBER(Data!Q8),100*ABS($G8-(Data!Q8-$K8)/$M8),0),IF(ISNUMBER(Data!Q8),100*ABS($G8-(Data!Q8-$K8)/$M8),0)))","v":0},{"$f":"IF($H8=0,0,CHOOSE($H8,SUMPRODUCT($O9:$O$23*X9:X$23*($E9:$E$23=$D8)),IF(ISNUMBER(Data!R8),100*ABS($G8-(Data!R8-$K8)/$M8),0),IF(ISNUMBER(Data!R8),100*ABS($G8-(Data!R8-$K8)/$M8),0)))","v":0},{"$f":"IF($H8=0,0,CHOOSE($H8,SUMPRODUCT($O9:$O$23*Y9:Y$23*($E9:$E$23=$D8)),IF(ISNUMBER(Data!S8),100*ABS($G8-(Data!S8-$K8)/$M8),0),IF(ISNUMBER(Data!S8),100*ABS($G8-(Data!S8-$K8)/$M8),0)))","v":0},{"$f":"IF($H8=0,0,CHOOSE($H8,SUMPRODUCT($O9:$O$23*Z9:Z$23*($E9:$E$23=$D8)),IF(ISNUMBER(Data!T8),100*ABS($G8-(Data!T8-$K8)/$M8),0),IF(ISNUMBER(Data!T8),100*ABS($G8-(Data!T8-$K8)/$M8),0)))","v":100},{"$f":"IF($H8=0,0,CHOOSE($H8,SUMPRODUCT($O9:$O$23*AA9:AA$23*($E9:$E$23=$D8)),IF(ISNUMBER(Data!U8),100*ABS($G8-(Data!U8-$K8)/$M8),0),IF(ISNUMBER(Data!U8),100*ABS($G8-(Data!U8-$K8)/$M8),0)))","v":100},{"$f":"IF($H8=0,0,CHOOSE($H8,SUMPRODUCT($O9:$O$23*AB9:AB$23*($E9:$E$23=$D8)),IF(ISNUMBER(Data!V8),100*ABS($G8-(Data!V8-$K8)/$M8),0),IF(ISNUMBER(Data!V8),100*ABS($G8-(Data!V8-$K8)/$M8),0)))","v":0},{"$f":"IF($H8=0,0,CHOOSE($H8,SUMPRODUCT($O9:$O$23*AC9:AC$23*($E9:$E$23=$D8)),IF(ISNUMBER(Data!W8),100*ABS($G8-(Data!W8-$K8)/$M8),0),IF(ISNUMBER(Data!W8),100*ABS($G8-(Data!W8-$K8)/$M8),0)))","v":100},{"$f":"IF($H8=0,0,CHOOSE($H8,SUMPRODUCT($O9:$O$23*AD9:AD$23*($E9:$E$23=$D8)),IF(ISNUMBER(Data!X8),100*ABS($G8-(Data!X8-$K8)/$M8),0),IF(ISNUMBER(Data!X8),100*ABS($G8-(Data!X8-$K8)/$M8),0)))","v":100},{"$f":"IF($H8=0,0,CHOOSE($H8,SUMPRODUCT($O9:$O$23*AE9:AE$23*($E9:$E$23=$D8)),IF(ISNUMBER(Data!Y8),100*ABS($G8-(Data!Y8-$K8)/$M8),0),IF(ISNUMBER(Data!Y8),100*ABS($G8-(Data!Y8-$K8)/$M8),0)))","v":0},{"$f":"IF($H8=0,0,CHOOSE($H8,SUMPRODUCT($O9:$O$23*AF9:AF$23*($E9:$E$23=$D8)),IF(ISNUMBER(Data!Z8),100*ABS($G8-(Data!Z8-$K8)/$M8),0),IF(ISNUMBER(Data!Z8),100*ABS($G8-(Data!Z8-$K8)/$M8),0)))","v":100}]
[null,{"$f":"tblIndicators!A6","v":5},{"$f":"tblIndicators!B6","v":0},{"$f":"tblIndicators!D6","v":"TT"},{"$f":"tblIndicators!E6","v":"TOTAL"},{"$f":"tblIndicators!F6","v":1},{"$f":"tblIndicators!V6","v":""},{"$f":"tblIndicators!W6","v":1},{"$f":"tblIndicators!X6","v":0},{"$f":"tblIndicators!Y6","v":0},{"$f":"CHOOSE(H9,\"-\",MIN(Data!J9:Z9),I9)","v":"-"},{"$f":"CHOOSE(H9,\"-\",MAX(Data!J9:Z9),J9)","v":"-"},"-",{"$f":"tblIndicators!AB6","v":"2) TRANSPARENCY AND TRADE"},{"$f":"tblIndicators!AI6","v":0.25},{"$f":"IF($H9=0,0,CHOOSE($H9,SUMPRODUCT($O10:$O$23*P10:P$23*($E10:$E$23=$D9)),IF(ISNUMBER(Data!J9),100*ABS($G9-(Data!J9-$K9)/$M9),0),IF(ISNUMBER(Data!J9),100*ABS($G9-(Data!J9-$K9)/$M9),0)))","v":81.5},{"$f":"IF($H9=0,0,CHOOSE($H9,SUMPRODUCT($O10:$O$23*Q10:Q$23*($E10:$E$23=$D9)),IF(ISNUMBER(Data!K9),100*ABS($G9-(Data!K9-$K9)/$M9),0),IF(ISNUMBER(Data!K9),100*ABS($G9-(Data!K9-$K9)/$M9),0)))","v":25},{"$f":"IF($H9=0,0,CHOOSE($H9,SUMPRODUCT($O10:$O$23*R10:R$23*($E10:$E$23=$D9)),IF(ISNUMBER(Data!L9),100*ABS($G9-(Data!L9-$K9)/$M9),0),IF(ISNUMBER(Data!L9),100*ABS($G9-(Data!L9-$K9)/$M9),0)))","v":80},{"$f":"IF($H9=0,0,CHOOSE($H9,SUMPRODUCT($O10:$O$23*S10:S$23*($E10:$E$23=$D9)),IF(ISNUMBER(Data!M9),100*ABS($G9-(Data!M9-$K9)/$M9),0),IF(ISNUMBER(Data!M9),100*ABS($G9-(Data!M9-$K9)/$M9),0)))","v":69.5},{"$f":"IF($H9=0,0,CHOOSE($H9,SUMPRODUCT($O10:$O$23*T10:T$23*($E10:$E$23=$D9)),IF(ISNUMBER(Data!N9),100*ABS($G9-(Data!N9-$K9)/$M9),0),IF(ISNUMBER(Data!N9),100*ABS($G9-(Data!N9-$K9)/$M9),0)))","v":71.75},{"$f":"IF($H9=0,0,CHOOSE($H9,SUMPRODUCT($O10:$O$23*U10:U$23*($E10:$E$23=$D9)),IF(ISNUMBER(Data!O9),100*ABS($G9-(Data!O9-$K9)/$M9),0),IF(ISNUMBER(Data!O9),100*ABS($G9-(Data!O9-$K9)/$M9),0)))","v":78},{"$f":"IF($H9=0,0,CHOOSE($H9,SUMPRODUCT($O10:$O$23*V10:V$23*($E10:$E$23=$D9)),IF(ISNUMBER(Data!P9),100*ABS($G9-(Data!P9-$K9)/$M9),0),IF(ISNUMBER(Data!P9),100*ABS($G9-(Data!P9-$K9)/$M9),0)))","v":88.75},{"$f":"IF($H9=0,0,CHOOSE($H9,SUMPRODUCT($O10:$O$23*W10:W$23*($E10:$E$23=$D9)),IF(ISNUMBER(Data!Q9),100*ABS($G9-(Data!Q9-$K9)/$M9),0),IF(ISNUMBER(Data!Q9),100*ABS($G9-(Data!Q9-$K9)/$M9),0)))","v":11.000000000000002},{"$f":"IF($H9=0,0,CHOOSE($H9,SUMPRODUCT($O10:$O$23*X10:X$23*($E10:$E$23=$D9)),IF(ISNUMBER(Data!R9),100*ABS($G9-(Data!R9-$K9)/$M9),0),IF(ISNUMBER(Data!R9),100*ABS($G9-(Data!R9-$K9)/$M9),0)))","v":93},{"$f":"IF($H9=0,0,CHOOSE($H9,SUMPRODUCT($O10:$O$23*Y10:Y$23*($E10:$E$23=$D9)),IF(ISNUMBER(Data!S9),100*ABS($G9-(Data!S9-$K9)/$M9),0),IF(ISNUMBER(Data!S9),100*ABS($G9-(Data!S9-$K9)/$M9),0)))","v":11.799999999999999},{"$f":"IF($H9=0,0,CHOOSE($H9,SUMPRODUCT($O10:$O$23*Z10:Z$23*($E10:$E$23=$D9)),IF(ISNUMBER(Data!T9),100*ABS($G9-(Data!T9-$K9)/$M9),0),IF(ISNUMBER(Data!T9),100*ABS($G9-(Data!T9-$K9)/$M9),0)))","v":47.75},{"$f":"IF($H9=0,0,CHOOSE($H9,SUMPRODUCT($O10:$O$23*AA10:AA$23*($E10:$E$23=$D9)),IF(ISNUMBER(Data!U9),100*ABS($G9-(Data!U9-$K9)/$M9),0),IF(ISNUMBER(Data!U9),100*ABS($G9-(Data!U9-$K9)/$M9),0)))","v":77.5},{"$f":"IF($H9=0,0,CHOOSE($H9,SUMPRODUCT($O10:$O$23*AB10:AB$23*($E10:$E$23=$D9)),IF(ISNUMBER(Data!V9),100*ABS($G9-(Data!V9-$K9)/$M9),0),IF(ISNUMBER(Data!V9),100*ABS($G9-(Data!V9-$K9)/$M9),0)))","v":25.75},{"$f":"IF($H9=0,0,CHOOSE($H9,SUMPRODUCT($O10:$O$23*AC10:AC$23*($E10:$E$23=$D9)),IF(ISNUMBER(Data!W9),100*ABS($G9-(Data!W9-$K9)/$M9),0),IF(ISNUMBER(Data!W9),100*ABS($G9-(Data!W9-$K9)/$M9),0)))","v":93.5},{"$f":"IF($H9=0,0,CHOOSE($H9,SUMPRODUCT($O10:$O$23*AD10:AD$23*($E10:$E$23=$D9)),IF(ISNUMBER(Data!X9),100*ABS($G9-(Data!X9-$K9)/$M9),0),IF(ISNUMBER(Data!X9),100*ABS($G9-(Data!X9-$K9)/$M9),0)))","v":44},{"$f":"IF($H9=0,0,CHOOSE($H9,SUMPRODUCT($O10:$O$23*AE10:AE$23*($E10:$E$23=$D9)),IF(ISNUMBER(Data!Y9),100*ABS($G9-(Data!Y9-$K9)/$M9),0),IF(ISNUMBER(Data!Y9),100*ABS($G9-(Data!Y9-$K9)/$M9),0)))","v":67.5},{"$f":"IF($H9=0,0,CHOOSE($H9,SUMPRODUCT($O10:$O$23*AF10:AF$23*($E10:$E$23=$D9)),IF(ISNUMBER(Data!Z9),100*ABS($G9-(Data!Z9-$K9)/$M9),0),IF(ISNUMBER(Data!Z9),100*ABS($G9-(Data!Z9-$K9)/$M9),0)))","v":59.75}]
[null,{"$f":"tblIndicators!A7","v":6},{"$f":"tblIndicators!B7","v":0},{"$f":"tblIndicators!D7","v":"TT_21"},{"$f":"tblIndicators!E7","v":"TT"},{"$f":"tblIndicators!F7","v":2},{"$f":"tblIndicators!V7","v":0},{"$f":"tblIndicators!W7","v":3},{"$f":"tblIndicators!X7","v":0},{"$f":"tblIndicators!Y7","v":5},{"$f":"CHOOSE(H10,\"-\",MIN(Data!J10:Z10),I10)","v":0},{"$f":"CHOOSE(H10,\"-\",MAX(Data!J10:Z10),J10)","v":5},5,{"$f":"tblIndicators!AB7","v":"2.1)   Track and trace services"},{"$f":"tblIndicators!AI7","v":0.25},{"$f":"IF($H10=0,0,CHOOSE($H10,SUMPRODUCT($O11:$O$23*P11:P$23*($E11:$E$23=$D10)),IF(ISNUMBER(Data!J10),100*ABS($G10-(Data!J10-$K10)/$M10),0),IF(ISNUMBER(Data!J10),100*ABS($G10-(Data!J10-$K10)/$M10),0)))","v":76},{"$f":"IF($H10=0,0,CHOOSE($H10,SUMPRODUCT($O11:$O$23*Q11:Q$23*($E11:$E$23=$D10)),IF(ISNUMBER(Data!K10),100*ABS($G10-(Data!K10-$K10)/$M10),0),IF(ISNUMBER(Data!K10),100*ABS($G10-(Data!K10-$K10)/$M10),0)))","v":0},{"$f":"IF($H10=0,0,CHOOSE($H10,SUMPRODUCT($O11:$O$23*R11:R$23*($E11:$E$23=$D10)),IF(ISNUMBER(Data!L10),100*ABS($G10-(Data!L10-$K10)/$M10),0),IF(ISNUMBER(Data!L10),100*ABS($G10-(Data!L10-$K10)/$M10),0)))","v":70},{"$f":"IF($H10=0,0,CHOOSE($H10,SUMPRODUCT($O11:$O$23*S11:S$23*($E11:$E$23=$D10)),IF(ISNUMBER(Data!M10),100*ABS($G10-(Data!M10-$K10)/$M10),0),IF(ISNUMBER(Data!M10),100*ABS($G10-(Data!M10-$K10)/$M10),0)))","v":78},{"$f":"IF($H10=0,0,CHOOSE($H10,SUMPRODUCT($O11:$O$23*T11:T$23*($E11:$E$23=$D10)),IF(ISNUMBER(Data!N10),100*ABS($G10-(Data!N10-$K10)/$M10),0),IF(ISNUMBER(Data!N10),100*ABS($G10-(Data!N10-$K10)/$M10),0)))","v":62},{"$f":"IF($H10=0,0,CHOOSE($H10,SUMPRODUCT($O11:$O$23*U11:U$23*($E11:$E$23=$D10)),IF(ISNUMBER(Data!O10),100*ABS($G10-(Data!O10-$K10)/$M10),0),IF(ISNUMBER(Data!O10),100*ABS($G10-(Data!O10-$K10)/$M10),0)))","v":62},{"$f":"IF($H10=0,0,CHOOSE($H10,SUMPRODUCT($O11:$O$23*V11:V$23*($E11:$E$23=$D10)),IF(ISNUMBER(Data!P10),100*ABS($G10-(Data!P10-$K10)/$M10),0),IF(ISNUMBER(Data!P10),100*ABS($G10-(Data!P10-$K10)/$M10),0)))","v":80},{"$f":"IF($H10=0,0,CHOOSE($H10,SUMPRODUCT($O11:$O$23*W11:W$23*($E11:$E$23=$D10)),IF(ISNUMBER(Data!Q10),100*ABS($G10-(Data!Q10-$K10)/$M10),0),IF(ISNUMBER(Data!Q10),100*ABS($G10-(Data!Q10-$K10)/$M10),0)))","v":44.000000000000007},{"$f":"IF($H10=0,0,CHOOSE($H10,SUMPRODUCT($O11:$O$23*X11:X$23*($E11:$E$23=$D10)),IF(ISNUMBER(Data!R10),100*ABS($G10-(Data!R10-$K10)/$M10),0),IF(ISNUMBER(Data!R10),100*ABS($G10-(Data!R10-$K10)/$M10),0)))","v":72},{"$f":"IF($H10=0,0,CHOOSE($H10,SUMPRODUCT($O11:$O$23*Y11:Y$23*($E11:$E$23=$D10)),IF(ISNUMBER(Data!S10),100*ABS($G10-(Data!S10-$K10)/$M10),0),IF(ISNUMBER(Data!S10),100*ABS($G10-(Data!S10-$K10)/$M10),0)))","v":47.199999999999996},{"$f":"IF($H10=0,0,CHOOSE($H10,SUMPRODUCT($O11:$O$23*Z11:Z$23*($E11:$E$23=$D10)),IF(ISNUMBER(Data!T10),100*ABS($G10-(Data!T10-$K10)/$M10),0),IF(ISNUMBER(Data!T10),100*ABS($G10-(Data!T10-$K10)/$M10),0)))","v":65.999999999999986},{"$f":"IF($H10=0,0,CHOOSE($H10,SUMPRODUCT($O11:$O$23*AA11:AA$23*($E11:$E$23=$D10)),IF(ISNUMBER(Data!U10),100*ABS($G10-(Data!U10-$K10)/$M10),0),IF(ISNUMBER(Data!U10),100*ABS($G10-(Data!U10-$K10)/$M10),0)))","v":60},{"$f":"IF($H10=0,0,CHOOSE($H10,SUMPRODUCT($O11:$O$23*AB11:AB$23*($E11:$E$23=$D10)),IF(ISNUMBER(Data!V10),100*ABS($G10-(Data!V10-$K10)/$M10),0),IF(ISNUMBER(Data!V10),100*ABS($G10-(Data!V10-$K10)/$M10),0)))","v":78},{"$f":"IF($H10=0,0,CHOOSE($H10,SUMPRODUCT($O11:$O$23*AC11:AC$23*($E11:$E$23=$D10)),IF(ISNUMBER(Data!W10),100*ABS($G10-(Data!W10-$K10)/$M10),0),IF(ISNUMBER(Data!W10),100*ABS($G10-(Data!W10-$K10)/$M10),0)))","v":74},{"$f":"IF($H10=0,0,CHOOSE($H10,SUMPRODUCT($O11:$O$23*AD11:AD$23*($E11:$E$23=$D10)),IF(ISNUMBER(Data!X10),100*ABS($G10-(Data!X10-$K10)/$M10),0),IF(ISNUMBER(Data!X10),100*ABS($G10-(Data!X10-$K10)/$M10),0)))","v":76},{"$f":"IF($H10=0,0,CHOOSE($H10,SUMPRODUCT($O11:$O$23*AE11:AE$23*($E11:$E$23=$D10)),IF(ISNUMBER(Data!Y10),100*ABS($G10-(Data!Y10-$K10)/$M10),0),IF(ISNUMBER(Data!Y10),100*ABS($G10-(Data!Y10-$K10)/$M10),0)))","v":70},{"$f":"IF($H10=0,0,CHOOSE($H10,SUMPRODUCT($O11:$O$23*AF11:AF$23*($E11:$E$23=$D10)),IF(ISNUMBER(Data!Z10),100*ABS($G10-(Data!Z10-$K10)/$M10),0),IF(ISNUMBER(Data!Z10),100*ABS($G10-(Data!Z10-$K10)/$M10),0)))","v":64}]
[null,{"$f":"tblIndicators!A8","v":7},{"$f":"tblIndicators!B8","v":0},{"$f":"tblIndicators!D8","v":"TT_22"},{"$f":"tblIndicators!E8","v":"TT"},{"$f":"tblIndicators!F8","v":2},{"$f":"tblIndicators!V8","v":0},{"$f":"tblIndicators!W8","v":3},{"$f":"tblIndicators!X8","v":0},{"$f":"tblIndicators!Y8","v":1},{"$f":"CHOOSE(H11,\"-\",MIN(Data!J11:Z11),I11)","v":0},{"$f":"CHOOSE(H11,\"-\",MAX(Data!J11:Z11),J11)","v":1},1,{"$f":"tblIndicators!AB8","v":"2.2)   Adoption of Annex D of Revised Kyoto Convention  "},{"$f":"tblIndicators!AI8","v":0.25},{"$f":"IF($H11=0,0,CHOOSE($H11,SUMPRODUCT($O12:$O$23*P12:P$23*($E12:$E$23=$D11)),IF(ISNUMBER(Data!J11),100*ABS($G11-(Data!J11-$K11)/$M11),0),IF(ISNUMBER(Data!J11),100*ABS($G11-(Data!J11-$K11)/$M11),0)))","v":100},{"$f":"IF($H11=0,0,CHOOSE($H11,SUMPRODUCT($O12:$O$23*Q12:Q$23*($E12:$E$23=$D11)),IF(ISNUMBER(Data!K11),100*ABS($G11-(Data!K11-$K11)/$M11),0),IF(ISNUMBER(Data!K11),100*ABS($G11-(Data!K11-$K11)/$M11),0)))","v":100},{"$f":"IF($H11=0,0,CHOOSE($H11,SUMPRODUCT($O12:$O$23*R12:R$23*($E12:$E$23=$D11)),IF(ISNUMBER(Data!L11),100*ABS($G11-(Data!L11-$K11)/$M11),0),IF(ISNUMBER(Data!L11),100*ABS($G11-(Data!L11-$K11)/$M11),0)))","v":100},{"$f":"IF($H11=0,0,CHOOSE($H11,SUMPRODUCT($O12:$O$23*S12:S$23*($E12:$E$23=$D11)),IF(ISNUMBER(Data!M11),100*ABS($G11-(Data!M11-$K11)/$M11),0),IF(ISNUMBER(Data!M11),100*ABS($G11-(Data!M11-$K11)/$M11),0)))","v":0},{"$f":"IF($H11=0,0,CHOOSE($H11,SUMPRODUCT($O12:$O$23*T12:T$23*($E12:$E$23=$D11)),IF(ISNUMBER(Data!N11),100*ABS($G11-(Data!N11-$K11)/$M11),0),IF(ISNUMBER(Data!N11),100*ABS($G11-(Data!N11-$K11)/$M11),0)))","v":100},{"$f":"IF($H11=0,0,CHOOSE($H11,SUMPRODUCT($O12:$O$23*U12:U$23*($E12:$E$23=$D11)),IF(ISNUMBER(Data!O11),100*ABS($G11-(Data!O11-$K11)/$M11),0),IF(ISNUMBER(Data!O11),100*ABS($G11-(Data!O11-$K11)/$M11),0)))","v":100},{"$f":"IF($H11=0,0,CHOOSE($H11,SUMPRODUCT($O12:$O$23*V12:V$23*($E12:$E$23=$D11)),IF(ISNUMBER(Data!P11),100*ABS($G11-(Data!P11-$K11)/$M11),0),IF(ISNUMBER(Data!P11),100*ABS($G11-(Data!P11-$K11)/$M11),0)))","v":100},{"$f":"IF($H11=0,0,CHOOSE($H11,SUMPRODUCT($O12:$O$23*W12:W$23*($E12:$E$23=$D11)),IF(ISNUMBER(Data!Q11),100*ABS($G11-(Data!Q11-$K11)/$M11),0),IF(ISNUMBER(Data!Q11),100*ABS($G11-(Data!Q11-$K11)/$M11),0)))","v":0},{"$f":"IF($H11=0,0,CHOOSE($H11,SUMPRODUCT($O12:$O$23*X12:X$23*($E12:$E$23=$D11)),IF(ISNUMBER(Data!R11),100*ABS($G11-(Data!R11-$K11)/$M11),0),IF(ISNUMBER(Data!R11),100*ABS($G11-(Data!R11-$K11)/$M11),0)))","v":100},{"$f":"IF($H11=0,0,CHOOSE($H11,SUMPRODUCT($O12:$O$23*Y12:Y$23*($E12:$E$23=$D11)),IF(ISNUMBER(Data!S11),100*ABS($G11-(Data!S11-$K11)/$M11),0),IF(ISNUMBER(Data!S11),100*ABS($G11-(Data!S11-$K11)/$M11),0)))","v":0},{"$f":"IF($H11=0,0,CHOOSE($H11,SUMPRODUCT($O12:$O$23*Z12:Z$23*($E12:$E$23=$D11)),IF(ISNUMBER(Data!T11),100*ABS($G11-(Data!T11-$K11)/$M11),0),IF(ISNUMBER(Data!T11),100*ABS($G11-(Data!T11-$K11)/$M11),0)))","v":100},{"$f":"IF($H11=0,0,CHOOSE($H11,SUMPRODUCT($O12:$O$23*AA12:AA$23*($E12:$E$23=$D11)),IF(ISNUMBER(Data!U11),100*ABS($G11-(Data!U11-$K11)/$M11),0),IF(ISNUMBER(Data!U11),100*ABS($G11-(Data!U11-$K11)/$M11),0)))","v":100},{"$f":"IF($H11=0,0,CHOOSE($H11,SUMPRODUCT($O12:$O$23*AB12:AB$23*($E12:$E$23=$D11)),IF(ISNUMBER(Data!V11),100*ABS($G11-(Data!V11-$K11)/$M11),0),IF(ISNUMBER(Data!V11),100*ABS($G11-(Data!V11-$K11)/$M11),0)))","v":0},{"$f":"IF($H11=0,0,CHOOSE($H11,SUMPRODUCT($O12:$O$23*AC12:AC$23*($E12:$E$23=$D11)),IF(ISNUMBER(Data!W11),100*ABS($G11-(Data!W11-$K11)/$M11),0),IF(ISNUMBER(Data!W11),100*ABS($G11-(Data!W11-$K11)/$M11),0)))","v":100},{"$f":"IF($H11=0,0,CHOOSE($H11,SUMPRODUCT($O12:$O$23*AD12:AD$23*($E12:$E$23=$D11)),IF(ISNUMBER(Data!X11),100*ABS($G11-(Data!X11-$K11)/$M11),0),IF(ISNUMBER(Data!X11),100*ABS($G11-(Data!X11-$K11)/$M11),0)))","v":0},{"$f":"IF($H11=0,0,CHOOSE($H11,SUMPRODUCT($O12:$O$23*AE12:AE$23*($E12:$E$23=$D11)),IF(ISNUMBER(Data!Y11),100*ABS($G11-(Data!Y11-$K11)/$M11),0),IF(ISNUMBER(Data!Y11),100*ABS($G11-(Data!Y11-$K11)/$M11),0)))","v":100},{"$f":"IF($H11=0,0,CHOOSE($H11,SUMPRODUCT($O12:$O$23*AF12:AF$23*($E12:$E$23=$D11)),IF(ISNUMBER(Data!Z11),100*ABS($G11-(Data!Z11-$K11)/$M11),0),IF(ISNUMBER(Data!Z11),100*ABS($G11-(Data!Z11-$K11)/$M11),0)))","v":100}]
[null,{"$f":"tblIndicators!A9","v":8},{"$f":"tblIndicators!B9","v":0},{"$f":"tblIndicators!D9","v":"TT_23"},{"$f":"tblIndicators!E9","v":"TT"},{"$f":"tblIndicators!F9","v":2},{"$f":"tblIndicators!V9","v":0},{"$f":"tblIndicators!W9","v":3},{"$f":"tblIndicators!X9","v":1},{"$f":"tblIndicators!Y9","v":2},{"$f":"CHOOSE(H12,\"-\",MIN(Data!J12:Z12),I12)","v":1},{"$f":"CHOOSE(H12,\"-\",MAX(Data!J12:Z12),J12)","v":2},1,{"$f":"tblIndicators!AB9","v":"2.3)   Government cooperation"},{"$f":"tblIndicators!AI9","v":0.25},{"$f":"IF($H12=0,0,CHOOSE($H12,SUMPRODUCT($O13:$O$23*P13:P$23*($E13:$E$23=$D12)),IF(ISNUMBER(Data!J12),100*ABS($G12-(Data!J12-$K12)/$M12),0),IF(ISNUMBER(Data!J12),100*ABS($G12-(Data!J12-$K12)/$M12),0)))","v":100},{"$f":"IF($H12=0,0,CHOOSE($H12,SUMPRODUCT($O13:$O$23*Q13:Q$23*($E13:$E$23=$D12)),IF(ISNUMBER(Data!K12),100*ABS($G12-(Data!K12-$K12)/$M12),0),IF(ISNUMBER(Data!K12),100*ABS($G12-(Data!K12-$K12)/$M12),0)))","v":0},{"$f":"IF($H12=0,0,CHOOSE($H12,SUMPRODUCT($O13:$O$23*R13:R$23*($E13:$E$23=$D12)),IF(ISNUMBER(Data!L12),100*ABS($G12-(Data!L12-$K12)/$M12),0),IF(ISNUMBER(Data!L12),100*ABS($G12-(Data!L12-$K12)/$M12),0)))","v":100},{"$f":"IF($H12=0,0,CHOOSE($H12,SUMPRODUCT($O13:$O$23*S13:S$23*($E13:$E$23=$D12)),IF(ISNUMBER(Data!M12),100*ABS($G12-(Data!M12-$K12)/$M12),0),IF(ISNUMBER(Data!M12),100*ABS($G12-(Data!M12-$K12)/$M12),0)))","v":100},{"$f":"IF($H12=0,0,CHOOSE($H12,SUMPRODUCT($O13:$O$23*T13:T$23*($E13:$E$23=$D12)),IF(ISNUMBER(Data!N12),100*ABS($G12-(Data!N12-$K12)/$M12),0),IF(ISNUMBER(Data!N12),100*ABS($G12-(Data!N12-$K12)/$M12),0)))","v":100},{"$f":"IF($H12=0,0,CHOOSE($H12,SUMPRODUCT($O13:$O$23*U13:U$23*($E13:$E$23=$D12)),IF(ISNUMBER(Data!O12),100*ABS($G12-(Data!O12-$K12)/$M12),0),IF(ISNUMBER(Data!O12),100*ABS($G12-(Data!O12-$K12)/$M12),0)))","v":100},{"$f":"IF($H12=0,0,CHOOSE($H12,SUMPRODUCT($O13:$O$23*V13:V$23*($E13:$E$23=$D12)),IF(ISNUMBER(Data!P12),100*ABS($G12-(Data!P12-$K12)/$M12),0),IF(ISNUMBER(Data!P12),100*ABS($G12-(Data!P12-$K12)/$M12),0)))","v":100},{"$f":"IF($H12=0,0,CHOOSE($H12,SUMPRODUCT($O13:$O$23*W13:W$23*($E13:$E$23=$D12)),IF(ISNUMBER(Data!Q12),100*ABS($G12-(Data!Q12-$K12)/$M12),0),IF(ISNUMBER(Data!Q12),100*ABS($G12-(Data!Q12-$K12)/$M12),0)))","v":0},{"$f":"IF($H12=0,0,CHOOSE($H12,SUMPRODUCT($O13:$O$23*X13:X$23*($E13:$E$23=$D12)),IF(ISNUMBER(Data!R12),100*ABS($G12-(Data!R12-$K12)/$M12),0),IF(ISNUMBER(Data!R12),100*ABS($G12-(Data!R12-$K12)/$M12),0)))","v":100},{"$f":"IF($H12=0,0,CHOOSE($H12,SUMPRODUCT($O13:$O$23*Y13:Y$23*($E13:$E$23=$D12)),IF(ISNUMBER(Data!S12),100*ABS($G12-(Data!S12-$K12)/$M12),0),IF(ISNUMBER(Data!S12),100*ABS($G12-(Data!S12-$K12)/$M12),0)))","v":0},{"$f":"IF($H12=0,0,CHOOSE($H12,SUMPRODUCT($O13:$O$23*Z13:Z$23*($E13:$E$23=$D12)),IF(ISNUMBER(Data!T12),100*ABS($G12-(Data!T12-$K12)/$M12),0),IF(ISNUMBER(Data!T12),100*ABS($G12-(Data!T12-$K12)/$M12),0)))","v":0},{"$f":"IF($H12=0,0,CHOOSE($H12,SUMPRODUCT($O13:$O$23*AA13:AA$23*($E13:$E$23=$D12)),IF(ISNUMBER(Data!U12),100*ABS($G12-(Data!U12-$K12)/$M12),0),IF(ISNUMBER(Data!U12),100*ABS($G12-(Data!U12-$K12)/$M12),0)))","v":100},{"$f":"IF($H12=0,0,CHOOSE($H12,SUMPRODUCT($O13:$O$23*AB13:AB$23*($E13:$E$23=$D12)),IF(ISNUMBER(Data!V12),100*ABS($G12-(Data!V12-$K12)/$M12),0),IF(ISNUMBER(Data!V12),100*ABS($G12-(Data!V12-$K12)/$M12),0)))","v":0},{"$f":"IF($H12=0,0,CHOOSE($H12,SUMPRODUCT($O13:$O$23*AC13:AC$23*($E13:$E$23=$D12)),IF(ISNUMBER(Data!W12),100*ABS($G12-(Data!W12-$K12)/$M12),0),IF(ISNUMBER(Data!W12),100*ABS($G12-(Data!W12-$K12)/$M12),0)))","v":100},{"$f":"IF($H12=0,0,CHOOSE($H12,SUMPRODUCT($O13:$O$23*AD13:AD$23*($E13:$E$23=$D12)),IF(ISNUMBER(Data!X12),100*ABS($G12-(Data!X12-$K12)/$M12),0),IF(ISNUMBER(Data!X12),100*ABS($G12-(Data!X12-$K12)/$M12),0)))","v":0},{"$f":"IF($H12=0,0,CHOOSE($H12,SUMPRODUCT($O13:$O$23*AE13:AE$23*($E13:$E$23=$D12)),IF(ISNUMBER(Data!Y12),100*ABS($G12-(Data!Y12-$K12)/$M12),0),IF(ISNUMBER(Data!Y12),100*ABS($G12-(Data!Y12-$K12)/$M12),0)))","v":0},{"$f":"IF($H12=0,0,CHOOSE($H12,SUMPRODUCT($O13:$O$23*AF13:AF$23*($E13:$E$23=$D12)),IF(ISNUMBER(Data!Z12),100*ABS($G12-(Data!Z12-$K12)/$M12),0),IF(ISNUMBER(Data!Z12),100*ABS($G12-(Data!Z12-$K12)/$M12),0)))","v":0}]
[null,{"$f":"tblIndicators!A10","v":9},{"$f":"tblIndicators!B10","v":0},{"$f":"tblIndicators!D10","v":"TT_24"},{"$f":"tblIndicators!E10","v":"TT"},{"$f":"tblIndicators!F10","v":2},{"$f":"tblIndicators!V10","v":0},{"$f":"tblIndicators!W10","v":3},{"$f":"tblIndicators!X10","v":0},{"$f":"tblIndicators!Y10","v":4},{"$f":"CHOOSE(H13,\"-\",MIN(Data!J13:Z13),I13)","v":0},{"$f":"CHOOSE(H13,\"-\",MAX(Data!J13:Z13),J13)","v":4},4,{"$f":"tblIndicators!AB10","v":"2.4)   FTZ governance "},{"$f":"tblIndicators!AI10","v":0.25},{"$f":"IF($H13=0,0,CHOOSE($H13,SUMPRODUCT($O14:$O$23*P14:P$23*($E14:$E$23=$D13)),IF(ISNUMBER(Data!J13),100*ABS($G13-(Data!J13-$K13)/$M13),0),IF(ISNUMBER(Data!J13),100*ABS($G13-(Data!J13-$K13)/$M13),0)))","v":50},{"$f":"IF($H13=0,0,CHOOSE($H13,SUMPRODUCT($O14:$O$23*Q14:Q$23*($E14:$E$23=$D13)),IF(ISNUMBER(Data!K13),100*ABS($G13-(Data!K13-$K13)/$M13),0),IF(ISNUMBER(Data!K13),100*ABS($G13-(Data!K13-$K13)/$M13),0)))","v":0},{"$f":"IF($H13=0,0,CHOOSE($H13,SUMPRODUCT($O14:$O$23*R14:R$23*($E14:$E$23=$D13)),IF(ISNUMBER(Data!L13),100*ABS($G13-(Data!L13-$K13)/$M13),0),IF(ISNUMBER(Data!L13),100*ABS($G13-(Data!L13-$K13)/$M13),0)))","v":50},{"$f":"IF($H13=0,0,CHOOSE($H13,SUMPRODUCT($O14:$O$23*S14:S$23*($E14:$E$23=$D13)),IF(ISNUMBER(Data!M13),100*ABS($G13-(Data!M13-$K13)/$M13),0),IF(ISNUMBER(Data!M13),100*ABS($G13-(Data!M13-$K13)/$M13),0)))","v":100},{"$f":"IF($H13=0,0,CHOOSE($H13,SUMPRODUCT($O14:$O$23*T14:T$23*($E14:$E$23=$D13)),IF(ISNUMBER(Data!N13),100*ABS($G13-(Data!N13-$K13)/$M13),0),IF(ISNUMBER(Data!N13),100*ABS($G13-(Data!N13-$K13)/$M13),0)))","v":25},{"$f":"IF($H13=0,0,CHOOSE($H13,SUMPRODUCT($O14:$O$23*U14:U$23*($E14:$E$23=$D13)),IF(ISNUMBER(Data!O13),100*ABS($G13-(Data!O13-$K13)/$M13),0),IF(ISNUMBER(Data!O13),100*ABS($G13-(Data!O13-$K13)/$M13),0)))","v":50},{"$f":"IF($H13=0,0,CHOOSE($H13,SUMPRODUCT($O14:$O$23*V14:V$23*($E14:$E$23=$D13)),IF(ISNUMBER(Data!P13),100*ABS($G13-(Data!P13-$K13)/$M13),0),IF(ISNUMBER(Data!P13),100*ABS($G13-(Data!P13-$K13)/$M13),0)))","v":75},{"$f":"IF($H13=0,0,CHOOSE($H13,SUMPRODUCT($O14:$O$23*W14:W$23*($E14:$E$23=$D13)),IF(ISNUMBER(Data!Q13),100*ABS($G13-(Data!Q13-$K13)/$M13),0),IF(ISNUMBER(Data!Q13),100*ABS($G13-(Data!Q13-$K13)/$M13),0)))","v":0},{"$f":"IF($H13=0,0,CHOOSE($H13,SUMPRODUCT($O14:$O$23*X14:X$23*($E14:$E$23=$D13)),IF(ISNUMBER(Data!R13),100*ABS($G13-(Data!R13-$K13)/$M13),0),IF(ISNUMBER(Data!R13),100*ABS($G13-(Data!R13-$K13)/$M13),0)))","v":100},{"$f":"IF($H13=0,0,CHOOSE($H13,SUMPRODUCT($O14:$O$23*Y14:Y$23*($E14:$E$23=$D13)),IF(ISNUMBER(Data!S13),100*ABS($G13-(Data!S13-$K13)/$M13),0),IF(ISNUMBER(Data!S13),100*ABS($G13-(Data!S13-$K13)/$M13),0)))","v":0},{"$f":"IF($H13=0,0,CHOOSE($H13,SUMPRODUCT($O14:$O$23*Z14:Z$23*($E14:$E$23=$D13)),IF(ISNUMBER(Data!T13),100*ABS($G13-(Data!T13-$K13)/$M13),0),IF(ISNUMBER(Data!T13),100*ABS($G13-(Data!T13-$K13)/$M13),0)))","v":25},{"$f":"IF($H13=0,0,CHOOSE($H13,SUMPRODUCT($O14:$O$23*AA14:AA$23*($E14:$E$23=$D13)),IF(ISNUMBER(Data!U13),100*ABS($G13-(Data!U13-$K13)/$M13),0),IF(ISNUMBER(Data!U13),100*ABS($G13-(Data!U13-$K13)/$M13),0)))","v":50},{"$f":"IF($H13=0,0,CHOOSE($H13,SUMPRODUCT($O14:$O$23*AB14:AB$23*($E14:$E$23=$D13)),IF(ISNUMBER(Data!V13),100*ABS($G13-(Data!V13-$K13)/$M13),0),IF(ISNUMBER(Data!V13),100*ABS($G13-(Data!V13-$K13)/$M13),0)))","v":25},{"$f":"IF($H13=0,0,CHOOSE($H13,SUMPRODUCT($O14:$O$23*AC14:AC$23*($E14:$E$23=$D13)),IF(ISNUMBER(Data!W13),100*ABS($G13-(Data!W13-$K13)/$M13),0),IF(ISNUMBER(Data!W13),100*ABS($G13-(Data!W13-$K13)/$M13),0)))","v":100},{"$f":"IF($H13=0,0,CHOOSE($H13,SUMPRODUCT($O14:$O$23*AD14:AD$23*($E14:$E$23=$D13)),IF(ISNUMBER(Data!X13),100*ABS($G13-(Data!X13-$K13)/$M13),0),IF(ISNUMBER(Data!X13),100*ABS($G13-(Data!X13-$K13)/$M13),0)))","v":100},{"$f":"IF($H13=0,0,CHOOSE($H13,SUMPRODUCT($O14:$O$23*AE14:AE$23*($E14:$E$23=$D13)),IF(ISNUMBER(Data!Y13),100*ABS($G13-(Data!Y13-$K13)/$M13),0),IF(ISNUMBER(Data!Y13),100*ABS($G13-(Data!Y13-$K13)/$M13),0)))","v":100},{"$f":"IF($H13=0,0,CHOOSE($H13,SUMPRODUCT($O14:$O$23*AF14:AF$23*($E14:$E$23=$D13)),IF(ISNUMBER(Data!Z13),100*ABS($G13-(Data!Z13-$K13)/$M13),0),IF(ISNUMBER(Data!Z13),100*ABS($G13-(Data!Z13-$K13)/$M13),0)))","v":75}]
[null,{"$f":"tblIndicators!A11","v":10},{"$f":"tblIndicators!B11","v":0},{"$f":"tblIndicators!D11","v":"CE"},{"$f":"tblIndicators!E11","v":"TOTAL"},{"$f":"tblIndicators!F11","v":1},{"$f":"tblIndicators!V11","v":""},{"$f":"tblIndicators!W11","v":1},{"$f":"tblIndicators!X11","v":0},{"$f":"tblIndicators!Y11","v":0},{"$f":"CHOOSE(H14,\"-\",MIN(Data!J14:Z14),I14)","v":"-"},{"$f":"CHOOSE(H14,\"-\",MAX(Data!J14:Z14),J14)","v":"-"},"-",{"$f":"tblIndicators!AB11","v":"3) CUSTOMS ENVIRONMENT"},{"$f":"tblIndicators!AI11","v":0.25},{"$f":"IF($H14=0,0,CHOOSE($H14,SUMPRODUCT($O15:$O$23*P15:P$23*($E15:$E$23=$D14)),IF(ISNUMBER(Data!J14),100*ABS($G14-(Data!J14-$K14)/$M14),0),IF(ISNUMBER(Data!J14),100*ABS($G14-(Data!J14-$K14)/$M14),0)))","v":88.01785351998376},{"$f":"IF($H14=0,0,CHOOSE($H14,SUMPRODUCT($O15:$O$23*Q15:Q$23*($E15:$E$23=$D14)),IF(ISNUMBER(Data!K14),100*ABS($G14-(Data!K14-$K14)/$M14),0),IF(ISNUMBER(Data!K14),100*ABS($G14-(Data!K14-$K14)/$M14),0)))","v":21.983273596176822},{"$f":"IF($H14=0,0,CHOOSE($H14,SUMPRODUCT($O15:$O$23*R15:R$23*($E15:$E$23=$D14)),IF(ISNUMBER(Data!L14),100*ABS($G14-(Data!L14-$K14)/$M14),0),IF(ISNUMBER(Data!L14),100*ABS($G14-(Data!L14-$K14)/$M14),0)))","v":61.861770474065054},{"$f":"IF($H14=0,0,CHOOSE($H14,SUMPRODUCT($O15:$O$23*S15:S$23*($E15:$E$23=$D14)),IF(ISNUMBER(Data!M14),100*ABS($G14-(Data!M14-$K14)/$M14),0),IF(ISNUMBER(Data!M14),100*ABS($G14-(Data!M14-$K14)/$M14),0)))","v":83.542976939203356},{"$f":"IF($H14=0,0,CHOOSE($H14,SUMPRODUCT($O15:$O$23*T15:T$23*($E15:$E$23=$D14)),IF(ISNUMBER(Data!N14),100*ABS($G14-(Data!N14-$K14)/$M14),0),IF(ISNUMBER(Data!N14),100*ABS($G14-(Data!N14-$K14)/$M14),0)))","v":65.00642456211537},{"$f":"IF($H14=0,0,CHOOSE($H14,SUMPRODUCT($O15:$O$23*U15:U$23*($E15:$E$23=$D14)),IF(ISNUMBER(Data!O14),100*ABS($G14-(Data!O14-$K14)/$M14),0),IF(ISNUMBER(Data!O14),100*ABS($G14-(Data!O14-$K14)/$M14),0)))","v":41.820518022587407},{"$f":"IF($H14=0,0,CHOOSE($H14,SUMPRODUCT($O15:$O$23*V15:V$23*($E15:$E$23=$D14)),IF(ISNUMBER(Data!P14),100*ABS($G14-(Data!P14-$K14)/$M14),0),IF(ISNUMBER(Data!P14),100*ABS($G14-(Data!P14-$K14)/$M14),0)))","v":70.796194855841833},{"$f":"IF($H14=0,0,CHOOSE($H14,SUMPRODUCT($O15:$O$23*W15:W$23*($E15:$E$23=$D14)),IF(ISNUMBER(Data!Q14),100*ABS($G14-(Data!Q14-$K14)/$M14),0),IF(ISNUMBER(Data!Q14),100*ABS($G14-(Data!Q14-$K14)/$M14),0)))","v":0},{"$f":"IF($H14=0,0,CHOOSE($H14,SUMPRODUCT($O15:$O$23*X15:X$23*($E15:$E$23=$D14)),IF(ISNUMBER(Data!R14),100*ABS($G14-(Data!R14-$K14)/$M14),0),IF(ISNUMBER(Data!R14),100*ABS($G14-(Data!R14-$K14)/$M14),0)))","v":70.311760330019609},{"$f":"IF($H14=0,0,CHOOSE($H14,SUMPRODUCT($O15:$O$23*Y15:Y$23*($E15:$E$23=$D14)),IF(ISNUMBER(Data!S14),100*ABS($G14-(Data!S14-$K14)/$M14),0),IF(ISNUMBER(Data!S14),100*ABS($G14-(Data!S14-$K14)/$M14),0)))","v":11.111111111111111},{"$f":"IF($H14=0,0,CHOOSE($H14,SUMPRODUCT($O15:$O$23*Z15:Z$23*($E15:$E$23=$D14)),IF(ISNUMBER(Data!T14),100*ABS($G14-(Data!T14-$K14)/$M14),0),IF(ISNUMBER(Data!T14),100*ABS($G14-(Data!T14-$K14)/$M14),0)))","v":87.808209914113746},{"$f":"IF($H14=0,0,CHOOSE($H14,SUMPRODUCT($O15:$O$23*AA15:AA$23*($E15:$E$23=$D14)),IF(ISNUMBER(Data!U14),100*ABS($G14-(Data!U14-$K14)/$M14),0),IF(ISNUMBER(Data!U14),100*ABS($G14-(Data!U14-$K14)/$M14),0)))","v":31.367642749261741},{"$f":"IF($H14=0,0,CHOOSE($H14,SUMPRODUCT($O15:$O$23*AB15:AB$23*($E15:$E$23=$D14)),IF(ISNUMBER(Data!V14),100*ABS($G14-(Data!V14-$K14)/$M14),0),IF(ISNUMBER(Data!V14),100*ABS($G14-(Data!V14-$K14)/$M14),0)))","v":89.937106918238982},{"$f":"IF($H14=0,0,CHOOSE($H14,SUMPRODUCT($O15:$O$23*AC15:AC$23*($E15:$E$23=$D14)),IF(ISNUMBER(Data!W14),100*ABS($G14-(Data!W14-$K14)/$M14),0),IF(ISNUMBER(Data!W14),100*ABS($G14-(Data!W14-$K14)/$M14),0)))","v":78.253871644011639},{"$f":"IF($H14=0,0,CHOOSE($H14,SUMPRODUCT($O15:$O$23*AD15:AD$23*($E15:$E$23=$D14)),IF(ISNUMBER(Data!X14),100*ABS($G14-(Data!X14-$K14)/$M14),0),IF(ISNUMBER(Data!X14),100*ABS($G14-(Data!X14-$K14)/$M14),0)))","v":83.035774666937172},{"$f":"IF($H14=0,0,CHOOSE($H14,SUMPRODUCT($O15:$O$23*AE15:AE$23*($E15:$E$23=$D14)),IF(ISNUMBER(Data!Y14),100*ABS($G14-(Data!Y14-$K14)/$M14),0),IF(ISNUMBER(Data!Y14),100*ABS($G14-(Data!Y14-$K14)/$M14),0)))","v":68.43060345799239},{"$f":"IF($H14=0,0,CHOOSE($H14,SUMPRODUCT($O15:$O$23*AF15:AF$23*($E15:$E$23=$D14)),IF(ISNUMBER(Data!Z14),100*ABS($G14-(Data!Z14-$K14)/$M14),0),IF(ISNUMBER(Data!Z14),100*ABS($G14-(Data!Z14-$K14)/$M14),0)))","v":53.225806451612897}]
[null,{"$f":"tblIndicators!A12","v":11},{"$f":"tblIndicators!B12","v":0},{"$f":"tblIndicators!D12","v":"CE_31"},{"$f":"tblIndicators!E12","v":"CE"},{"$f":"tblIndicators!F12","v":2},{"$f":"tblIndicators!V12","v":0},{"$f":"tblIndicators!W12","v":2},{"$f":"tblIndicators!X12","v":0},{"$f":"tblIndicators!Y12","v":0},{"$f":"CHOOSE(H15,\"-\",MIN(Data!J15:Z15),I15)","v":0},{"$f":"CHOOSE(H15,\"-\",MAX(Data!J15:Z15),J15)","v":53},53,{"$f":"tblIndicators!AB12","v":"3.1) Percentage of shipments physically inspected"},{"$f":"tblIndicators!AI12","v":0.1111111111111111},{"$f":"IF($H15=0,0,CHOOSE($H15,SUMPRODUCT($O16:$O$23*P16:P$23*($E16:$E$23=$D15)),IF(ISNUMBER(Data!J15),100*ABS($G15-(Data!J15-$K15)/$M15),0),IF(ISNUMBER(Data!J15),100*ABS($G15-(Data!J15-$K15)/$M15),0)))","v":3.7735849056603774},{"$f":"IF($H15=0,0,CHOOSE($H15,SUMPRODUCT($O16:$O$23*Q16:Q$23*($E16:$E$23=$D15)),IF(ISNUMBER(Data!K15),100*ABS($G15-(Data!K15-$K15)/$M15),0),IF(ISNUMBER(Data!K15),100*ABS($G15-(Data!K15-$K15)/$M15),0)))","v":0},{"$f":"IF($H15=0,0,CHOOSE($H15,SUMPRODUCT($O16:$O$23*R16:R$23*($E16:$E$23=$D15)),IF(ISNUMBER(Data!L15),100*ABS($G15-(Data!L15-$K15)/$M15),0),IF(ISNUMBER(Data!L15),100*ABS($G15-(Data!L15-$K15)/$M15),0)))","v":13.20754716981132},{"$f":"IF($H15=0,0,CHOOSE($H15,SUMPRODUCT($O16:$O$23*S16:S$23*($E16:$E$23=$D15)),IF(ISNUMBER(Data!M15),100*ABS($G15-(Data!M15-$K15)/$M15),0),IF(ISNUMBER(Data!M15),100*ABS($G15-(Data!M15-$K15)/$M15),0)))","v":1.8867924528301887},{"$f":"IF($H15=0,0,CHOOSE($H15,SUMPRODUCT($O16:$O$23*T16:T$23*($E16:$E$23=$D15)),IF(ISNUMBER(Data!N15),100*ABS($G15-(Data!N15-$K15)/$M15),0),IF(ISNUMBER(Data!N15),100*ABS($G15-(Data!N15-$K15)/$M15),0)))","v":41.509433962264154},{"$f":"IF($H15=0,0,CHOOSE($H15,SUMPRODUCT($O16:$O$23*U16:U$23*($E16:$E$23=$D15)),IF(ISNUMBER(Data!O15),100*ABS($G15-(Data!O15-$K15)/$M15),0),IF(ISNUMBER(Data!O15),100*ABS($G15-(Data!O15-$K15)/$M15),0)))","v":15.09433962264151},{"$f":"IF($H15=0,0,CHOOSE($H15,SUMPRODUCT($O16:$O$23*V16:V$23*($E16:$E$23=$D15)),IF(ISNUMBER(Data!P15),100*ABS($G15-(Data!P15-$K15)/$M15),0),IF(ISNUMBER(Data!P15),100*ABS($G15-(Data!P15-$K15)/$M15),0)))","v":5.6603773584905666},{"$f":"IF($H15=0,0,CHOOSE($H15,SUMPRODUCT($O16:$O$23*W16:W$23*($E16:$E$23=$D15)),IF(ISNUMBER(Data!Q15),100*ABS($G15-(Data!Q15-$K15)/$M15),0),IF(ISNUMBER(Data!Q15),100*ABS($G15-(Data!Q15-$K15)/$M15),0)))","v":0},{"$f":"IF($H15=0,0,CHOOSE($H15,SUMPRODUCT($O16:$O$23*X16:X$23*($E16:$E$23=$D15)),IF(ISNUMBER(Data!R15),100*ABS($G15-(Data!R15-$K15)/$M15),0),IF(ISNUMBER(Data!R15),100*ABS($G15-(Data!R15-$K15)/$M15),0)))","v":3.7735849056603774},{"$f":"IF($H15=0,0,CHOOSE($H15,SUMPRODUCT($O16:$O$23*Y16:Y$23*($E16:$E$23=$D15)),IF(ISNUMBER(Data!S15),100*ABS($G15-(Data!S15-$K15)/$M15),0),IF(ISNUMBER(Data!S15),100*ABS($G15-(Data!S15-$K15)/$M15),0)))","v":0},{"$f":"IF($H15=0,0,CHOOSE($H15,SUMPRODUCT($O16:$O$23*Z16:Z$23*($E16:$E$23=$D15)),IF(ISNUMBER(Data!T15),100*ABS($G15-(Data!T15-$K15)/$M15),0),IF(ISNUMBER(Data!T15),100*ABS($G15-(Data!T15-$K15)/$M15),0)))","v":1.8867924528301887},{"$f":"IF($H15=0,0,CHOOSE($H15,SUMPRODUCT($O16:$O$23*AA16:AA$23*($E16:$E$23=$D15)),IF(ISNUMBER(Data!U15),100*ABS($G15-(Data!U15-$K15)/$M15),0),IF(ISNUMBER(Data!U15),100*ABS($G15-(Data!U15-$K15)/$M15),0)))","v":18.867924528301888},{"$f":"IF($H15=0,0,CHOOSE($H15,SUMPRODUCT($O16:$O$23*AB16:AB$23*($E16:$E$23=$D15)),IF(ISNUMBER(Data!V15),100*ABS($G15-(Data!V15-$K15)/$M15),0),IF(ISNUMBER(Data!V15),100*ABS($G15-(Data!V15-$K15)/$M15),0)))","v":9.433962264150944},{"$f":"IF($H15=0,0,CHOOSE($H15,SUMPRODUCT($O16:$O$23*AC16:AC$23*($E16:$E$23=$D15)),IF(ISNUMBER(Data!W15),100*ABS($G15-(Data!W15-$K15)/$M15),0),IF(ISNUMBER(Data!W15),100*ABS($G15-(Data!W15-$K15)/$M15),0)))","v":33.962264150943398},{"$f":"IF($H15=0,0,CHOOSE($H15,SUMPRODUCT($O16:$O$23*AD16:AD$23*($E16:$E$23=$D15)),IF(ISNUMBER(Data!X15),100*ABS($G15-(Data!X15-$K15)/$M15),0),IF(ISNUMBER(Data!X15),100*ABS($G15-(Data!X15-$K15)/$M15),0)))","v":3.7735849056603774},{"$f":"IF($H15=0,0,CHOOSE($H15,SUMPRODUCT($O16:$O$23*AE16:AE$23*($E16:$E$23=$D15)),IF(ISNUMBER(Data!Y15),100*ABS($G15-(Data!Y15-$K15)/$M15),0),IF(ISNUMBER(Data!Y15),100*ABS($G15-(Data!Y15-$K15)/$M15),0)))","v":5.6603773584905666},{"$f":"IF($H15=0,0,CHOOSE($H15,SUMPRODUCT($O16:$O$23*AF16:AF$23*($E16:$E$23=$D15)),IF(ISNUMBER(Data!Z15),100*ABS($G15-(Data!Z15-$K15)/$M15),0),IF(ISNUMBER(Data!Z15),100*ABS($G15-(Data!Z15-$K15)/$M15),0)))","v":100}]
[null,{"$f":"tblIndicators!A13","v":12},{"$f":"tblIndicators!B13","v":0},{"$f":"tblIndicators!D13","v":"CE_32"},{"$f":"tblIndicators!E13","v":"CE"},{"$f":"tblIndicators!F13","v":2},{"$f":"tblIndicators!V13","v":1},{"$f":"tblIndicators!W13","v":2},{"$f":"tblIndicators!X13","v":0},{"$f":"tblIndicators!Y13","v":0},{"$f":"CHOOSE(H16,\"-\",MIN(Data!J16:Z16),I16)","v":1},{"$f":"CHOOSE(H16,\"-\",MAX(Data!J16:Z16),J16)","v":7},6,{"$f":"tblIndicators!AB13","v":"3.2)   Customs clearance and inspection"},{"$f":"tblIndicators!AI13","v":0.22222222222222221},{"$f":"IF($H16=0,0,CHOOSE($H16,SUMPRODUCT($O17:$O$23*P17:P$23*($E17:$E$23=$D16)),IF(ISNUMBER(Data!J16),100*ABS($G16-(Data!J16-$K16)/$M16),0),IF(ISNUMBER(Data!J16),100*ABS($G16-(Data!J16-$K16)/$M16),0)))","v":100},{"$f":"IF($H16=0,0,CHOOSE($H16,SUMPRODUCT($O17:$O$23*Q17:Q$23*($E17:$E$23=$D16)),IF(ISNUMBER(Data!K16),100*ABS($G16-(Data!K16-$K16)/$M16),0),IF(ISNUMBER(Data!K16),100*ABS($G16-(Data!K16-$K16)/$M16),0)))","v":66.666666666666671},{"$f":"IF($H16=0,0,CHOOSE($H16,SUMPRODUCT($O17:$O$23*R17:R$23*($E17:$E$23=$D16)),IF(ISNUMBER(Data!L16),100*ABS($G16-(Data!L16-$K16)/$M16),0),IF(ISNUMBER(Data!L16),100*ABS($G16-(Data!L16-$K16)/$M16),0)))","v":50},{"$f":"IF($H16=0,0,CHOOSE($H16,SUMPRODUCT($O17:$O$23*S17:S$23*($E17:$E$23=$D16)),IF(ISNUMBER(Data!M16),100*ABS($G16-(Data!M16-$K16)/$M16),0),IF(ISNUMBER(Data!M16),100*ABS($G16-(Data!M16-$K16)/$M16),0)))","v":100},{"$f":"IF($H16=0,0,CHOOSE($H16,SUMPRODUCT($O17:$O$23*T17:T$23*($E17:$E$23=$D16)),IF(ISNUMBER(Data!N16),100*ABS($G16-(Data!N16-$K16)/$M16),0),IF(ISNUMBER(Data!N16),100*ABS($G16-(Data!N16-$K16)/$M16),0)))","v":50},{"$f":"IF($H16=0,0,CHOOSE($H16,SUMPRODUCT($O17:$O$23*U17:U$23*($E17:$E$23=$D16)),IF(ISNUMBER(Data!O16),100*ABS($G16-(Data!O16-$K16)/$M16),0),IF(ISNUMBER(Data!O16),100*ABS($G16-(Data!O16-$K16)/$M16),0)))","v":50},{"$f":"IF($H16=0,0,CHOOSE($H16,SUMPRODUCT($O17:$O$23*V17:V$23*($E17:$E$23=$D16)),IF(ISNUMBER(Data!P16),100*ABS($G16-(Data!P16-$K16)/$M16),0),IF(ISNUMBER(Data!P16),100*ABS($G16-(Data!P16-$K16)/$M16),0)))","v":83.333333333333343},{"$f":"IF($H16=0,0,CHOOSE($H16,SUMPRODUCT($O17:$O$23*W17:W$23*($E17:$E$23=$D16)),IF(ISNUMBER(Data!Q16),100*ABS($G16-(Data!Q16-$K16)/$M16),0),IF(ISNUMBER(Data!Q16),100*ABS($G16-(Data!Q16-$K16)/$M16),0)))","v":0},{"$f":"IF($H16=0,0,CHOOSE($H16,SUMPRODUCT($O17:$O$23*X17:X$23*($E17:$E$23=$D16)),IF(ISNUMBER(Data!R16),100*ABS($G16-(Data!R16-$K16)/$M16),0),IF(ISNUMBER(Data!R16),100*ABS($G16-(Data!R16-$K16)/$M16),0)))","v":100},{"$f":"IF($H16=0,0,CHOOSE($H16,SUMPRODUCT($O17:$O$23*Y17:Y$23*($E17:$E$23=$D16)),IF(ISNUMBER(Data!S16),100*ABS($G16-(Data!S16-$K16)/$M16),0),IF(ISNUMBER(Data!S16),100*ABS($G16-(Data!S16-$K16)/$M16),0)))","v":50},{"$f":"IF($H16=0,0,CHOOSE($H16,SUMPRODUCT($O17:$O$23*Z17:Z$23*($E17:$E$23=$D16)),IF(ISNUMBER(Data!T16),100*ABS($G16-(Data!T16-$K16)/$M16),0),IF(ISNUMBER(Data!T16),100*ABS($G16-(Data!T16-$K16)/$M16),0)))","v":100},{"$f":"IF($H16=0,0,CHOOSE($H16,SUMPRODUCT($O17:$O$23*AA17:AA$23*($E17:$E$23=$D16)),IF(ISNUMBER(Data!U16),100*ABS($G16-(Data!U16-$K16)/$M16),0),IF(ISNUMBER(Data!U16),100*ABS($G16-(Data!U16-$K16)/$M16),0)))","v":83.333333333333343},{"$f":"IF($H16=0,0,CHOOSE($H16,SUMPRODUCT($O17:$O$23*AB17:AB$23*($E17:$E$23=$D16)),IF(ISNUMBER(Data!V16),100*ABS($G16-(Data!V16-$K16)/$M16),0),IF(ISNUMBER(Data!V16),100*ABS($G16-(Data!V16-$K16)/$M16),0)))","v":100},{"$f":"IF($H16=0,0,CHOOSE($H16,SUMPRODUCT($O17:$O$23*AC17:AC$23*($E17:$E$23=$D16)),IF(ISNUMBER(Data!W16),100*ABS($G16-(Data!W16-$K16)/$M16),0),IF(ISNUMBER(Data!W16),100*ABS($G16-(Data!W16-$K16)/$M16),0)))","v":100},{"$f":"IF($H16=0,0,CHOOSE($H16,SUMPRODUCT($O17:$O$23*AD17:AD$23*($E17:$E$23=$D16)),IF(ISNUMBER(Data!X16),100*ABS($G16-(Data!X16-$K16)/$M16),0),IF(ISNUMBER(Data!X16),100*ABS($G16-(Data!X16-$K16)/$M16),0)))","v":100},{"$f":"IF($H16=0,0,CHOOSE($H16,SUMPRODUCT($O17:$O$23*AE17:AE$23*($E17:$E$23=$D16)),IF(ISNUMBER(Data!Y16),100*ABS($G16-(Data!Y16-$K16)/$M16),0),IF(ISNUMBER(Data!Y16),100*ABS($G16-(Data!Y16-$K16)/$M16),0)))","v":83.333333333333343},{"$f":"IF($H16=0,0,CHOOSE($H16,SUMPRODUCT($O17:$O$23*AF17:AF$23*($E17:$E$23=$D16)),IF(ISNUMBER(Data!Z16),100*ABS($G16-(Data!Z16-$K16)/$M16),0),IF(ISNUMBER(Data!Z16),100*ABS($G16-(Data!Z16-$K16)/$M16),0)))","v":50}]
[null,{"$f":"tblIndicators!A14","v":13},{"$f":"tblIndicators!B14","v":0},{"$f":"tblIndicators!D14","v":"CE_33"},{"$f":"tblIndicators!E14","v":"CE"},{"$f":"tblIndicators!F14","v":2},{"$f":"tblIndicators!V14","v":0},{"$f":"tblIndicators!W14","v":2},{"$f":"tblIndicators!X14","v":0},{"$f":"tblIndicators!Y14","v":0},{"$f":"CHOOSE(H17,\"-\",MIN(Data!J17:Z17),I17)","v":0.25},{"$f":"CHOOSE(H17,\"-\",MAX(Data!J17:Z17),J17)","v":1.8},1.55,{"$f":"tblIndicators!AB14","v":"3.3)   Automation"},{"$f":"tblIndicators!AI14","v":0.22222222222222221},{"$f":"IF($H17=0,0,CHOOSE($H17,SUMPRODUCT($O18:$O$23*P18:P$23*($E18:$E$23=$D17)),IF(ISNUMBER(Data!J17),100*ABS($G17-(Data!J17-$K17)/$M17),0),IF(ISNUMBER(Data!J17),100*ABS($G17-(Data!J17-$K17)/$M17),0)))","v":94.193548387096769},{"$f":"IF($H17=0,0,CHOOSE($H17,SUMPRODUCT($O18:$O$23*Q18:Q$23*($E18:$E$23=$D17)),IF(ISNUMBER(Data!K17),100*ABS($G17-(Data!K17-$K17)/$M17),0),IF(ISNUMBER(Data!K17),100*ABS($G17-(Data!K17-$K17)/$M17),0)))","v":32.258064516129032},{"$f":"IF($H17=0,0,CHOOSE($H17,SUMPRODUCT($O18:$O$23*R18:R$23*($E18:$E$23=$D17)),IF(ISNUMBER(Data!L17),100*ABS($G17-(Data!L17-$K17)/$M17),0),IF(ISNUMBER(Data!L17),100*ABS($G17-(Data!L17-$K17)/$M17),0)))","v":96.774193548387089},{"$f":"IF($H17=0,0,CHOOSE($H17,SUMPRODUCT($O18:$O$23*S18:S$23*($E18:$E$23=$D17)),IF(ISNUMBER(Data!M17),100*ABS($G17-(Data!M17-$K17)/$M17),0),IF(ISNUMBER(Data!M17),100*ABS($G17-(Data!M17-$K17)/$M17),0)))","v":100},{"$f":"IF($H17=0,0,CHOOSE($H17,SUMPRODUCT($O18:$O$23*T18:T$23*($E18:$E$23=$D17)),IF(ISNUMBER(Data!N17),100*ABS($G17-(Data!N17-$K17)/$M17),0),IF(ISNUMBER(Data!N17),100*ABS($G17-(Data!N17-$K17)/$M17),0)))","v":96.774193548387089},{"$f":"IF($H17=0,0,CHOOSE($H17,SUMPRODUCT($O18:$O$23*U18:U$23*($E18:$E$23=$D17)),IF(ISNUMBER(Data!O17),100*ABS($G17-(Data!O17-$K17)/$M17),0),IF(ISNUMBER(Data!O17),100*ABS($G17-(Data!O17-$K17)/$M17),0)))","v":80.645161290322577},{"$f":"IF($H17=0,0,CHOOSE($H17,SUMPRODUCT($O18:$O$23*V18:V$23*($E18:$E$23=$D17)),IF(ISNUMBER(Data!P17),100*ABS($G17-(Data!P17-$K17)/$M17),0),IF(ISNUMBER(Data!P17),100*ABS($G17-(Data!P17-$K17)/$M17),0)))","v":57.419354838709666},{"$f":"IF($H17=0,0,CHOOSE($H17,SUMPRODUCT($O18:$O$23*W18:W$23*($E18:$E$23=$D17)),IF(ISNUMBER(Data!Q17),100*ABS($G17-(Data!Q17-$K17)/$M17),0),IF(ISNUMBER(Data!Q17),100*ABS($G17-(Data!Q17-$K17)/$M17),0)))","v":0},{"$f":"IF($H17=0,0,CHOOSE($H17,SUMPRODUCT($O18:$O$23*X18:X$23*($E18:$E$23=$D17)),IF(ISNUMBER(Data!R17),100*ABS($G17-(Data!R17-$K17)/$M17),0),IF(ISNUMBER(Data!R17),100*ABS($G17-(Data!R17-$K17)/$M17),0)))","v":64.516129032258064},{"$f":"IF($H17=0,0,CHOOSE($H17,SUMPRODUCT($O18:$O$23*Y18:Y$23*($E18:$E$23=$D17)),IF(ISNUMBER(Data!S17),100*ABS($G17-(Data!S17-$K17)/$M17),0),IF(ISNUMBER(Data!S17),100*ABS($G17-(Data!S17-$K17)/$M17),0)))","v":0},{"$f":"IF($H17=0,0,CHOOSE($H17,SUMPRODUCT($O18:$O$23*Z18:Z$23*($E18:$E$23=$D17)),IF(ISNUMBER(Data!T17),100*ABS($G17-(Data!T17-$K17)/$M17),0),IF(ISNUMBER(Data!T17),100*ABS($G17-(Data!T17-$K17)/$M17),0)))","v":94.193548387096769},{"$f":"IF($H17=0,0,CHOOSE($H17,SUMPRODUCT($O18:$O$23*AA18:AA$23*($E18:$E$23=$D17)),IF(ISNUMBER(Data!U17),100*ABS($G17-(Data!U17-$K17)/$M17),0),IF(ISNUMBER(Data!U17),100*ABS($G17-(Data!U17-$K17)/$M17),0)))","v":48.387096774193544},{"$f":"IF($H17=0,0,CHOOSE($H17,SUMPRODUCT($O18:$O$23*AB18:AB$23*($E18:$E$23=$D17)),IF(ISNUMBER(Data!V17),100*ABS($G17-(Data!V17-$K17)/$M17),0),IF(ISNUMBER(Data!V17),100*ABS($G17-(Data!V17-$K17)/$M17),0)))","v":100},{"$f":"IF($H17=0,0,CHOOSE($H17,SUMPRODUCT($O18:$O$23*AC18:AC$23*($E18:$E$23=$D17)),IF(ISNUMBER(Data!W17),100*ABS($G17-(Data!W17-$K17)/$M17),0),IF(ISNUMBER(Data!W17),100*ABS($G17-(Data!W17-$K17)/$M17),0)))","v":85.161290322580655},{"$f":"IF($H17=0,0,CHOOSE($H17,SUMPRODUCT($O18:$O$23*AD18:AD$23*($E18:$E$23=$D17)),IF(ISNUMBER(Data!X17),100*ABS($G17-(Data!X17-$K17)/$M17),0),IF(ISNUMBER(Data!X17),100*ABS($G17-(Data!X17-$K17)/$M17),0)))","v":96.774193548387089},{"$f":"IF($H17=0,0,CHOOSE($H17,SUMPRODUCT($O18:$O$23*AE18:AE$23*($E18:$E$23=$D17)),IF(ISNUMBER(Data!Y17),100*ABS($G17-(Data!Y17-$K17)/$M17),0),IF(ISNUMBER(Data!Y17),100*ABS($G17-(Data!Y17-$K17)/$M17),0)))","v":96.774193548387089},{"$f":"IF($H17=0,0,CHOOSE($H17,SUMPRODUCT($O18:$O$23*AF18:AF$23*($E18:$E$23=$D17)),IF(ISNUMBER(Data!Z17),100*ABS($G17-(Data!Z17-$K17)/$M17),0),IF(ISNUMBER(Data!Z17),100*ABS($G17-(Data!Z17-$K17)/$M17),0)))","v":64.516129032258064}]
[null,{"$f":"tblIndicators!A15","v":14},{"$f":"tblIndicators!B15","v":0},{"$f":"tblIndicators!D15","v":"CE_34"},{"$f":"tblIndicators!E15","v":"CE"},{"$f":"tblIndicators!F15","v":2},{"$f":"tblIndicators!V15","v":1},{"$f":"tblIndicators!W15","v":3},{"$f":"tblIndicators!X15","v":0},{"$f":"tblIndicators!Y15","v":4},{"$f":"CHOOSE(H18,\"-\",MIN(Data!J18:Z18),I18)","v":0},{"$f":"CHOOSE(H18,\"-\",MAX(Data!J18:Z18),J18)","v":4},4,{"$f":"tblIndicators!AB15","v":"3.4)   Corruption"},{"$f":"tblIndicators!AI15","v":0.22222222222222221},{"$f":"IF($H18=0,0,CHOOSE($H18,SUMPRODUCT($O19:$O$23*P19:P$23*($E19:$E$23=$D18)),IF(ISNUMBER(Data!J18),100*ABS($G18-(Data!J18-$K18)/$M18),0),IF(ISNUMBER(Data!J18),100*ABS($G18-(Data!J18-$K18)/$M18),0)))","v":100},{"$f":"IF($H18=0,0,CHOOSE($H18,SUMPRODUCT($O19:$O$23*Q19:Q$23*($E19:$E$23=$D18)),IF(ISNUMBER(Data!K18),100*ABS($G18-(Data!K18-$K18)/$M18),0),IF(ISNUMBER(Data!K18),100*ABS($G18-(Data!K18-$K18)/$M18),0)))","v":0},{"$f":"IF($H18=0,0,CHOOSE($H18,SUMPRODUCT($O19:$O$23*R19:R$23*($E19:$E$23=$D18)),IF(ISNUMBER(Data!L18),100*ABS($G18-(Data!L18-$K18)/$M18),0),IF(ISNUMBER(Data!L18),100*ABS($G18-(Data!L18-$K18)/$M18),0)))","v":25},{"$f":"IF($H18=0,0,CHOOSE($H18,SUMPRODUCT($O19:$O$23*S19:S$23*($E19:$E$23=$D18)),IF(ISNUMBER(Data!M18),100*ABS($G18-(Data!M18-$K18)/$M18),0),IF(ISNUMBER(Data!M18),100*ABS($G18-(Data!M18-$K18)/$M18),0)))","v":75},{"$f":"IF($H18=0,0,CHOOSE($H18,SUMPRODUCT($O19:$O$23*T19:T$23*($E19:$E$23=$D18)),IF(ISNUMBER(Data!N18),100*ABS($G18-(Data!N18-$K18)/$M18),0),IF(ISNUMBER(Data!N18),100*ABS($G18-(Data!N18-$K18)/$M18),0)))","v":25},{"$f":"IF($H18=0,0,CHOOSE($H18,SUMPRODUCT($O19:$O$23*U19:U$23*($E19:$E$23=$D18)),IF(ISNUMBER(Data!O18),100*ABS($G18-(Data!O18-$K18)/$M18),0),IF(ISNUMBER(Data!O18),100*ABS($G18-(Data!O18-$K18)/$M18),0)))","v":0},{"$f":"IF($H18=0,0,CHOOSE($H18,SUMPRODUCT($O19:$O$23*V19:V$23*($E19:$E$23=$D18)),IF(ISNUMBER(Data!P18),100*ABS($G18-(Data!P18-$K18)/$M18),0),IF(ISNUMBER(Data!P18),100*ABS($G18-(Data!P18-$K18)/$M18),0)))","v":75},{"$f":"IF($H18=0,0,CHOOSE($H18,SUMPRODUCT($O19:$O$23*W19:W$23*($E19:$E$23=$D18)),IF(ISNUMBER(Data!Q18),100*ABS($G18-(Data!Q18-$K18)/$M18),0),IF(ISNUMBER(Data!Q18),100*ABS($G18-(Data!Q18-$K18)/$M18),0)))","v":0},{"$f":"IF($H18=0,0,CHOOSE($H18,SUMPRODUCT($O19:$O$23*X19:X$23*($E19:$E$23=$D18)),IF(ISNUMBER(Data!R18),100*ABS($G18-(Data!R18-$K18)/$M18),0),IF(ISNUMBER(Data!R18),100*ABS($G18-(Data!R18-$K18)/$M18),0)))","v":50},{"$f":"IF($H18=0,0,CHOOSE($H18,SUMPRODUCT($O19:$O$23*Y19:Y$23*($E19:$E$23=$D18)),IF(ISNUMBER(Data!S18),100*ABS($G18-(Data!S18-$K18)/$M18),0),IF(ISNUMBER(Data!S18),100*ABS($G18-(Data!S18-$K18)/$M18),0)))","v":0},{"$f":"IF($H18=0,0,CHOOSE($H18,SUMPRODUCT($O19:$O$23*Z19:Z$23*($E19:$E$23=$D18)),IF(ISNUMBER(Data!T18),100*ABS($G18-(Data!T18-$K18)/$M18),0),IF(ISNUMBER(Data!T18),100*ABS($G18-(Data!T18-$K18)/$M18),0)))","v":100},{"$f":"IF($H18=0,0,CHOOSE($H18,SUMPRODUCT($O19:$O$23*AA19:AA$23*($E19:$E$23=$D18)),IF(ISNUMBER(Data!U18),100*ABS($G18-(Data!U18-$K18)/$M18),0),IF(ISNUMBER(Data!U18),100*ABS($G18-(Data!U18-$K18)/$M18),0)))","v":0},{"$f":"IF($H18=0,0,CHOOSE($H18,SUMPRODUCT($O19:$O$23*AB19:AB$23*($E19:$E$23=$D18)),IF(ISNUMBER(Data!V18),100*ABS($G18-(Data!V18-$K18)/$M18),0),IF(ISNUMBER(Data!V18),100*ABS($G18-(Data!V18-$K18)/$M18),0)))","v":100},{"$f":"IF($H18=0,0,CHOOSE($H18,SUMPRODUCT($O19:$O$23*AC19:AC$23*($E19:$E$23=$D18)),IF(ISNUMBER(Data!W18),100*ABS($G18-(Data!W18-$K18)/$M18),0),IF(ISNUMBER(Data!W18),100*ABS($G18-(Data!W18-$K18)/$M18),0)))","v":50},{"$f":"IF($H18=0,0,CHOOSE($H18,SUMPRODUCT($O19:$O$23*AD19:AD$23*($E19:$E$23=$D18)),IF(ISNUMBER(Data!X18),100*ABS($G18-(Data!X18-$K18)/$M18),0),IF(ISNUMBER(Data!X18),100*ABS($G18-(Data!X18-$K18)/$M18),0)))","v":75},{"$f":"IF($H18=0,0,CHOOSE($H18,SUMPRODUCT($O19:$O$23*AE19:AE$23*($E19:$E$23=$D18)),IF(ISNUMBER(Data!Y18),100*ABS($G18-(Data!Y18-$K18)/$M18),0),IF(ISNUMBER(Data!Y18),100*ABS($G18-(Data!Y18-$K18)/$M18),0)))","v":25},{"$f":"IF($H18=0,0,CHOOSE($H18,SUMPRODUCT($O19:$O$23*AF19:AF$23*($E19:$E$23=$D18)),IF(ISNUMBER(Data!Z18),100*ABS($G18-(Data!Z18-$K18)/$M18),0),IF(ISNUMBER(Data!Z18),100*ABS($G18-(Data!Z18-$K18)/$M18),0)))","v":25}]
[null,{"$f":"tblIndicators!A16","v":15},{"$f":"tblIndicators!B16","v":0},{"$f":"tblIndicators!D16","v":"CE_35"},{"$f":"tblIndicators!E16","v":"CE"},{"$f":"tblIndicators!F16","v":2},{"$f":"tblIndicators!V16","v":0},{"$f":"tblIndicators!W16","v":3},{"$f":"tblIndicators!X16","v":1},{"$f":"tblIndicators!Y16","v":3},{"$f":"CHOOSE(H19,\"-\",MIN(Data!J19:Z19),I19)","v":1},{"$f":"CHOOSE(H19,\"-\",MAX(Data!J19:Z19),J19)","v":3},2,{"$f":"tblIndicators!AB16","v":"3.5) Accredited Economic Operator programme"},{"$f":"tblIndicators!AI16","v":0.22222222222222221},{"$f":"IF($H19=0,0,CHOOSE($H19,SUMPRODUCT($O20:$O$23*P20:P$23*($E20:$E$23=$D19)),IF(ISNUMBER(Data!J19),100*ABS($G19-(Data!J19-$K19)/$M19),0),IF(ISNUMBER(Data!J19),100*ABS($G19-(Data!J19-$K19)/$M19),0)))","v":100},{"$f":"IF($H19=0,0,CHOOSE($H19,SUMPRODUCT($O20:$O$23*Q20:Q$23*($E20:$E$23=$D19)),IF(ISNUMBER(Data!K19),100*ABS($G19-(Data!K19-$K19)/$M19),0),IF(ISNUMBER(Data!K19),100*ABS($G19-(Data!K19-$K19)/$M19),0)))","v":0},{"$f":"IF($H19=0,0,CHOOSE($H19,SUMPRODUCT($O20:$O$23*R20:R$23*($E20:$E$23=$D19)),IF(ISNUMBER(Data!L19),100*ABS($G19-(Data!L19-$K19)/$M19),0),IF(ISNUMBER(Data!L19),100*ABS($G19-(Data!L19-$K19)/$M19),0)))","v":100},{"$f":"IF($H19=0,0,CHOOSE($H19,SUMPRODUCT($O20:$O$23*S20:S$23*($E20:$E$23=$D19)),IF(ISNUMBER(Data!M19),100*ABS($G19-(Data!M19-$K19)/$M19),0),IF(ISNUMBER(Data!M19),100*ABS($G19-(Data!M19-$K19)/$M19),0)))","v":100},{"$f":"IF($H19=0,0,CHOOSE($H19,SUMPRODUCT($O20:$O$23*T20:T$23*($E20:$E$23=$D19)),IF(ISNUMBER(Data!N19),100*ABS($G19-(Data!N19-$K19)/$M19),0),IF(ISNUMBER(Data!N19),100*ABS($G19-(Data!N19-$K19)/$M19),0)))","v":100},{"$f":"IF($H19=0,0,CHOOSE($H19,SUMPRODUCT($O20:$O$23*U20:U$23*($E20:$E$23=$D19)),IF(ISNUMBER(Data!O19),100*ABS($G19-(Data!O19-$K19)/$M19),0),IF(ISNUMBER(Data!O19),100*ABS($G19-(Data!O19-$K19)/$M19),0)))","v":50},{"$f":"IF($H19=0,0,CHOOSE($H19,SUMPRODUCT($O20:$O$23*V20:V$23*($E20:$E$23=$D19)),IF(ISNUMBER(Data!P19),100*ABS($G19-(Data!P19-$K19)/$M19),0),IF(ISNUMBER(Data!P19),100*ABS($G19-(Data!P19-$K19)/$M19),0)))","v":100},{"$f":"IF($H19=0,0,CHOOSE($H19,SUMPRODUCT($O20:$O$23*W20:W$23*($E20:$E$23=$D19)),IF(ISNUMBER(Data!Q19),100*ABS($G19-(Data!Q19-$K19)/$M19),0),IF(ISNUMBER(Data!Q19),100*ABS($G19-(Data!Q19-$K19)/$M19),0)))","v":0},{"$f":"IF($H19=0,0,CHOOSE($H19,SUMPRODUCT($O20:$O$23*X20:X$23*($E20:$E$23=$D19)),IF(ISNUMBER(Data!R19),100*ABS($G19-(Data!R19-$K19)/$M19),0),IF(ISNUMBER(Data!R19),100*ABS($G19-(Data!R19-$K19)/$M19),0)))","v":100},{"$f":"IF($H19=0,0,CHOOSE($H19,SUMPRODUCT($O20:$O$23*Y20:Y$23*($E20:$E$23=$D19)),IF(ISNUMBER(Data!S19),100*ABS($G19-(Data!S19-$K19)/$M19),0),IF(ISNUMBER(Data!S19),100*ABS($G19-(Data!S19-$K19)/$M19),0)))","v":0},{"$f":"IF($H19=0,0,CHOOSE($H19,SUMPRODUCT($O20:$O$23*Z20:Z$23*($E20:$E$23=$D19)),IF(ISNUMBER(Data!T19),100*ABS($G19-(Data!T19-$K19)/$M19),0),IF(ISNUMBER(Data!T19),100*ABS($G19-(Data!T19-$K19)/$M19),0)))","v":100},{"$f":"IF($H19=0,0,CHOOSE($H19,SUMPRODUCT($O20:$O$23*AA20:AA$23*($E20:$E$23=$D19)),IF(ISNUMBER(Data!U19),100*ABS($G19-(Data!U19-$K19)/$M19),0),IF(ISNUMBER(Data!U19),100*ABS($G19-(Data!U19-$K19)/$M19),0)))","v":0},{"$f":"IF($H19=0,0,CHOOSE($H19,SUMPRODUCT($O20:$O$23*AB20:AB$23*($E20:$E$23=$D19)),IF(ISNUMBER(Data!V19),100*ABS($G19-(Data!V19-$K19)/$M19),0),IF(ISNUMBER(Data!V19),100*ABS($G19-(Data!V19-$K19)/$M19),0)))","v":100},{"$f":"IF($H19=0,0,CHOOSE($H19,SUMPRODUCT($O20:$O$23*AC20:AC$23*($E20:$E$23=$D19)),IF(ISNUMBER(Data!W19),100*ABS($G19-(Data!W19-$K19)/$M19),0),IF(ISNUMBER(Data!W19),100*ABS($G19-(Data!W19-$K19)/$M19),0)))","v":100},{"$f":"IF($H19=0,0,CHOOSE($H19,SUMPRODUCT($O20:$O$23*AD20:AD$23*($E20:$E$23=$D19)),IF(ISNUMBER(Data!X19),100*ABS($G19-(Data!X19-$K19)/$M19),0),IF(ISNUMBER(Data!X19),100*ABS($G19-(Data!X19-$K19)/$M19),0)))","v":100},{"$f":"IF($H19=0,0,CHOOSE($H19,SUMPRODUCT($O20:$O$23*AE20:AE$23*($E20:$E$23=$D19)),IF(ISNUMBER(Data!Y19),100*ABS($G19-(Data!Y19-$K19)/$M19),0),IF(ISNUMBER(Data!Y19),100*ABS($G19-(Data!Y19-$K19)/$M19),0)))","v":100},{"$f":"IF($H19=0,0,CHOOSE($H19,SUMPRODUCT($O20:$O$23*AF20:AF$23*($E20:$E$23=$D19)),IF(ISNUMBER(Data!Z19),100*ABS($G19-(Data!Z19-$K19)/$M19),0),IF(ISNUMBER(Data!Z19),100*ABS($G19-(Data!Z19-$K19)/$M19),0)))","v":50}]
[null,{"$f":"tblIndicators!A17","v":16},{"$f":"tblIndicators!B17","v":0},{"$f":"tblIndicators!D17","v":"SD"},{"$f":"tblIndicators!E17","v":"TOTAL"},{"$f":"tblIndicators!F17","v":1},{"$f":"tblIndicators!V17","v":""},{"$f":"tblIndicators!W17","v":1},{"$f":"tblIndicators!X17","v":0},{"$f":"tblIndicators!Y17","v":0},{"$f":"CHOOSE(H20,\"-\",MIN(Data!J20:Z20),I20)","v":"-"},{"$f":"CHOOSE(H20,\"-\",MAX(Data!J20:Z20),J20)","v":"-"},"-",{"$f":"tblIndicators!AB17","v":"4) SUPPLY AND DEMAND"},{"$f":"tblIndicators!AI17","v":0.25},{"$f":"IF($H20=0,0,CHOOSE($H20,SUMPRODUCT($O21:$O$23*P21:P$23*($E21:$E$23=$D20)),IF(ISNUMBER(Data!J20),100*ABS($G20-(Data!J20-$K20)/$M20),0),IF(ISNUMBER(Data!J20),100*ABS($G20-(Data!J20-$K20)/$M20),0)))","v":71.296296296296291},{"$f":"IF($H20=0,0,CHOOSE($H20,SUMPRODUCT($O21:$O$23*Q21:Q$23*($E21:$E$23=$D20)),IF(ISNUMBER(Data!K20),100*ABS($G20-(Data!K20-$K20)/$M20),0),IF(ISNUMBER(Data!K20),100*ABS($G20-(Data!K20-$K20)/$M20),0)))","v":28.703703703703699},{"$f":"IF($H20=0,0,CHOOSE($H20,SUMPRODUCT($O21:$O$23*R21:R$23*($E21:$E$23=$D20)),IF(ISNUMBER(Data!L20),100*ABS($G20-(Data!L20-$K20)/$M20),0),IF(ISNUMBER(Data!L20),100*ABS($G20-(Data!L20-$K20)/$M20),0)))","v":44.444444444444436},{"$f":"IF($H20=0,0,CHOOSE($H20,SUMPRODUCT($O21:$O$23*S21:S$23*($E21:$E$23=$D20)),IF(ISNUMBER(Data!M20),100*ABS($G20-(Data!M20-$K20)/$M20),0),IF(ISNUMBER(Data!M20),100*ABS($G20-(Data!M20-$K20)/$M20),0)))","v":92.592592592592581},{"$f":"IF($H20=0,0,CHOOSE($H20,SUMPRODUCT($O21:$O$23*T21:T$23*($E21:$E$23=$D20)),IF(ISNUMBER(Data!N20),100*ABS($G20-(Data!N20-$K20)/$M20),0),IF(ISNUMBER(Data!N20),100*ABS($G20-(Data!N20-$K20)/$M20),0)))","v":39.81481481481481},{"$f":"IF($H20=0,0,CHOOSE($H20,SUMPRODUCT($O21:$O$23*U21:U$23*($E21:$E$23=$D20)),IF(ISNUMBER(Data!O20),100*ABS($G20-(Data!O20-$K20)/$M20),0),IF(ISNUMBER(Data!O20),100*ABS($G20-(Data!O20-$K20)/$M20),0)))","v":44.444444444444436},{"$f":"IF($H20=0,0,CHOOSE($H20,SUMPRODUCT($O21:$O$23*V21:V$23*($E21:$E$23=$D20)),IF(ISNUMBER(Data!P20),100*ABS($G20-(Data!P20-$K20)/$M20),0),IF(ISNUMBER(Data!P20),100*ABS($G20-(Data!P20-$K20)/$M20),0)))","v":63.888888888888879},{"$f":"IF($H20=0,0,CHOOSE($H20,SUMPRODUCT($O21:$O$23*W21:W$23*($E21:$E$23=$D20)),IF(ISNUMBER(Data!Q20),100*ABS($G20-(Data!Q20-$K20)/$M20),0),IF(ISNUMBER(Data!Q20),100*ABS($G20-(Data!Q20-$K20)/$M20),0)))","v":40.740740740740733},{"$f":"IF($H20=0,0,CHOOSE($H20,SUMPRODUCT($O21:$O$23*X21:X$23*($E21:$E$23=$D20)),IF(ISNUMBER(Data!R20),100*ABS($G20-(Data!R20-$K20)/$M20),0),IF(ISNUMBER(Data!R20),100*ABS($G20-(Data!R20-$K20)/$M20),0)))","v":63.888888888888879},{"$f":"IF($H20=0,0,CHOOSE($H20,SUMPRODUCT($O21:$O$23*Y21:Y$23*($E21:$E$23=$D20)),IF(ISNUMBER(Data!S20),100*ABS($G20-(Data!S20-$K20)/$M20),0),IF(ISNUMBER(Data!S20),100*ABS($G20-(Data!S20-$K20)/$M20),0)))","v":20.370370370370367},{"$f":"IF($H20=0,0,CHOOSE($H20,SUMPRODUCT($O21:$O$23*Z21:Z$23*($E21:$E$23=$D20)),IF(ISNUMBER(Data!T20),100*ABS($G20-(Data!T20-$K20)/$M20),0),IF(ISNUMBER(Data!T20),100*ABS($G20-(Data!T20-$K20)/$M20),0)))","v":91.666666666666657},{"$f":"IF($H20=0,0,CHOOSE($H20,SUMPRODUCT($O21:$O$23*AA21:AA$23*($E21:$E$23=$D20)),IF(ISNUMBER(Data!U20),100*ABS($G20-(Data!U20-$K20)/$M20),0),IF(ISNUMBER(Data!U20),100*ABS($G20-(Data!U20-$K20)/$M20),0)))","v":52.777777777777771},{"$f":"IF($H20=0,0,CHOOSE($H20,SUMPRODUCT($O21:$O$23*AB21:AB$23*($E21:$E$23=$D20)),IF(ISNUMBER(Data!V20),100*ABS($G20-(Data!V20-$K20)/$M20),0),IF(ISNUMBER(Data!V20),100*ABS($G20-(Data!V20-$K20)/$M20),0)))","v":83.333333333333329},{"$f":"IF($H20=0,0,CHOOSE($H20,SUMPRODUCT($O21:$O$23*AC21:AC$23*($E21:$E$23=$D20)),IF(ISNUMBER(Data!W20),100*ABS($G20-(Data!W20-$K20)/$M20),0),IF(ISNUMBER(Data!W20),100*ABS($G20-(Data!W20-$K20)/$M20),0)))","v":55.55555555555555},{"$f":"IF($H20=0,0,CHOOSE($H20,SUMPRODUCT($O21:$O$23*AD21:AD$23*($E21:$E$23=$D20)),IF(ISNUMBER(Data!X20),100*ABS($G20-(Data!X20-$K20)/$M20),0),IF(ISNUMBER(Data!X20),100*ABS($G20-(Data!X20-$K20)/$M20),0)))","v":72.222222222222214},{"$f":"IF($H20=0,0,CHOOSE($H20,SUMPRODUCT($O21:$O$23*AE21:AE$23*($E21:$E$23=$D20)),IF(ISNUMBER(Data!Y20),100*ABS($G20-(Data!Y20-$K20)/$M20),0),IF(ISNUMBER(Data!Y20),100*ABS($G20-(Data!Y20-$K20)/$M20),0)))","v":56.481481481481481},{"$f":"IF($H20=0,0,CHOOSE($H20,SUMPRODUCT($O21:$O$23*AF21:AF$23*($E21:$E$23=$D20)),IF(ISNUMBER(Data!Z20),100*ABS($G20-(Data!Z20-$K20)/$M20),0),IF(ISNUMBER(Data!Z20),100*ABS($G20-(Data!Z20-$K20)/$M20),0)))","v":44.444444444444436}]
[null,{"$f":"tblIndicators!A18","v":17},{"$f":"tblIndicators!B18","v":0},{"$f":"tblIndicators!D18","v":"SD_41"},{"$f":"tblIndicators!E18","v":"SD"},{"$f":"tblIndicators!F18","v":2},{"$f":"tblIndicators!V18","v":0},{"$f":"tblIndicators!W18","v":3},{"$f":"tblIndicators!X18","v":1},{"$f":"tblIndicators!Y18","v":5},{"$f":"CHOOSE(H21,\"-\",MIN(Data!J21:Z21),I21)","v":1},{"$f":"CHOOSE(H21,\"-\",MAX(Data!J21:Z21),J21)","v":5},4,{"$f":"tblIndicators!AB18","v":"4.1)   Tax and social security burdens"},{"$f":"tblIndicators!AI18","v":0.33333333333333331},{"$f":"IF($H21=0,0,CHOOSE($H21,SUMPRODUCT($O22:$O$23*P22:P$23*($E22:$E$23=$D21)),IF(ISNUMBER(Data!J21),100*ABS($G21-(Data!J21-$K21)/$M21),0),IF(ISNUMBER(Data!J21),100*ABS($G21-(Data!J21-$K21)/$M21),0)))","v":75},{"$f":"IF($H21=0,0,CHOOSE($H21,SUMPRODUCT($O22:$O$23*Q22:Q$23*($E22:$E$23=$D21)),IF(ISNUMBER(Data!K21),100*ABS($G21-(Data!K21-$K21)/$M21),0),IF(ISNUMBER(Data!K21),100*ABS($G21-(Data!K21-$K21)/$M21),0)))","v":50},{"$f":"IF($H21=0,0,CHOOSE($H21,SUMPRODUCT($O22:$O$23*R22:R$23*($E22:$E$23=$D21)),IF(ISNUMBER(Data!L21),100*ABS($G21-(Data!L21-$K21)/$M21),0),IF(ISNUMBER(Data!L21),100*ABS($G21-(Data!L21-$K21)/$M21),0)))","v":50},{"$f":"IF($H21=0,0,CHOOSE($H21,SUMPRODUCT($O22:$O$23*S22:S$23*($E22:$E$23=$D21)),IF(ISNUMBER(Data!M21),100*ABS($G21-(Data!M21-$K21)/$M21),0),IF(ISNUMBER(Data!M21),100*ABS($G21-(Data!M21-$K21)/$M21),0)))","v":100},{"$f":"IF($H21=0,0,CHOOSE($H21,SUMPRODUCT($O22:$O$23*T22:T$23*($E22:$E$23=$D21)),IF(ISNUMBER(Data!N21),100*ABS($G21-(Data!N21-$K21)/$M21),0),IF(ISNUMBER(Data!N21),100*ABS($G21-(Data!N21-$K21)/$M21),0)))","v":50},{"$f":"IF($H21=0,0,CHOOSE($H21,SUMPRODUCT($O22:$O$23*U22:U$23*($E22:$E$23=$D21)),IF(ISNUMBER(Data!O21),100*ABS($G21-(Data!O21-$K21)/$M21),0),IF(ISNUMBER(Data!O21),100*ABS($G21-(Data!O21-$K21)/$M21),0)))","v":50},{"$f":"IF($H21=0,0,CHOOSE($H21,SUMPRODUCT($O22:$O$23*V22:V$23*($E22:$E$23=$D21)),IF(ISNUMBER(Data!P21),100*ABS($G21-(Data!P21-$K21)/$M21),0),IF(ISNUMBER(Data!P21),100*ABS($G21-(Data!P21-$K21)/$M21),0)))","v":75},{"$f":"IF($H21=0,0,CHOOSE($H21,SUMPRODUCT($O22:$O$23*W22:W$23*($E22:$E$23=$D21)),IF(ISNUMBER(Data!Q21),100*ABS($G21-(Data!Q21-$K21)/$M21),0),IF(ISNUMBER(Data!Q21),100*ABS($G21-(Data!Q21-$K21)/$M21),0)))","v":50},{"$f":"IF($H21=0,0,CHOOSE($H21,SUMPRODUCT($O22:$O$23*X22:X$23*($E22:$E$23=$D21)),IF(ISNUMBER(Data!R21),100*ABS($G21-(Data!R21-$K21)/$M21),0),IF(ISNUMBER(Data!R21),100*ABS($G21-(Data!R21-$K21)/$M21),0)))","v":75},{"$f":"IF($H21=0,0,CHOOSE($H21,SUMPRODUCT($O22:$O$23*Y22:Y$23*($E22:$E$23=$D21)),IF(ISNUMBER(Data!S21),100*ABS($G21-(Data!S21-$K21)/$M21),0),IF(ISNUMBER(Data!S21),100*ABS($G21-(Data!S21-$K21)/$M21),0)))","v":25},{"$f":"IF($H21=0,0,CHOOSE($H21,SUMPRODUCT($O22:$O$23*Z22:Z$23*($E22:$E$23=$D21)),IF(ISNUMBER(Data!T21),100*ABS($G21-(Data!T21-$K21)/$M21),0),IF(ISNUMBER(Data!T21),100*ABS($G21-(Data!T21-$K21)/$M21),0)))","v":100},{"$f":"IF($H21=0,0,CHOOSE($H21,SUMPRODUCT($O22:$O$23*AA22:AA$23*($E22:$E$23=$D21)),IF(ISNUMBER(Data!U21),100*ABS($G21-(Data!U21-$K21)/$M21),0),IF(ISNUMBER(Data!U21),100*ABS($G21-(Data!U21-$K21)/$M21),0)))","v":50},{"$f":"IF($H21=0,0,CHOOSE($H21,SUMPRODUCT($O22:$O$23*AB22:AB$23*($E22:$E$23=$D21)),IF(ISNUMBER(Data!V21),100*ABS($G21-(Data!V21-$K21)/$M21),0),IF(ISNUMBER(Data!V21),100*ABS($G21-(Data!V21-$K21)/$M21),0)))","v":75},{"$f":"IF($H21=0,0,CHOOSE($H21,SUMPRODUCT($O22:$O$23*AC22:AC$23*($E22:$E$23=$D21)),IF(ISNUMBER(Data!W21),100*ABS($G21-(Data!W21-$K21)/$M21),0),IF(ISNUMBER(Data!W21),100*ABS($G21-(Data!W21-$K21)/$M21),0)))","v":50},{"$f":"IF($H21=0,0,CHOOSE($H21,SUMPRODUCT($O22:$O$23*AD22:AD$23*($E22:$E$23=$D21)),IF(ISNUMBER(Data!X21),100*ABS($G21-(Data!X21-$K21)/$M21),0),IF(ISNUMBER(Data!X21),100*ABS($G21-(Data!X21-$K21)/$M21),0)))","v":75},{"$f":"IF($H21=0,0,CHOOSE($H21,SUMPRODUCT($O22:$O$23*AE22:AE$23*($E22:$E$23=$D21)),IF(ISNUMBER(Data!Y21),100*ABS($G21-(Data!Y21-$K21)/$M21),0),IF(ISNUMBER(Data!Y21),100*ABS($G21-(Data!Y21-$K21)/$M21),0)))","v":50},{"$f":"IF($H21=0,0,CHOOSE($H21,SUMPRODUCT($O22:$O$23*AF22:AF$23*($E22:$E$23=$D21)),IF(ISNUMBER(Data!Z21),100*ABS($G21-(Data!Z21-$K21)/$M21),0),IF(ISNUMBER(Data!Z21),100*ABS($G21-(Data!Z21-$K21)/$M21),0)))","v":50}]
[null,{"$f":"tblIndicators!A19","v":18},{"$f":"tblIndicators!B19","v":0},{"$f":"tblIndicators!D19","v":"SD_42"},{"$f":"tblIndicators!E19","v":"SD"},{"$f":"tblIndicators!F19","v":2},{"$f":"tblIndicators!V19","v":0},{"$f":"tblIndicators!W19","v":3},{"$f":"tblIndicators!X19","v":1},{"$f":"tblIndicators!Y19","v":10},{"$f":"CHOOSE(H22,\"-\",MIN(Data!J22:Z22),I22)","v":1},{"$f":"CHOOSE(H22,\"-\",MAX(Data!J22:Z22),J22)","v":10},9,{"$f":"tblIndicators!AB19","v":"4.2)   Quality of state institutions"},{"$f":"tblIndicators!AI19","v":0.33333333333333331},{"$f":"IF($H22=0,0,CHOOSE($H22,SUMPRODUCT($O23:$O$23*P23:P$23*($E23:$E$23=$D22)),IF(ISNUMBER(Data!J22),100*ABS($G22-(Data!J22-$K22)/$M22),0),IF(ISNUMBER(Data!J22),100*ABS($G22-(Data!J22-$K22)/$M22),0)))","v":88.888888888888886},{"$f":"IF($H22=0,0,CHOOSE($H22,SUMPRODUCT($O23:$O$23*Q23:Q$23*($E23:$E$23=$D22)),IF(ISNUMBER(Data!K22),100*ABS($G22-(Data!K22-$K22)/$M22),0),IF(ISNUMBER(Data!K22),100*ABS($G22-(Data!K22-$K22)/$M22),0)))","v":11.111111111111111},{"$f":"IF($H22=0,0,CHOOSE($H22,SUMPRODUCT($O23:$O$23*R23:R$23*($E23:$E$23=$D22)),IF(ISNUMBER(Data!L22),100*ABS($G22-(Data!L22-$K22)/$M22),0),IF(ISNUMBER(Data!L22),100*ABS($G22-(Data!L22-$K22)/$M22),0)))","v":33.333333333333329},{"$f":"IF($H22=0,0,CHOOSE($H22,SUMPRODUCT($O23:$O$23*S23:S$23*($E23:$E$23=$D22)),IF(ISNUMBER(Data!M22),100*ABS($G22-(Data!M22-$K22)/$M22),0),IF(ISNUMBER(Data!M22),100*ABS($G22-(Data!M22-$K22)/$M22),0)))","v":77.777777777777786},{"$f":"IF($H22=0,0,CHOOSE($H22,SUMPRODUCT($O23:$O$23*T23:T$23*($E23:$E$23=$D22)),IF(ISNUMBER(Data!N22),100*ABS($G22-(Data!N22-$K22)/$M22),0),IF(ISNUMBER(Data!N22),100*ABS($G22-(Data!N22-$K22)/$M22),0)))","v":44.444444444444443},{"$f":"IF($H22=0,0,CHOOSE($H22,SUMPRODUCT($O23:$O$23*U23:U$23*($E23:$E$23=$D22)),IF(ISNUMBER(Data!O22),100*ABS($G22-(Data!O22-$K22)/$M22),0),IF(ISNUMBER(Data!O22),100*ABS($G22-(Data!O22-$K22)/$M22),0)))","v":33.333333333333329},{"$f":"IF($H22=0,0,CHOOSE($H22,SUMPRODUCT($O23:$O$23*V23:V$23*($E23:$E$23=$D22)),IF(ISNUMBER(Data!P22),100*ABS($G22-(Data!P22-$K22)/$M22),0),IF(ISNUMBER(Data!P22),100*ABS($G22-(Data!P22-$K22)/$M22),0)))","v":66.666666666666657},{"$f":"IF($H22=0,0,CHOOSE($H22,SUMPRODUCT($O23:$O$23*W23:W$23*($E23:$E$23=$D22)),IF(ISNUMBER(Data!Q22),100*ABS($G22-(Data!Q22-$K22)/$M22),0),IF(ISNUMBER(Data!Q22),100*ABS($G22-(Data!Q22-$K22)/$M22),0)))","v":22.222222222222221},{"$f":"IF($H22=0,0,CHOOSE($H22,SUMPRODUCT($O23:$O$23*X23:X$23*($E23:$E$23=$D22)),IF(ISNUMBER(Data!R22),100*ABS($G22-(Data!R22-$K22)/$M22),0),IF(ISNUMBER(Data!R22),100*ABS($G22-(Data!R22-$K22)/$M22),0)))","v":66.666666666666657},{"$f":"IF($H22=0,0,CHOOSE($H22,SUMPRODUCT($O23:$O$23*Y23:Y$23*($E23:$E$23=$D22)),IF(ISNUMBER(Data!S22),100*ABS($G22-(Data!S22-$K22)/$M22),0),IF(ISNUMBER(Data!S22),100*ABS($G22-(Data!S22-$K22)/$M22),0)))","v":11.111111111111111},{"$f":"IF($H22=0,0,CHOOSE($H22,SUMPRODUCT($O23:$O$23*Z23:Z$23*($E23:$E$23=$D22)),IF(ISNUMBER(Data!T22),100*ABS($G22-(Data!T22-$K22)/$M22),0),IF(ISNUMBER(Data!T22),100*ABS($G22-(Data!T22-$K22)/$M22),0)))","v":100},{"$f":"IF($H22=0,0,CHOOSE($H22,SUMPRODUCT($O23:$O$23*AA23:AA$23*($E23:$E$23=$D22)),IF(ISNUMBER(Data!U22),100*ABS($G22-(Data!U22-$K22)/$M22),0),IF(ISNUMBER(Data!U22),100*ABS($G22-(Data!U22-$K22)/$M22),0)))","v":33.333333333333329},{"$f":"IF($H22=0,0,CHOOSE($H22,SUMPRODUCT($O23:$O$23*AB23:AB$23*($E23:$E$23=$D22)),IF(ISNUMBER(Data!V22),100*ABS($G22-(Data!V22-$K22)/$M22),0),IF(ISNUMBER(Data!V22),100*ABS($G22-(Data!V22-$K22)/$M22),0)))","v":100},{"$f":"IF($H22=0,0,CHOOSE($H22,SUMPRODUCT($O23:$O$23*AC23:AC$23*($E23:$E$23=$D22)),IF(ISNUMBER(Data!W22),100*ABS($G22-(Data!W22-$K22)/$M22),0),IF(ISNUMBER(Data!W22),100*ABS($G22-(Data!W22-$K22)/$M22),0)))","v":66.666666666666657},{"$f":"IF($H22=0,0,CHOOSE($H22,SUMPRODUCT($O23:$O$23*AD23:AD$23*($E23:$E$23=$D22)),IF(ISNUMBER(Data!X22),100*ABS($G22-(Data!X22-$K22)/$M22),0),IF(ISNUMBER(Data!X22),100*ABS($G22-(Data!X22-$K22)/$M22),0)))","v":66.666666666666657},{"$f":"IF($H22=0,0,CHOOSE($H22,SUMPRODUCT($O23:$O$23*AE23:AE$23*($E23:$E$23=$D22)),IF(ISNUMBER(Data!Y22),100*ABS($G22-(Data!Y22-$K22)/$M22),0),IF(ISNUMBER(Data!Y22),100*ABS($G22-(Data!Y22-$K22)/$M22),0)))","v":44.444444444444443},{"$f":"IF($H22=0,0,CHOOSE($H22,SUMPRODUCT($O23:$O$23*AF23:AF$23*($E23:$E$23=$D22)),IF(ISNUMBER(Data!Z22),100*ABS($G22-(Data!Z22-$K22)/$M22),0),IF(ISNUMBER(Data!Z22),100*ABS($G22-(Data!Z22-$K22)/$M22),0)))","v":33.333333333333329}]
[null,{"$f":"tblIndicators!A20","v":19},{"$f":"tblIndicators!B20","v":0},{"$f":"tblIndicators!D20","v":"SD_43"},{"$f":"tblIndicators!E20","v":"SD"},{"$f":"tblIndicators!F20","v":2},{"$f":"tblIndicators!V20","v":0},{"$f":"tblIndicators!W20","v":3},{"$f":"tblIndicators!X20","v":1},{"$f":"tblIndicators!Y20","v":5},{"$f":"CHOOSE(H23,\"-\",MIN(Data!J23:Z23),I23)","v":1},{"$f":"CHOOSE(H23,\"-\",MAX(Data!J23:Z23),J23)","v":5},4,{"$f":"tblIndicators!AB20","v":"4.3)   Labour market regulations"},{"$f":"tblIndicators!AI20","v":0.33333333333333331},{"$f":"IF($H23=0,0,CHOOSE($H23,SUMPRODUCT(#REF!*#REF!*(#REF!=$D23)),IF(ISNUMBER(Data!J23),100*ABS($G23-(Data!J23-$K23)/$M23),0),IF(ISNUMBER(Data!J23),100*ABS($G23-(Data!J23-$K23)/$M23),0)))","v":50},{"$f":"IF($H23=0,0,CHOOSE($H23,SUMPRODUCT(#REF!*#REF!*(#REF!=$D23)),IF(ISNUMBER(Data!K23),100*ABS($G23-(Data!K23-$K23)/$M23),0),IF(ISNUMBER(Data!K23),100*ABS($G23-(Data!K23-$K23)/$M23),0)))","v":25},{"$f":"IF($H23=0,0,CHOOSE($H23,SUMPRODUCT(#REF!*#REF!*(#REF!=$D23)),IF(ISNUMBER(Data!L23),100*ABS($G23-(Data!L23-$K23)/$M23),0),IF(ISNUMBER(Data!L23),100*ABS($G23-(Data!L23-$K23)/$M23),0)))","v":50},{"$f":"IF($H23=0,0,CHOOSE($H23,SUMPRODUCT(#REF!*#REF!*(#REF!=$D23)),IF(ISNUMBER(Data!M23),100*ABS($G23-(Data!M23-$K23)/$M23),0),IF(ISNUMBER(Data!M23),100*ABS($G23-(Data!M23-$K23)/$M23),0)))","v":100},{"$f":"IF($H23=0,0,CHOOSE($H23,SUMPRODUCT(#REF!*#REF!*(#REF!=$D23)),IF(ISNUMBER(Data!N23),100*ABS($G23-(Data!N23-$K23)/$M23),0),IF(ISNUMBER(Data!N23),100*ABS($G23-(Data!N23-$K23)/$M23),0)))","v":25},{"$f":"IF($H23=0,0,CHOOSE($H23,SUMPRODUCT(#REF!*#REF!*(#REF!=$D23)),IF(ISNUMBER(Data!O23),100*ABS($G23-(Data!O23-$K23)/$M23),0),IF(ISNUMBER(Data!O23),100*ABS($G23-(Data!O23-$K23)/$M23),0)))","v":50},{"$f":"IF($H23=0,0,CHOOSE($H23,SUMPRODUCT(#REF!*#REF!*(#REF!=$D23)),IF(ISNUMBER(Data!P23),100*ABS($G23-(Data!P23-$K23)/$M23),0),IF(ISNUMBER(Data!P23),100*ABS($G23-(Data!P23-$K23)/$M23),0)))","v":50},{"$f":"IF($H23=0,0,CHOOSE($H23,SUMPRODUCT(#REF!*#REF!*(#REF!=$D23)),IF(ISNUMBER(Data!Q23),100*ABS($G23-(Data!Q23-$K23)/$M23),0),IF(ISNUMBER(Data!Q23),100*ABS($G23-(Data!Q23-$K23)/$M23),0)))","v":50},{"$f":"IF($H23=0,0,CHOOSE($H23,SUMPRODUCT(#REF!*#REF!*(#REF!=$D23)),IF(ISNUMBER(Data!R23),100*ABS($G23-(Data!R23-$K23)/$M23),0),IF(ISNUMBER(Data!R23),100*ABS($G23-(Data!R23-$K23)/$M23),0)))","v":50},{"$f":"IF($H23=0,0,CHOOSE($H23,SUMPRODUCT(#REF!*#REF!*(#REF!=$D23)),IF(ISNUMBER(Data!S23),100*ABS($G23-(Data!S23-$K23)/$M23),0),IF(ISNUMBER(Data!S23),100*ABS($G23-(Data!S23-$K23)/$M23),0)))","v":25},{"$f":"IF($H23=0,0,CHOOSE($H23,SUMPRODUCT(#REF!*#REF!*(#REF!=$D23)),IF(ISNUMBER(Data!T23),100*ABS($G23-(Data!T23-$K23)/$M23),0),IF(ISNUMBER(Data!T23),100*ABS($G23-(Data!T23-$K23)/$M23),0)))","v":75},{"$f":"IF($H23=0,0,CHOOSE($H23,SUMPRODUCT(#REF!*#REF!*(#REF!=$D23)),IF(ISNUMBER(Data!U23),100*ABS($G23-(Data!U23-$K23)/$M23),0),IF(ISNUMBER(Data!U23),100*ABS($G23-(Data!U23-$K23)/$M23),0)))","v":75},{"$f":"IF($H23=0,0,CHOOSE($H23,SUMPRODUCT(#REF!*#REF!*(#REF!=$D23)),IF(ISNUMBER(Data!V23),100*ABS($G23-(Data!V23-$K23)/$M23),0),IF(ISNUMBER(Data!V23),100*ABS($G23-(Data!V23-$K23)/$M23),0)))","v":75},{"$f":"IF($H23=0,0,CHOOSE($H23,SUMPRODUCT(#REF!*#REF!*(#REF!=$D23)),IF(ISNUMBER(Data!W23),100*ABS($G23-(Data!W23-$K23)/$M23),0),IF(ISNUMBER(Data!W23),100*ABS($G23-(Data!W23-$K23)/$M23),0)))","v":50},{"$f":"IF($H23=0,0,CHOOSE($H23,SUMPRODUCT(#REF!*#REF!*(#REF!=$D23)),IF(ISNUMBER(Data!X23),100*ABS($G23-(Data!X23-$K23)/$M23),0),IF(ISNUMBER(Data!X23),100*ABS($G23-(Data!X23-$K23)/$M23),0)))","v":75},{"$f":"IF($H23=0,0,CHOOSE($H23,SUMPRODUCT(#REF!*#REF!*(#REF!=$D23)),IF(ISNUMBER(Data!Y23),100*ABS($G23-(Data!Y23-$K23)/$M23),0),IF(ISNUMBER(Data!Y23),100*ABS($G23-(Data!Y23-$K23)/$M23),0)))","v":75},{"$f":"IF($H23=0,0,CHOOSE($H23,SUMPRODUCT(#REF!*#REF!*(#REF!=$D23)),IF(ISNUMBER(Data!Z23),100*ABS($G23-(Data!Z23-$K23)/$M23),0),IF(ISNUMBER(Data!Z23),100*ABS($G23-(Data!Z23-$K23)/$M23),0)))","v":50}]

{"sheet":"rScoresWS2","index":31,"n_rows":43,"n_cols":18,"rows_kept":43,"cut":false,"hidden":true,"merged":[]}
[1,{"$f":"Scores!P4","v":"Australia"},{"$f":"Scores!Q4","v":"Cambodia"},{"$f":"Scores!R4","v":"China"},{"$f":"Scores!S4","v":"Hong Kong"},{"$f":"Scores!T4","v":"India"},{"$f":"Scores!U4","v":"Indonesia"},{"$f":"Scores!V4","v":"Japan"},{"$f":"Scores!W4","v":"Laos "},{"$f":"Scores!X4","v":"Malaysia"},{"$f":"Scores!Y4","v":"Myanmar"},{"$f":"Scores!Z4","v":"New Zealand"},{"$f":"Scores!AA4","v":"Philippines"},{"$f":"Scores!AB4","v":"Singapore"},{"$f":"Scores!AC4","v":"South Korea"},{"$f":"Scores!AD4","v":"Taiwan"},{"$f":"Scores!AE4","v":"Thailand"},{"$f":"Scores!AF4","v":"Vietnam "}]
[{"$f":"Scores!N5","v":"OVERALL SCORE"},{"$f":"ROUND(iScoresWS2!P5,$A$1)","v":85.2},{"$f":"ROUND(iScoresWS2!Q5,$A$1)","v":23.9},{"$f":"ROUND(iScoresWS2!R5,$A$1)","v":61.6},{"$f":"ROUND(iScoresWS2!S5,$A$1)","v":81.400000000000006},{"$f":"ROUND(iScoresWS2!T5,$A$1)","v":54.1},{"$f":"ROUND(iScoresWS2!U5,$A$1)","v":46.1},{"$f":"ROUND(iScoresWS2!V5,$A$1)","v":75.900000000000006},{"$f":"ROUND(iScoresWS2!W5,$A$1)","v":12.9},{"$f":"ROUND(iScoresWS2!X5,$A$1)","v":71.8},{"$f":"ROUND(iScoresWS2!Y5,$A$1)","v":10.8},{"$f":"ROUND(iScoresWS2!Z5,$A$1)","v":81.8},{"$f":"ROUND(iScoresWS2!AA5,$A$1)","v":50.4},{"$f":"ROUND(iScoresWS2!AB5,$A$1)","v":69.8},{"$f":"ROUND(iScoresWS2!AC5,$A$1)","v":71.8},{"$f":"ROUND(iScoresWS2!AD5,$A$1)","v":69.8},{"$f":"ROUND(iScoresWS2!AE5,$A$1)","v":53.1},{"$f":"ROUND(iScoresWS2!AF5,$A$1)","v":49.4}]
[{"$f":"Scores!N6","v":"1) INTELLECTUAL PROPERTY"},{"$f":"ROUND(iScoresWS2!P6,$A$1)","v":100},{"$f":"ROUND(iScoresWS2!Q6,$A$1)","v":20},{"$f":"ROUND(iScoresWS2!R6,$A$1)","v":60},{"$f":"ROUND(iScoresWS2!S6,$A$1)","v":80},{"$f":"ROUND(iScoresWS2!T6,$A$1)","v":40},{"$f":"ROUND(iScoresWS2!U6,$A$1)","v":20},{"$f":"ROUND(iScoresWS2!V6,$A$1)","v":80},{"$f":"ROUND(iScoresWS2!W6,$A$1)","v":0},{"$f":"ROUND(iScoresWS2!X6,$A$1)","v":60},{"$f":"ROUND(iScoresWS2!Y6,$A$1)","v":0},{"$f":"ROUND(iScoresWS2!Z6,$A$1)","v":100},{"$f":"ROUND(iScoresWS2!AA6,$A$1)","v":40},{"$f":"ROUND(iScoresWS2!AB6,$A$1)","v":80},{"$f":"ROUND(iScoresWS2!AC6,$A$1)","v":60},{"$f":"ROUND(iScoresWS2!AD6,$A$1)","v":80},{"$f":"ROUND(iScoresWS2!AE6,$A$1)","v":20},{"$f":"ROUND(iScoresWS2!AF6,$A$1)","v":40}]
[{"$f":"Scores!N7","v":"1.1)   Protection of IP rights"},{"$f":"ROUND(iScoresWS2!P7,$A$1)","v":100},{"$f":"ROUND(iScoresWS2!Q7,$A$1)","v":25},{"$f":"ROUND(iScoresWS2!R7,$A$1)","v":50},{"$f":"ROUND(iScoresWS2!S7,$A$1)","v":75},{"$f":"ROUND(iScoresWS2!T7,$A$1)","v":50},{"$f":"ROUND(iScoresWS2!U7,$A$1)","v":25},{"$f":"ROUND(iScoresWS2!V7,$A$1)","v":75},{"$f":"ROUND(iScoresWS2!W7,$A$1)","v":0},{"$f":"ROUND(iScoresWS2!X7,$A$1)","v":75},{"$f":"ROUND(iScoresWS2!Y7,$A$1)","v":0},{"$f":"ROUND(iScoresWS2!Z7,$A$1)","v":100},{"$f":"ROUND(iScoresWS2!AA7,$A$1)","v":25},{"$f":"ROUND(iScoresWS2!AB7,$A$1)","v":100},{"$f":"ROUND(iScoresWS2!AC7,$A$1)","v":50},{"$f":"ROUND(iScoresWS2!AD7,$A$1)","v":75},{"$f":"ROUND(iScoresWS2!AE7,$A$1)","v":25},{"$f":"ROUND(iScoresWS2!AF7,$A$1)","v":25}]
[{"$f":"Scores!N8","v":"1.2)   Customs recordal system"},{"$f":"ROUND(iScoresWS2!P8,$A$1)","v":100},{"$f":"ROUND(iScoresWS2!Q8,$A$1)","v":0},{"$f":"ROUND(iScoresWS2!R8,$A$1)","v":100},{"$f":"ROUND(iScoresWS2!S8,$A$1)","v":100},{"$f":"ROUND(iScoresWS2!T8,$A$1)","v":0},{"$f":"ROUND(iScoresWS2!U8,$A$1)","v":0},{"$f":"ROUND(iScoresWS2!V8,$A$1)","v":100},{"$f":"ROUND(iScoresWS2!W8,$A$1)","v":0},{"$f":"ROUND(iScoresWS2!X8,$A$1)","v":0},{"$f":"ROUND(iScoresWS2!Y8,$A$1)","v":0},{"$f":"ROUND(iScoresWS2!Z8,$A$1)","v":100},{"$f":"ROUND(iScoresWS2!AA8,$A$1)","v":100},{"$f":"ROUND(iScoresWS2!AB8,$A$1)","v":0},{"$f":"ROUND(iScoresWS2!AC8,$A$1)","v":100},{"$f":"ROUND(iScoresWS2!AD8,$A$1)","v":100},{"$f":"ROUND(iScoresWS2!AE8,$A$1)","v":0},{"$f":"ROUND(iScoresWS2!AF8,$A$1)","v":100}]
[{"$f":"Scores!N9","v":"2) TRANSPARENCY AND TRADE"},{"$f":"ROUND(iScoresWS2!P9,$A$1)","v":81.5},{"$f":"ROUND(iScoresWS2!Q9,$A$1)","v":25},{"$f":"ROUND(iScoresWS2!R9,$A$1)","v":80},{"$f":"ROUND(iScoresWS2!S9,$A$1)","v":69.5},{"$f":"ROUND(iScoresWS2!T9,$A$1)","v":71.8},{"$f":"ROUND(iScoresWS2!U9,$A$1)","v":78},{"$f":"ROUND(iScoresWS2!V9,$A$1)","v":88.8},{"$f":"ROUND(iScoresWS2!W9,$A$1)","v":11},{"$f":"ROUND(iScoresWS2!X9,$A$1)","v":93},{"$f":"ROUND(iScoresWS2!Y9,$A$1)","v":11.8},{"$f":"ROUND(iScoresWS2!Z9,$A$1)","v":47.8},{"$f":"ROUND(iScoresWS2!AA9,$A$1)","v":77.5},{"$f":"ROUND(iScoresWS2!AB9,$A$1)","v":25.8},{"$f":"ROUND(iScoresWS2!AC9,$A$1)","v":93.5},{"$f":"ROUND(iScoresWS2!AD9,$A$1)","v":44},{"$f":"ROUND(iScoresWS2!AE9,$A$1)","v":67.5},{"$f":"ROUND(iScoresWS2!AF9,$A$1)","v":59.8}]
[{"$f":"Scores!N10","v":"2.1)   Track and trace services"},{"$f":"ROUND(iScoresWS2!P10,$A$1)","v":76},{"$f":"ROUND(iScoresWS2!Q10,$A$1)","v":0},{"$f":"ROUND(iScoresWS2!R10,$A$1)","v":70},{"$f":"ROUND(iScoresWS2!S10,$A$1)","v":78},{"$f":"ROUND(iScoresWS2!T10,$A$1)","v":62},{"$f":"ROUND(iScoresWS2!U10,$A$1)","v":62},{"$f":"ROUND(iScoresWS2!V10,$A$1)","v":80},{"$f":"ROUND(iScoresWS2!W10,$A$1)","v":44},{"$f":"ROUND(iScoresWS2!X10,$A$1)","v":72},{"$f":"ROUND(iScoresWS2!Y10,$A$1)","v":47.2},{"$f":"ROUND(iScoresWS2!Z10,$A$1)","v":66},{"$f":"ROUND(iScoresWS2!AA10,$A$1)","v":60},{"$f":"ROUND(iScoresWS2!AB10,$A$1)","v":78},{"$f":"ROUND(iScoresWS2!AC10,$A$1)","v":74},{"$f":"ROUND(iScoresWS2!AD10,$A$1)","v":76},{"$f":"ROUND(iScoresWS2!AE10,$A$1)","v":70},{"$f":"ROUND(iScoresWS2!AF10,$A$1)","v":64}]
[{"$f":"Scores!N11","v":"2.2)   Adoption of Annex D of Revised Kyoto Convention  "},{"$f":"ROUND(iScoresWS2!P11,$A$1)","v":100},{"$f":"ROUND(iScoresWS2!Q11,$A$1)","v":100},{"$f":"ROUND(iScoresWS2!R11,$A$1)","v":100},{"$f":"ROUND(iScoresWS2!S11,$A$1)","v":0},{"$f":"ROUND(iScoresWS2!T11,$A$1)","v":100},{"$f":"ROUND(iScoresWS2!U11,$A$1)","v":100},{"$f":"ROUND(iScoresWS2!V11,$A$1)","v":100},{"$f":"ROUND(iScoresWS2!W11,$A$1)","v":0},{"$f":"ROUND(iScoresWS2!X11,$A$1)","v":100},{"$f":"ROUND(iScoresWS2!Y11,$A$1)","v":0},{"$f":"ROUND(iScoresWS2!Z11,$A$1)","v":100},{"$f":"ROUND(iScoresWS2!AA11,$A$1)","v":100},{"$f":"ROUND(iScoresWS2!AB11,$A$1)","v":0},{"$f":"ROUND(iScoresWS2!AC11,$A$1)","v":100},{"$f":"ROUND(iScoresWS2!AD11,$A$1)","v":0},{"$f":"ROUND(iScoresWS2!AE11,$A$1)","v":100},{"$f":"ROUND(iScoresWS2!AF11,$A$1)","v":100}]
[{"$f":"Scores!N12","v":"2.3)   Government cooperation"},{"$f":"ROUND(iScoresWS2!P12,$A$1)","v":100},{"$f":"ROUND(iScoresWS2!Q12,$A$1)","v":0},{"$f":"ROUND(iScoresWS2!R12,$A$1)","v":100},{"$f":"ROUND(iScoresWS2!S12,$A$1)","v":100},{"$f":"ROUND(iScoresWS2!T12,$A$1)","v":100},{"$f":"ROUND(iScoresWS2!U12,$A$1)","v":100},{"$f":"ROUND(iScoresWS2!V12,$A$1)","v":100},{"$f":"ROUND(iScoresWS2!W12,$A$1)","v":0},{"$f":"ROUND(iScoresWS2!X12,$A$1)","v":100},{"$f":"ROUND(iScoresWS2!Y12,$A$1)","v":0},{"$f":"ROUND(iScoresWS2!Z12,$A$1)","v":0},{"$f":"ROUND(iScoresWS2!AA12,$A$1)","v":100},{"$f":"ROUND(iScoresWS2!AB12,$A$1)","v":0},{"$f":"ROUND(iScoresWS2!AC12,$A$1)","v":100},{"$f":"ROUND(iScoresWS2!AD12,$A$1)","v":0},{"$f":"ROUND(iScoresWS2!AE12,$A$1)","v":0},{"$f":"ROUND(iScoresWS2!AF12,$A$1)","v":0}]
[{"$f":"Scores!N13","v":"2.4)   FTZ governance "},{"$f":"ROUND(iScoresWS2!P13,$A$1)","v":50},{"$f":"ROUND(iScoresWS2!Q13,$A$1)","v":0},{"$f":"ROUND(iScoresWS2!R13,$A$1)","v":50},{"$f":"ROUND(iScoresWS2!S13,$A$1)","v":100},{"$f":"ROUND(iScoresWS2!T13,$A$1)","v":25},{"$f":"ROUND(iScoresWS2!U13,$A$1)","v":50},{"$f":"ROUND(iScoresWS2!V13,$A$1)","v":75},{"$f":"ROUND(iScoresWS2!W13,$A$1)","v":0},{"$f":"ROUND(iScoresWS2!X13,$A$1)","v":100},{"$f":"ROUND(iScoresWS2!Y13,$A$1)","v":0},{"$f":"ROUND(iScoresWS2!Z13,$A$1)","v":25},{"$f":"ROUND(iScoresWS2!AA13,$A$1)","v":50},{"$f":"ROUND(iScoresWS2!AB13,$A$1)","v":25},{"$f":"ROUND(iScoresWS2!AC13,$A$1)","v":100},{"$f":"ROUND(iScoresWS2!AD13,$A$1)","v":100},{"$f":"ROUND(iScoresWS2!AE13,$A$1)","v":100},{"$f":"ROUND(iScoresWS2!AF13,$A$1)","v":75}]
[{"$f":"Scores!N14","v":"3) CUSTOMS ENVIRONMENT"},{"$f":"ROUND(iScoresWS2!P14,$A$1)","v":88},{"$f":"ROUND(iScoresWS2!Q14,$A$1)","v":22},{"$f":"ROUND(iScoresWS2!R14,$A$1)","v":61.9},{"$f":"ROUND(iScoresWS2!S14,$A$1)","v":83.5},{"$f":"ROUND(iScoresWS2!T14,$A$1)","v":65},{"$f":"ROUND(iScoresWS2!U14,$A$1)","v":41.8},{"$f":"ROUND(iScoresWS2!V14,$A$1)","v":70.8},{"$f":"ROUND(iScoresWS2!W14,$A$1)","v":0},{"$f":"ROUND(iScoresWS2!X14,$A$1)","v":70.3},{"$f":"ROUND(iScoresWS2!Y14,$A$1)","v":11.1},{"$f":"ROUND(iScoresWS2!Z14,$A$1)","v":87.8},{"$f":"ROUND(iScoresWS2!AA14,$A$1)","v":31.4},{"$f":"ROUND(iScoresWS2!AB14,$A$1)","v":89.9},{"$f":"ROUND(iScoresWS2!AC14,$A$1)","v":78.3},{"$f":"ROUND(iScoresWS2!AD14,$A$1)","v":83},{"$f":"ROUND(iScoresWS2!AE14,$A$1)","v":68.400000000000006},{"$f":"ROUND(iScoresWS2!AF14,$A$1)","v":53.2}]
[{"$f":"Scores!N15","v":"3.1) Percentage of shipments physically inspected"},{"$f":"ROUND(iScoresWS2!P15,$A$1)","v":3.8},{"$f":"ROUND(iScoresWS2!Q15,$A$1)","v":0},{"$f":"ROUND(iScoresWS2!R15,$A$1)","v":13.2},{"$f":"ROUND(iScoresWS2!S15,$A$1)","v":1.9},{"$f":"ROUND(iScoresWS2!T15,$A$1)","v":41.5},{"$f":"ROUND(iScoresWS2!U15,$A$1)","v":15.1},{"$f":"ROUND(iScoresWS2!V15,$A$1)","v":5.7},{"$f":"ROUND(iScoresWS2!W15,$A$1)","v":0},{"$f":"ROUND(iScoresWS2!X15,$A$1)","v":3.8},{"$f":"ROUND(iScoresWS2!Y15,$A$1)","v":0},{"$f":"ROUND(iScoresWS2!Z15,$A$1)","v":1.9},{"$f":"ROUND(iScoresWS2!AA15,$A$1)","v":18.899999999999999},{"$f":"ROUND(iScoresWS2!AB15,$A$1)","v":9.4},{"$f":"ROUND(iScoresWS2!AC15,$A$1)","v":34},{"$f":"ROUND(iScoresWS2!AD15,$A$1)","v":3.8},{"$f":"ROUND(iScoresWS2!AE15,$A$1)","v":5.7},{"$f":"ROUND(iScoresWS2!AF15,$A$1)","v":100}]
[{"$f":"Scores!N16","v":"3.2)   Customs clearance and inspection"},{"$f":"ROUND(iScoresWS2!P16,$A$1)","v":100},{"$f":"ROUND(iScoresWS2!Q16,$A$1)","v":66.7},{"$f":"ROUND(iScoresWS2!R16,$A$1)","v":50},{"$f":"ROUND(iScoresWS2!S16,$A$1)","v":100},{"$f":"ROUND(iScoresWS2!T16,$A$1)","v":50},{"$f":"ROUND(iScoresWS2!U16,$A$1)","v":50},{"$f":"ROUND(iScoresWS2!V16,$A$1)","v":83.3},{"$f":"ROUND(iScoresWS2!W16,$A$1)","v":0},{"$f":"ROUND(iScoresWS2!X16,$A$1)","v":100},{"$f":"ROUND(iScoresWS2!Y16,$A$1)","v":50},{"$f":"ROUND(iScoresWS2!Z16,$A$1)","v":100},{"$f":"ROUND(iScoresWS2!AA16,$A$1)","v":83.3},{"$f":"ROUND(iScoresWS2!AB16,$A$1)","v":100},{"$f":"ROUND(iScoresWS2!AC16,$A$1)","v":100},{"$f":"ROUND(iScoresWS2!AD16,$A$1)","v":100},{"$f":"ROUND(iScoresWS2!AE16,$A$1)","v":83.3},{"$f":"ROUND(iScoresWS2!AF16,$A$1)","v":50}]
[{"$f":"Scores!N17","v":"3.3)   Automation"},{"$f":"ROUND(iScoresWS2!P17,$A$1)","v":94.2},{"$f":"ROUND(iScoresWS2!Q17,$A$1)","v":32.299999999999997},{"$f":"ROUND(iScoresWS2!R17,$A$1)","v":96.8},{"$f":"ROUND(iScoresWS2!S17,$A$1)","v":100},{"$f":"ROUND(iScoresWS2!T17,$A$1)","v":96.8},{"$f":"ROUND(iScoresWS2!U17,$A$1)","v":80.599999999999994},{"$f":"ROUND(iScoresWS2!V17,$A$1)","v":57.4},{"$f":"ROUND(iScoresWS2!W17,$A$1)","v":0},{"$f":"ROUND(iScoresWS2!X17,$A$1)","v":64.5},{"$f":"ROUND(iScoresWS2!Y17,$A$1)","v":0},{"$f":"ROUND(iScoresWS2!Z17,$A$1)","v":94.2},{"$f":"ROUND(iScoresWS2!AA17,$A$1)","v":48.4},{"$f":"ROUND(iScoresWS2!AB17,$A$1)","v":100},{"$f":"ROUND(iScoresWS2!AC17,$A$1)","v":85.2},{"$f":"ROUND(iScoresWS2!AD17,$A$1)","v":96.8},{"$f":"ROUND(iScoresWS2!AE17,$A$1)","v":96.8},{"$f":"ROUND(iScoresWS2!AF17,$A$1)","v":64.5}]
[{"$f":"Scores!N18","v":"3.4)   Corruption"},{"$f":"ROUND(iScoresWS2!P18,$A$1)","v":100},{"$f":"ROUND(iScoresWS2!Q18,$A$1)","v":0},{"$f":"ROUND(iScoresWS2!R18,$A$1)","v":25},{"$f":"ROUND(iScoresWS2!S18,$A$1)","v":75},{"$f":"ROUND(iScoresWS2!T18,$A$1)","v":25},{"$f":"ROUND(iScoresWS2!U18,$A$1)","v":0},{"$f":"ROUND(iScoresWS2!V18,$A$1)","v":75},{"$f":"ROUND(iScoresWS2!W18,$A$1)","v":0},{"$f":"ROUND(iScoresWS2!X18,$A$1)","v":50},{"$f":"ROUND(iScoresWS2!Y18,$A$1)","v":0},{"$f":"ROUND(iScoresWS2!Z18,$A$1)","v":100},{"$f":"ROUND(iScoresWS2!AA18,$A$1)","v":0},{"$f":"ROUND(iScoresWS2!AB18,$A$1)","v":100},{"$f":"ROUND(iScoresWS2!AC18,$A$1)","v":50},{"$f":"ROUND(iScoresWS2!AD18,$A$1)","v":75},{"$f":"ROUND(iScoresWS2!AE18,$A$1)","v":25},{"$f":"ROUND(iScoresWS2!AF18,$A$1)","v":25}]
[{"$f":"Scores!N19","v":"3.5) Accredited Economic Operator programme"},{"$f":"ROUND(iScoresWS2!P19,$A$1)","v":100},{"$f":"ROUND(iScoresWS2!Q19,$A$1)","v":0},{"$f":"ROUND(iScoresWS2!R19,$A$1)","v":100},{"$f":"ROUND(iScoresWS2!S19,$A$1)","v":100},{"$f":"ROUND(iScoresWS2!T19,$A$1)","v":100},{"$f":"ROUND(iScoresWS2!U19,$A$1)","v":50},{"$f":"ROUND(iScoresWS2!V19,$A$1)","v":100},{"$f":"ROUND(iScoresWS2!W19,$A$1)","v":0},{"$f":"ROUND(iScoresWS2!X19,$A$1)","v":100},{"$f":"ROUND(iScoresWS2!Y19,$A$1)","v":0},{"$f":"ROUND(iScoresWS2!Z19,$A$1)","v":100},{"$f":"ROUND(iScoresWS2!AA19,$A$1)","v":0},{"$f":"ROUND(iScoresWS2!AB19,$A$1)","v":100},{"$f":"ROUND(iScoresWS2!AC19,$A$1)","v":100},{"$f":"ROUND(iScoresWS2!AD19,$A$1)","v":100},{"$f":"ROUND(iScoresWS2!AE19,$A$1)","v":100},{"$f":"ROUND(iScoresWS2!AF19,$A$1)","v":50}]
[{"$f":"Scores!N20","v":"4) SUPPLY AND DEMAND"},{"$f":"ROUND(iScoresWS2!P20,$A$1)","v":71.3},{"$f":"ROUND(iScoresWS2!Q20,$A$1)","v":28.7},{"$f":"ROUND(iScoresWS2!R20,$A$1)","v":44.4},{"$f":"ROUND(iScoresWS2!S20,$A$1)","v":92.6},{"$f":"ROUND(iScoresWS2!T20,$A$1)","v":39.799999999999997},{"$f":"ROUND(iScoresWS2!U20,$A$1)","v":44.4},{"$f":"ROUND(iScoresWS2!V20,$A$1)","v":63.9},{"$f":"ROUND(iScoresWS2!W20,$A$1)","v":40.700000000000003},{"$f":"ROUND(iScoresWS2!X20,$A$1)","v":63.9},{"$f":"ROUND(iScoresWS2!Y20,$A$1)","v":20.399999999999999},{"$f":"ROUND(iScoresWS2!Z20,$A$1)","v":91.7},{"$f":"ROUND(iScoresWS2!AA20,$A$1)","v":52.8},{"$f":"ROUND(iScoresWS2!AB20,$A$1)","v":83.3},{"$f":"ROUND(iScoresWS2!AC20,$A$1)","v":55.6},{"$f":"ROUND(iScoresWS2!AD20,$A$1)","v":72.2},{"$f":"ROUND(iScoresWS2!AE20,$A$1)","v":56.5},{"$f":"ROUND(iScoresWS2!AF20,$A$1)","v":44.4}]
[{"$f":"Scores!N21","v":"4.1)   Tax and social security burdens"},{"$f":"ROUND(iScoresWS2!P21,$A$1)","v":75},{"$f":"ROUND(iScoresWS2!Q21,$A$1)","v":50},{"$f":"ROUND(iScoresWS2!R21,$A$1)","v":50},{"$f":"ROUND(iScoresWS2!S21,$A$1)","v":100},{"$f":"ROUND(iScoresWS2!T21,$A$1)","v":50},{"$f":"ROUND(iScoresWS2!U21,$A$1)","v":50},{"$f":"ROUND(iScoresWS2!V21,$A$1)","v":75},{"$f":"ROUND(iScoresWS2!W21,$A$1)","v":50},{"$f":"ROUND(iScoresWS2!X21,$A$1)","v":75},{"$f":"ROUND(iScoresWS2!Y21,$A$1)","v":25},{"$f":"ROUND(iScoresWS2!Z21,$A$1)","v":100},{"$f":"ROUND(iScoresWS2!AA21,$A$1)","v":50},{"$f":"ROUND(iScoresWS2!AB21,$A$1)","v":75},{"$f":"ROUND(iScoresWS2!AC21,$A$1)","v":50},{"$f":"ROUND(iScoresWS2!AD21,$A$1)","v":75},{"$f":"ROUND(iScoresWS2!AE21,$A$1)","v":50},{"$f":"ROUND(iScoresWS2!AF21,$A$1)","v":50}]
[{"$f":"Scores!N22","v":"4.2)   Quality of state institutions"},{"$f":"ROUND(iScoresWS2!P22,$A$1)","v":88.9},{"$f":"ROUND(iScoresWS2!Q22,$A$1)","v":11.1},{"$f":"ROUND(iScoresWS2!R22,$A$1)","v":33.299999999999997},{"$f":"ROUND(iScoresWS2!S22,$A$1)","v":77.8},{"$f":"ROUND(iScoresWS2!T22,$A$1)","v":44.4},{"$f":"ROUND(iScoresWS2!U22,$A$1)","v":33.299999999999997},{"$f":"ROUND(iScoresWS2!V22,$A$1)","v":66.7},{"$f":"ROUND(iScoresWS2!W22,$A$1)","v":22.2},{"$f":"ROUND(iScoresWS2!X22,$A$1)","v":66.7},{"$f":"ROUND(iScoresWS2!Y22,$A$1)","v":11.1},{"$f":"ROUND(iScoresWS2!Z22,$A$1)","v":100},{"$f":"ROUND(iScoresWS2!AA22,$A$1)","v":33.299999999999997},{"$f":"ROUND(iScoresWS2!AB22,$A$1)","v":100},{"$f":"ROUND(iScoresWS2!AC22,$A$1)","v":66.7},{"$f":"ROUND(iScoresWS2!AD22,$A$1)","v":66.7},{"$f":"ROUND(iScoresWS2!AE22,$A$1)","v":44.4},{"$f":"ROUND(iScoresWS2!AF22,$A$1)","v":33.299999999999997}]
[{"$f":"Scores!N23","v":"4.3)   Labour market regulations"},{"$f":"ROUND(iScoresWS2!P23,$A$1)","v":50},{"$f":"ROUND(iScoresWS2!Q23,$A$1)","v":25},{"$f":"ROUND(iScoresWS2!R23,$A$1)","v":50},{"$f":"ROUND(iScoresWS2!S23,$A$1)","v":100},{"$f":"ROUND(iScoresWS2!T23,$A$1)","v":25},{"$f":"ROUND(iScoresWS2!U23,$A$1)","v":50},{"$f":"ROUND(iScoresWS2!V23,$A$1)","v":50},{"$f":"ROUND(iScoresWS2!W23,$A$1)","v":50},{"$f":"ROUND(iScoresWS2!X23,$A$1)","v":50},{"$f":"ROUND(iScoresWS2!Y23,$A$1)","v":25},{"$f":"ROUND(iScoresWS2!Z23,$A$1)","v":75},{"$f":"ROUND(iScoresWS2!AA23,$A$1)","v":75},{"$f":"ROUND(iScoresWS2!AB23,$A$1)","v":75},{"$f":"ROUND(iScoresWS2!AC23,$A$1)","v":50},{"$f":"ROUND(iScoresWS2!AD23,$A$1)","v":75},{"$f":"ROUND(iScoresWS2!AE23,$A$1)","v":75},{"$f":"ROUND(iScoresWS2!AF23,$A$1)","v":50}]
[]
[]
["RANK"]
[]
[{"$f":"A2","v":"OVERALL SCORE"},{"$f":"RANK(B2,$B2:$R2,0)","v":1},15,9,3,10,14,4,16,5,17,2,12,7,5,7,11,13]
[{"$f":"A3","v":"1) INTELLECTUAL PROPERTY"},{"$f":"RANK(B3,$B3:$R3,0)","v":1},13,7,3,10,13,3,16,7,16,1,10,3,7,3,13,10]
[{"$f":"A4","v":"1.1)   Protection of IP rights"},{"$f":"RANK(B4,$B4:$R4,0)","v":1},11,8,4,8,11,4,16,4,16,1,11,1,8,4,11,11]
[{"$f":"A5","v":"1.2)   Customs recordal system"},{"$f":"RANK(B5,$B5:$R5,0)","v":1},10,1,1,10,10,1,10,10,10,1,1,10,1,1,10,1]
["2) TRANSPARENCY AND TRADE",{"$f":"RANK(B6,$B6:$R6,0)","v":4},15,5,9,8,6,3,17,2,16,12,7,14,1,13,10,11]
["2.1)   Track and trace services",{"$f":"RANK(B7,$B7:$R7,0)","v":4},17,8,2,12,12,1,16,7,15,10,14,2,6,4,8,11]
["2.2)   Adoption of Annex D of Revised Kyoto Convention  ",{"$f":"RANK(B8,$B8:$R8,0)","v":1},1,1,13,1,1,1,13,1,13,1,1,13,1,13,1,1]
["2.3)   Government cooperation",{"$f":"RANK(B9,$B9:$R9,0)","v":1},10,1,1,1,1,1,10,1,10,10,1,10,1,10,10,10]
["2.4)   FTZ governance ",{"$f":"RANK(B10,$B10:$R10,0)","v":8},15,8,1,12,8,6,15,1,15,12,8,12,1,1,1,6]
["3) CUSTOMS ENVIRONMENT",{"$f":"RANK(B11,$B11:$R11,0)","v":2},15,11,4,10,13,7,17,8,16,3,14,1,6,5,9,12]
["3.1) Percentage of shipments physically inspected",{"$f":"RANK(B12,$B12:$R12,0)","v":10},15,6,13,2,5,8,15,10,15,13,4,7,3,10,8,1]
["3.2)   Customs clearance and inspection",{"$f":"RANK(B13,$B13:$R13,0)","v":1},11,12,1,12,12,8,17,1,12,1,8,1,1,1,8,12]
["3.3)   Automation",{"$f":"RANK(B14,$B14:$R14,0)","v":7},15,3,1,3,10,13,16,11,16,7,14,1,9,3,3,11]
["3.4)   Corruption",{"$f":"RANK(B15,$B15:$R15,0)","v":1},13,9,4,9,13,4,13,7,13,1,13,1,7,4,9,9]
["3.5) Accredited Economic Operator programme",{"$f":"RANK(B16,$B16:$R16,0)","v":1},14,1,1,1,12,1,14,1,14,1,14,1,1,1,1,12]
["4) SUPPLY AND DEMAND",{"$f":"RANK(B17,$B17:$R17,0)","v":5},16,11,1,15,11,6,14,6,17,2,10,3,9,4,8,11]
["4.1)   Tax and social security burdens",{"$f":"RANK(B18,$B18:$R18,0)","v":3},8,8,1,8,8,3,8,3,17,1,8,3,8,3,8,8]
["4.2)   Quality of state institutions",{"$f":"RANK(B19,$B19:$R19,0)","v":3},16,11,4,9,11,5,15,5,16,1,11,1,5,5,9,11]
["4.3)   Labour market regulations",{"$f":"RANK(B20,$B20:$R20,0)","v":7},15,7,1,15,7,7,7,7,15,2,2,2,7,2,2,7]

{"sheet":"iWeightsComp","index":32,"n_rows":22,"n_cols":30,"rows_kept":22,"cut":false,"hidden":true,"merged":[]}
[{"$f":"uxb_works!A63","v":"Indicator"},{"$f":"uxb_works!C35","v":1},{"$f":"uxb_works!D35","v":"OVERALL SCORE"},null,"Weight Profile 1",{"$f":"uxb_works!B4","v":1},{"$f":"INDEX(iWeights!$A$3:$A$15,F1)","v":"Final Weighting"},null,{"$f":"C1&\": Comparison Between the \"&G1&\" and \"&G2&\" Weight Profiles\"","v":"OVERALL SCORE: Comparison Between the Final Weighting and Final Weighting Weight Profiles"}]
[{"$f":"uxb_works!A64","v":"WEIGHT_COMP"},{"$f":"uxb_works!B64","v":2},{"$f":"INDEX(tblIndiSets!C93:C99,B2)","v":"Score: Weight Profile 1"},null,"Weight Profile 2",{"$f":"uxb_works!B34","v":1},{"$f":"INDEX(iWeights!$A$3:$A$15,F2)","v":"Final Weighting"},null,{"$f":"\"Sorted by: \"&C2&\" in \"&C3&\" Order\"","v":"Sorted by: Score: Weight Profile 1 in Descending Order"}]
[{"$f":"uxb_works!A65","v":"Order"},{"$f":"uxb_works!B65","v":false},{"$f":"IF(B3,\"Ascending\",\"Descending\")","v":"Descending"},{"$f":"IF(B3,1,0)","v":0},null,null,4,null,null,null,null,null,null,null,null,null,null,null,null,1,2,3,null,4,null,5,6,null,7]
[null,null,null,1,2,3,4,9,10,7,8,9,10,null,null,null,null,null,null,{"$f":"IF($B$2=T3,1,0)","v":0},{"$f":"IF($B$2=U3,1,0)","v":1},0,{"$f":"X4","v":0},0,{"$f":"X4","v":0},0,0,{"$f":"AC4","v":0},0,{"$f":"AC4","v":0}]
[0,null,"Status","Country","Score-ws1","Score-ws2","Score Change","Rank-ws1=","Rank-ws2=","Rank Change",null,"Rank-ws1","Rank-ws2",null,"Sort By","Rank","LU",null,null,"Country","Score-ws1","Score-ws2",null,"Score Change",null,"Rank-ws1=","Rank-ws2=",null,"Rank Change"]
[{"$f":"1+A5","v":1},null,{"$f":"tblTerritories!G3","v":1},{"$f":"tblTerritories!C3","v":"Australia"},{"$f":"INDEX(aScores,$B$1,$A6)","v":85.203537454070016},{"$f":"INDEX(rScoresWS2!$B$2:$R$20,$B$1,$A6)","v":85.2},{"$f":"ROUND(F6-E6,$G$3)","v":-3.5000000000000001E-3},{"$f":"INDEX(aRankNo,$B$1,$A6)","v":1},{"$f":"INDEX(rScoresWS2!$B$25:$R$43,$B$1,$A6)","v":1},{"$f":"H6-I6","v":0},null,{"$f":"IF(A6=\"\",\"\",IF(OR(H6=H5,H6=H7),CONCATENATE(\"=\",H6),H6))","v":1},{"$f":"IF(A6=\"\",\"\",IF(OR(I6=I5,I6=I7),CONCATENATE(\"=\",I6),I6))","v":1},null,{"$f":"IF(C6=0,\"\",IF($B$2=1,A6,INDEX($D$6:$J$22,A6,$B$2)))","v":85.203537454070016},{"$f":"IF(C6=0,\"\",RANK(O6,O$6:O$22,$D$3)+COUNTIF(O$6:O6,O6)-1)","v":1},{"$f":"IF(ISERROR(MATCH($A6,P$6:P$22,0)),\"\",MATCH($A6,P$6:P$22,0))","v":1},null,{"$f":"IF($Q6=\"\",0,INDEX($C$6:$C$22,$Q6,D$4))","v":1},{"$f":"IF($Q6=\"\",\"\",INDEX($D$6:$M$22,$Q6,D$4))","v":"Australia"},{"$f":"IF($Q6=\"\",\"\",INDEX($D$6:$M$22,$Q6,E$4))","v":85.203537454070016},{"$f":"IF($Q6=\"\",\"\",INDEX($D$6:$M$22,$Q6,F$4))","v":85.2},{"$f":"IF(X6<0,X6*100,0)","v":-0.35000000000000003},{"$f":"IF($Q6=\"\",\"\",INDEX($D$6:$M$22,$Q6,G$4))","v":-3.5000000000000001E-3},{"$f":"IF(X6>0,X6*100,0)","v":0},{"$f":"IF($Q6=\"\",\"\",INDEX($D$6:$M$22,$Q6,H$4))","v":1},{"$f":"IF($Q6=\"\",\"\",INDEX($D$6:$M$22,$Q6,I$4))","v":1},{"$f":"IF(AC6<0,AC6*10,0)","v":0},{"$f":"IF($Q6=\"\",\"\",INDEX($D$6:$M$22,$Q6,J$4))","v":0},{"$f":"IF(AC6>0,AC6*10,0)","v":0}]
[{"$f":"1+A6","v":2},null,{"$f":"tblTerritories!G4","v":1},{"$f":"tblTerritories!C4","v":"Cambodia"},23.921744324970128,{"$f":"INDEX(rScoresWS2!$B$2:$R$20,$B$1,$A7)","v":23.9},{"$f":"ROUND(F7-E7,$G$3)","v":-2.1700000000000001E-2},15,{"$f":"INDEX(rScoresWS2!$B$25:$R$43,$B$1,$A7)","v":15},{"$f":"H7-I7","v":0},null,{"$f":"IF(A7=\"\",\"\",IF(OR(H7=H6,H7=H8),CONCATENATE(\"=\",H7),H7))","v":15},{"$f":"IF(A7=\"\",\"\",IF(OR(I7=I6,I7=I8),CONCATENATE(\"=\",I7),I7))","v":15},null,{"$f":"IF(C7=0,\"\",IF($B$2=1,A7,INDEX($D$6:$J$22,A7,$B$2)))","v":23.921744324970128},{"$f":"IF(C7=0,\"\",RANK(O7,O$6:O$22,$D$3)+COUNTIF(O$6:O7,O7)-1)","v":15},{"$f":"IF(ISERROR(MATCH($A7,P$6:P$22,0)),\"\",MATCH($A7,P$6:P$22,0))","v":11},null,{"$f":"IF($Q7=\"\",0,INDEX($C$6:$C$22,$Q7,D$4))","v":1},{"$f":"IF($Q7=\"\",\"\",INDEX($D$6:$M$22,$Q7,D$4))","v":"New Zealand"},{"$f":"IF($Q7=\"\",\"\",INDEX($D$6:$M$22,$Q7,E$4))","v":81.806219145195101},{"$f":"IF($Q7=\"\",\"\",INDEX($D$6:$M$22,$Q7,F$4))","v":81.8},{"$f":"IF(X7<0,X7*100,0)","v":-0.62},{"$f":"IF($Q7=\"\",\"\",INDEX($D$6:$M$22,$Q7,G$4))","v":-6.1999999999999998E-3},{"$f":"IF(X7>0,X7*100,0)","v":0},{"$f":"IF($Q7=\"\",\"\",INDEX($D$6:$M$22,$Q7,H$4))","v":2},{"$f":"IF($Q7=\"\",\"\",INDEX($D$6:$M$22,$Q7,I$4))","v":2},{"$f":"IF(AC7<0,AC7*10,0)","v":0},{"$f":"IF($Q7=\"\",\"\",INDEX($D$6:$M$22,$Q7,J$4))","v":0},{"$f":"IF(AC7>0,AC7*10,0)","v":0}]
[3,null,{"$f":"tblTerritories!G5","v":1},{"$f":"tblTerritories!C5","v":"China"},61.576553729627371,{"$f":"INDEX(rScoresWS2!$B$2:$R$20,$B$1,$A8)","v":61.6},2.3400000000000001E-2,9,{"$f":"INDEX(rScoresWS2!$B$25:$R$43,$B$1,$A8)","v":9},0,null,9,9,null,61.576553729627371,{"$f":"IF(C8=0,\"\",RANK(O8,O$6:O$22,$D$3)+COUNTIF(O$6:O8,O8)-1)","v":9},4,null,1,"Hong Kong",81.408892382948977,81.400000000000006,-0.89,-8.8999999999999999E-3,0,3,3,0,0,0]
[4,null,{"$f":"tblTerritories!G6","v":1},{"$f":"tblTerritories!C6","v":"Hong Kong"},81.408892382948977,{"$f":"INDEX(rScoresWS2!$B$2:$R$20,$B$1,$A9)","v":81.400000000000006},-8.8999999999999999E-3,3,{"$f":"INDEX(rScoresWS2!$B$25:$R$43,$B$1,$A9)","v":3},0,null,3,3,null,81.408892382948977,{"$f":"IF(C9=0,\"\",RANK(O9,O$6:O$22,$D$3)+COUNTIF(O$6:O9,O9)-1)","v":3},7,null,1,"Japan",75.85877093618268,75.900000000000006,0,4.1200000000000001E-2,4.12,4,4,0,0,0]
[5,null,{"$f":"tblTerritories!G7","v":1},{"$f":"tblTerritories!C7","v":"India"},54.142809844232545,{"$f":"INDEX(rScoresWS2!$B$2:$R$20,$B$1,$A10)","v":54.1},-4.2799999999999998E-2,10,{"$f":"INDEX(rScoresWS2!$B$25:$R$43,$B$1,$A10)","v":10},0,null,10,10,null,54.142809844232545,{"$f":"IF(C10=0,\"\",RANK(O10,O$6:O$22,$D$3)+COUNTIF(O$6:O10,O10)-1)","v":10},14,null,1,"South Korea",71.827356799891803,71.8,-2.74,-2.7400000000000001E-2,0,5,5,0,0,0]
[6,null,{"$f":"tblTerritories!G8","v":1},{"$f":"tblTerritories!C8","v":"Indonesia"},46.066240616757959,{"$f":"INDEX(rScoresWS2!$B$2:$R$20,$B$1,$A11)","v":46.1},3.3799999999999997E-2,14,{"$f":"INDEX(rScoresWS2!$B$25:$R$43,$B$1,$A11)","v":14},0,null,14,14,null,46.066240616757959,{"$f":"IF(C11=0,\"\",RANK(O11,O$6:O$22,$D$3)+COUNTIF(O$6:O11,O11)-1)","v":14},9,null,1,"Malaysia",71.800162304727124,71.8,-0.02,-2.0000000000000001E-4,0,5,5,0,0,0]
[7,null,{"$f":"tblTerritories!G9","v":1},{"$f":"tblTerritories!C9","v":"Japan"},75.85877093618268,{"$f":"INDEX(rScoresWS2!$B$2:$R$20,$B$1,$A12)","v":75.900000000000006},4.1200000000000001E-2,4,{"$f":"INDEX(rScoresWS2!$B$25:$R$43,$B$1,$A12)","v":4},0,null,4,4,null,75.85877093618268,{"$f":"IF(C12=0,\"\",RANK(O12,O$6:O$22,$D$3)+COUNTIF(O$6:O12,O12)-1)","v":4},15,null,1,"Taiwan",69.814499222289854,69.8,-1.4500000000000002,-1.4500000000000001E-2,0,7,7,0,0,0]
[8,null,{"$f":"tblTerritories!G10","v":1},{"$f":"tblTerritories!C10","v":"Laos "},12.935185185185183,{"$f":"INDEX(rScoresWS2!$B$2:$R$20,$B$1,$A13)","v":12.9},-3.5200000000000002E-2,16,{"$f":"INDEX(rScoresWS2!$B$25:$R$43,$B$1,$A13)","v":16},0,null,16,16,null,12.935185185185183,{"$f":"IF(C13=0,\"\",RANK(O13,O$6:O$22,$D$3)+COUNTIF(O$6:O13,O13)-1)","v":16},13,null,1,"Singapore",69.755110062893081,69.8,0,4.4900000000000002E-2,4.49,7,7,0,0,0]
[9,null,{"$f":"tblTerritories!G11","v":1},{"$f":"tblTerritories!C11","v":"Malaysia"},71.800162304727124,{"$f":"INDEX(rScoresWS2!$B$2:$R$20,$B$1,$A14)","v":71.8},-2.0000000000000001E-4,5,{"$f":"INDEX(rScoresWS2!$B$25:$R$43,$B$1,$A14)","v":5},0,null,5,5,null,71.800162304727124,{"$f":"IF(C14=0,\"\",RANK(O14,O$6:O$22,$D$3)+COUNTIF(O$6:O14,O14)-1)","v":6},3,null,1,"China",61.576553729627371,61.6,0,2.3400000000000001E-2,2.34,9,9,0,0,0]
[10,null,{"$f":"tblTerritories!G12","v":1},{"$f":"tblTerritories!C12","v":"Myanmar"},10.82037037037037,{"$f":"INDEX(rScoresWS2!$B$2:$R$20,$B$1,$A15)","v":10.8},-2.0400000000000001E-2,17,{"$f":"INDEX(rScoresWS2!$B$25:$R$43,$B$1,$A15)","v":17},0,null,17,17,null,10.82037037037037,{"$f":"IF(C15=0,\"\",RANK(O15,O$6:O$22,$D$3)+COUNTIF(O$6:O15,O15)-1)","v":17},5,null,1,"India",54.142809844232545,54.1,-4.2799999999999994,-4.2799999999999998E-2,0,10,10,0,0,0]
[11,null,{"$f":"tblTerritories!G13","v":1},{"$f":"tblTerritories!C13","v":"New Zealand"},81.806219145195101,{"$f":"INDEX(rScoresWS2!$B$2:$R$20,$B$1,$A16)","v":81.8},-6.1999999999999998E-3,2,{"$f":"INDEX(rScoresWS2!$B$25:$R$43,$B$1,$A16)","v":2},0,null,2,2,null,81.806219145195101,{"$f":"IF(C16=0,\"\",RANK(O16,O$6:O$22,$D$3)+COUNTIF(O$6:O16,O16)-1)","v":2},16,null,1,"Thailand",53.103021234868464,53.1,-0.3,-3.0000000000000001E-3,0,11,11,0,0,0]
[12,null,{"$f":"tblTerritories!G14","v":1},{"$f":"tblTerritories!C14","v":"Philippines"},50.411355131759876,{"$f":"INDEX(rScoresWS2!$B$2:$R$20,$B$1,$A17)","v":50.4},-1.14E-2,12,{"$f":"INDEX(rScoresWS2!$B$25:$R$43,$B$1,$A17)","v":12},0,null,12,12,null,50.411355131759876,{"$f":"IF(C17=0,\"\",RANK(O17,O$6:O$22,$D$3)+COUNTIF(O$6:O17,O17)-1)","v":12},12,null,1,"Philippines",50.411355131759876,50.4,-1.1400000000000001,-1.14E-2,0,12,12,0,0,0]
[13,null,{"$f":"tblTerritories!G15","v":1},{"$f":"tblTerritories!C15","v":"Singapore"},69.755110062893081,{"$f":"INDEX(rScoresWS2!$B$2:$R$20,$B$1,$A18)","v":69.8},4.4900000000000002E-2,7,{"$f":"INDEX(rScoresWS2!$B$25:$R$43,$B$1,$A18)","v":7},0,null,7,7,null,69.755110062893081,{"$f":"IF(C18=0,\"\",RANK(O18,O$6:O$22,$D$3)+COUNTIF(O$6:O18,O18)-1)","v":8},17,null,1,"Vietnam ",49.355062724014331,49.4,0,4.4900000000000002E-2,4.49,13,13,0,0,0]
[14,null,{"$f":"tblTerritories!G16","v":1},{"$f":"tblTerritories!C16","v":"South Korea"},71.827356799891803,{"$f":"INDEX(rScoresWS2!$B$2:$R$20,$B$1,$A19)","v":71.8},-2.7400000000000001E-2,5,{"$f":"INDEX(rScoresWS2!$B$25:$R$43,$B$1,$A19)","v":5},0,null,5,5,null,71.827356799891803,{"$f":"IF(C19=0,\"\",RANK(O19,O$6:O$22,$D$3)+COUNTIF(O$6:O19,O19)-1)","v":5},6,null,1,"Indonesia",46.066240616757959,46.1,0,3.3799999999999997E-2,3.38,14,14,0,0,0]
[15,null,{"$f":"tblTerritories!G17","v":1},{"$f":"tblTerritories!C17","v":"Taiwan"},69.814499222289854,{"$f":"INDEX(rScoresWS2!$B$2:$R$20,$B$1,$A20)","v":69.8},-1.4500000000000001E-2,7,{"$f":"INDEX(rScoresWS2!$B$25:$R$43,$B$1,$A20)","v":7},0,null,7,7,null,69.814499222289854,{"$f":"IF(C20=0,\"\",RANK(O20,O$6:O$22,$D$3)+COUNTIF(O$6:O20,O20)-1)","v":7},2,null,1,"Cambodia",23.921744324970128,23.9,-2.17,-2.1700000000000001E-2,0,15,15,0,0,0]
[16,null,{"$f":"tblTerritories!G18","v":1},{"$f":"tblTerritories!C18","v":"Thailand"},53.103021234868464,{"$f":"INDEX(rScoresWS2!$B$2:$R$20,$B$1,$A21)","v":53.1},-3.0000000000000001E-3,11,{"$f":"INDEX(rScoresWS2!$B$25:$R$43,$B$1,$A21)","v":11},0,null,11,11,null,53.103021234868464,{"$f":"IF(C21=0,\"\",RANK(O21,O$6:O$22,$D$3)+COUNTIF(O$6:O21,O21)-1)","v":11},8,null,1,"Laos ",12.935185185185183,12.9,-3.52,-3.5200000000000002E-2,0,16,16,0,0,0]
[17,null,{"$f":"tblTerritories!G19","v":1},{"$f":"tblTerritories!C19","v":"Vietnam "},49.355062724014331,{"$f":"INDEX(rScoresWS2!$B$2:$R$20,$B$1,$A22)","v":49.4},4.4900000000000002E-2,13,{"$f":"INDEX(rScoresWS2!$B$25:$R$43,$B$1,$A22)","v":13},0,null,13,13,null,49.355062724014331,{"$f":"IF(C22=0,\"\",RANK(O22,O$6:O$22,$D$3)+COUNTIF(O$6:O22,O22)-1)","v":13},10,null,1,"Myanmar",10.82037037037037,10.8,-2.04,-2.0400000000000001E-2,0,17,17,0,0,0]

{"sheet":"Weight_Compare","index":33,"n_rows":64,"n_cols":15,"rows_kept":64,"cut":false,"hidden":true,"merged":[]}
[]
[]
[]
[null,{"$f":"iWeightsComp!I1","v":"OVERALL SCORE: Comparison Between the Final Weighting and Final Weighting Weight Profiles"}]
[null,{"$f":"iWeightsComp!I2","v":"Sorted by: Score: Weight Profile 1 in Descending Order"}]
[]
[]
[]
[null,null,null,null,{"$f":"iWeightsComp!T4","v":0},{"$f":"iWeightsComp!U4","v":1},{"$f":"iWeightsComp!V4","v":0},{"$f":"iWeightsComp!W4","v":0},{"$f":"iWeightsComp!X4","v":0},{"$f":"iWeightsComp!Y4","v":0},{"$f":"iWeightsComp!Z4","v":0},{"$f":"iWeightsComp!AA4","v":0},{"$f":"iWeightsComp!AB4","v":0},{"$f":"iWeightsComp!AC4","v":0},{"$f":"iWeightsComp!AD4","v":0}]
[null,null,null,{"$f":"IF(iWeightsComp!B3,1,0)","v":0},{"$f":"IF(E9=1,IF($D$10=0,100,-100),\"\")","v":""},{"$f":"IF(F9=1,IF($D$10=0,100,-100),\"\")","v":100},"",null,"",null,"","",null,""]
[null,null,null,null,"Country",{"$f":"\"Score: \"&iWeightsComp!G1&\" Weight Profile\"","v":"Score: Final Weighting Weight Profile"},{"$f":"\"Score: \"&iWeightsComp!G2&\" Weight Profile\"","v":"Score: Final Weighting Weight Profile"},null,"Change in Score",null,{"$f":"\"Rank: \"&iWeightsComp!G1&\" Weight Profile\"","v":"Rank: Final Weighting Weight Profile"},{"$f":"\"Rank: \"&iWeightsComp!G2&\" Weight Profile\"","v":"Rank: Final Weighting Weight Profile"},null,"Change in Rank"]
[null,null,null,{"$f":"iWeightsComp!S6","v":1},{"$f":"iWeightsComp!T6","v":"Australia"},{"$f":"iWeightsComp!U6","v":85.203537454070016},{"$f":"iWeightsComp!V6","v":85.2},{"$f":"IF(ISNUMBER(iWeightsComp!W6),REPT(\"|\",ABS(iWeightsComp!W6)/30),\"\")","v":""},{"$f":"iWeightsComp!X6","v":-3.5000000000000001E-3},{"$f":"IF(ISNUMBER(iWeightsComp!Y6),REPT(\"|\",iWeightsComp!Y6/30),\"\")","v":""},{"$f":"iWeightsComp!Z6","v":1},{"$f":"iWeightsComp!AA6","v":1},{"$f":"IF(ISNUMBER(iWeightsComp!AB6),REPT(\"|\",ABS(iWeightsComp!AB6)/3),\"\")","v":""},{"$f":"iWeightsComp!AC6","v":0},{"$f":"IF(ISNUMBER(iWeightsComp!AD6),REPT(\"|\",iWeightsComp!AD6/3),\"\")","v":""}]
[null,null,null,{"$f":"iWeightsComp!S7","v":1},{"$f":"iWeightsComp!T7","v":"New Zealand"},{"$f":"iWeightsComp!U7","v":81.806219145195101},{"$f":"iWeightsComp!V7","v":81.8},{"$f":"IF(ISNUMBER(iWeightsComp!W7),REPT(\"|\",ABS(iWeightsComp!W7)/30),\"\")","v":""},{"$f":"iWeightsComp!X7","v":-6.1999999999999998E-3},{"$f":"IF(ISNUMBER(iWeightsComp!Y7),REPT(\"|\",iWeightsComp!Y7/30),\"\")","v":""},{"$f":"iWeightsComp!Z7","v":2},{"$f":"iWeightsComp!AA7","v":2},{"$f":"IF(ISNUMBER(iWeightsComp!AB7),REPT(\"|\",ABS(iWeightsComp!AB7)/3),\"\")","v":""},{"$f":"iWeightsComp!AC7","v":0},{"$f":"IF(ISNUMBER(iWeightsComp!AD7),REPT(\"|\",iWeightsComp!AD7/3),\"\")","v":""}]
[null,null,null,{"$f":"iWeightsComp!S8","v":1},{"$f":"iWeightsComp!T8","v":"Hong Kong"},{"$f":"iWeightsComp!U8","v":81.408892382948977},{"$f":"iWeightsComp!V8","v":81.400000000000006},{"$f":"IF(ISNUMBER(iWeightsComp!W8),REPT(\"|\",ABS(iWeightsComp!W8)/30),\"\")","v":""},{"$f":"iWeightsComp!X8","v":-8.8999999999999999E-3},{"$f":"IF(ISNUMBER(iWeightsComp!Y8),REPT(\"|\",iWeightsComp!Y8/30),\"\")","v":""},{"$f":"iWeightsComp!Z8","v":3},{"$f":"iWeightsComp!AA8","v":3},{"$f":"IF(ISNUMBER(iWeightsComp!AB8),REPT(\"|\",ABS(iWeightsComp!AB8)/3),\"\")","v":""},{"$f":"iWeightsComp!AC8","v":0},{"$f":"IF(ISNUMBER(iWeightsComp!AD8),REPT(\"|\",iWeightsComp!AD8/3),\"\")","v":""}]
[null,null,null,{"$f":"iWeightsComp!S9","v":1},{"$f":"iWeightsComp!T9","v":"Japan"},{"$f":"iWeightsComp!U9","v":75.85877093618268},{"$f":"iWeightsComp!V9","v":75.900000000000006},{"$f":"IF(ISNUMBER(iWeightsComp!W9),REPT(\"|\",ABS(iWeightsComp!W9)/30),\"\")","v":""},{"$f":"iWeightsComp!X9","v":4.1200000000000001E-2},{"$f":"IF(ISNUMBER(iWeightsComp!Y9),REPT(\"|\",iWeightsComp!Y9/30),\"\")","v":""},{"$f":"iWeightsComp!Z9","v":4},{"$f":"iWeightsComp!AA9","v":4},{"$f":"IF(ISNUMBER(iWeightsComp!AB9),REPT(\"|\",ABS(iWeightsComp!AB9)/3),\"\")","v":""},{"$f":"iWeightsComp!AC9","v":0},{"$f":"IF(ISNUMBER(iWeightsComp!AD9),REPT(\"|\",iWeightsComp!AD9/3),\"\")","v":""}]
[null,null,null,{"$f":"iWeightsComp!S10","v":1},{"$f":"iWeightsComp!T10","v":"South Korea"},{"$f":"iWeightsComp!U10","v":71.827356799891803},{"$f":"iWeightsComp!V10","v":71.8},{"$f":"IF(ISNUMBER(iWeightsComp!W10),REPT(\"|\",ABS(iWeightsComp!W10)/30),\"\")","v":""},{"$f":"iWeightsComp!X10","v":-2.7400000000000001E-2},{"$f":"IF(ISNUMBER(iWeightsComp!Y10),REPT(\"|\",iWeightsComp!Y10/30),\"\")","v":""},{"$f":"iWeightsComp!Z10","v":5},{"$f":"iWeightsComp!AA10","v":5},{"$f":"IF(ISNUMBER(iWeightsComp!AB10),REPT(\"|\",ABS(iWeightsComp!AB10)/3),\"\")","v":""},{"$f":"iWeightsComp!AC10","v":0},{"$f":"IF(ISNUMBER(iWeightsComp!AD10),REPT(\"|\",iWeightsComp!AD10/3),\"\")","v":""}]
[null,null,null,{"$f":"iWeightsComp!S11","v":1},{"$f":"iWeightsComp!T11","v":"Malaysia"},{"$f":"iWeightsComp!U11","v":71.800162304727124},{"$f":"iWeightsComp!V11","v":71.8},{"$f":"IF(ISNUMBER(iWeightsComp!W11),REPT(\"|\",ABS(iWeightsComp!W11)/30),\"\")","v":""},{"$f":"iWeightsComp!X11","v":-2.0000000000000001E-4},{"$f":"IF(ISNUMBER(iWeightsComp!Y11),REPT(\"|\",iWeightsComp!Y11/30),\"\")","v":""},{"$f":"iWeightsComp!Z11","v":5},{"$f":"iWeightsComp!AA11","v":5},{"$f":"IF(ISNUMBER(iWeightsComp!AB11),REPT(\"|\",ABS(iWeightsComp!AB11)/3),\"\")","v":""},{"$f":"iWeightsComp!AC11","v":0},{"$f":"IF(ISNUMBER(iWeightsComp!AD11),REPT(\"|\",iWeightsComp!AD11/3),\"\")","v":""}]
[null,null,null,{"$f":"iWeightsComp!S12","v":1},{"$f":"iWeightsComp!T12","v":"Taiwan"},{"$f":"iWeightsComp!U12","v":69.814499222289854},{"$f":"iWeightsComp!V12","v":69.8},{"$f":"IF(ISNUMBER(iWeightsComp!W12),REPT(\"|\",ABS(iWeightsComp!W12)/30),\"\")","v":""},{"$f":"iWeightsComp!X12","v":-1.4500000000000001E-2},{"$f":"IF(ISNUMBER(iWeightsComp!Y12),REPT(\"|\",iWeightsComp!Y12/30),\"\")","v":""},{"$f":"iWeightsComp!Z12","v":7},{"$f":"iWeightsComp!AA12","v":7},{"$f":"IF(ISNUMBER(iWeightsComp!AB12),REPT(\"|\",ABS(iWeightsComp!AB12)/3),\"\")","v":""},{"$f":"iWeightsComp!AC12","v":0},{"$f":"IF(ISNUMBER(iWeightsComp!AD12),REPT(\"|\",iWeightsComp!AD12/3),\"\")","v":""}]
[null,null,null,{"$f":"iWeightsComp!S13","v":1},{"$f":"iWeightsComp!T13","v":"Singapore"},{"$f":"iWeightsComp!U13","v":69.755110062893081},{"$f":"iWeightsComp!V13","v":69.8},{"$f":"IF(ISNUMBER(iWeightsComp!W13),REPT(\"|\",ABS(iWeightsComp!W13)/30),\"\")","v":""},{"$f":"iWeightsComp!X13","v":4.4900000000000002E-2},{"$f":"IF(ISNUMBER(iWeightsComp!Y13),REPT(\"|\",iWeightsComp!Y13/30),\"\")","v":""},{"$f":"iWeightsComp!Z13","v":7},{"$f":"iWeightsComp!AA13","v":7},{"$f":"IF(ISNUMBER(iWeightsComp!AB13),REPT(\"|\",ABS(iWeightsComp!AB13)/3),\"\")","v":""},{"$f":"iWeightsComp!AC13","v":0},{"$f":"IF(ISNUMBER(iWeightsComp!AD13),REPT(\"|\",iWeightsComp!AD13/3),\"\")","v":""}]
[null,null,null,{"$f":"iWeightsComp!S14","v":1},{"$f":"iWeightsComp!T14","v":"China"},{"$f":"iWeightsComp!U14","v":61.576553729627371},{"$f":"iWeightsComp!V14","v":61.6},{"$f":"IF(ISNUMBER(iWeightsComp!W14),REPT(\"|\",ABS(iWeightsComp!W14)/30),\"\")","v":""},{"$f":"iWeightsComp!X14","v":2.3400000000000001E-2},{"$f":"IF(ISNUMBER(iWeightsComp!Y14),REPT(\"|\",iWeightsComp!Y14/30),\"\")","v":""},{"$f":"iWeightsComp!Z14","v":9},{"$f":"iWeightsComp!AA14","v":9},{"$f":"IF(ISNUMBER(iWeightsComp!AB14),REPT(\"|\",ABS(iWeightsComp!AB14)/3),\"\")","v":""},{"$f":"iWeightsComp!AC14","v":0},{"$f":"IF(ISNUMBER(iWeightsComp!AD14),REPT(\"|\",iWeightsComp!AD14/3),\"\")","v":""}]
[null,null,null,{"$f":"iWeightsComp!S15","v":1},{"$f":"iWeightsComp!T15","v":"India"},{"$f":"iWeightsComp!U15","v":54.142809844232545},{"$f":"iWeightsComp!V15","v":54.1},{"$f":"IF(ISNUMBER(iWeightsComp!W15),REPT(\"|\",ABS(iWeightsComp!W15)/30),\"\")","v":""},{"$f":"iWeightsComp!X15","v":-4.2799999999999998E-2},{"$f":"IF(ISNUMBER(iWeightsComp!Y15),REPT(\"|\",iWeightsComp!Y15/30),\"\")","v":""},{"$f":"iWeightsComp!Z15","v":10},{"$f":"iWeightsComp!AA15","v":10},{"$f":"IF(ISNUMBER(iWeightsComp!AB15),REPT(\"|\",ABS(iWeightsComp!AB15)/3),\"\")","v":""},{"$f":"iWeightsComp!AC15","v":0},{"$f":"IF(ISNUMBER(iWeightsComp!AD15),REPT(\"|\",iWeightsComp!AD15/3),\"\")","v":""}]
[null,null,null,{"$f":"iWeightsComp!S16","v":1},{"$f":"iWeightsComp!T16","v":"Thailand"},{"$f":"iWeightsComp!U16","v":53.103021234868464},{"$f":"iWeightsComp!V16","v":53.1},{"$f":"IF(ISNUMBER(iWeightsComp!W16),REPT(\"|\",ABS(iWeightsComp!W16)/30),\"\")","v":""},{"$f":"iWeightsComp!X16","v":-3.0000000000000001E-3},{"$f":"IF(ISNUMBER(iWeightsComp!Y16),REPT(\"|\",iWeightsComp!Y16/30),\"\")","v":""},{"$f":"iWeightsComp!Z16","v":11},{"$f":"iWeightsComp!AA16","v":11},{"$f":"IF(ISNUMBER(iWeightsComp!AB16),REPT(\"|\",ABS(iWeightsComp!AB16)/3),\"\")","v":""},{"$f":"iWeightsComp!AC16","v":0},{"$f":"IF(ISNUMBER(iWeightsComp!AD16),REPT(\"|\",iWeightsComp!AD16/3),\"\")","v":""}]
[null,null,null,{"$f":"iWeightsComp!S17","v":1},{"$f":"iWeightsComp!T17","v":"Philippines"},{"$f":"iWeightsComp!U17","v":50.411355131759876},{"$f":"iWeightsComp!V17","v":50.4},{"$f":"IF(ISNUMBER(iWeightsComp!W17),REPT(\"|\",ABS(iWeightsComp!W17)/30),\"\")","v":""},{"$f":"iWeightsComp!X17","v":-1.14E-2},{"$f":"IF(ISNUMBER(iWeightsComp!Y17),REPT(\"|\",iWeightsComp!Y17/30),\"\")","v":""},{"$f":"iWeightsComp!Z17","v":12},{"$f":"iWeightsComp!AA17","v":12},{"$f":"IF(ISNUMBER(iWeightsComp!AB17),REPT(\"|\",ABS(iWeightsComp!AB17)/3),\"\")","v":""},{"$f":"iWeightsComp!AC17","v":0},{"$f":"IF(ISNUMBER(iWeightsComp!AD17),REPT(\"|\",iWeightsComp!AD17/3),\"\")","v":""}]
[null,null,null,{"$f":"iWeightsComp!S18","v":1},{"$f":"iWeightsComp!T18","v":"Vietnam "},{"$f":"iWeightsComp!U18","v":49.355062724014331},{"$f":"iWeightsComp!V18","v":49.4},{"$f":"IF(ISNUMBER(iWeightsComp!W18),REPT(\"|\",ABS(iWeightsComp!W18)/30),\"\")","v":""},{"$f":"iWeightsComp!X18","v":4.4900000000000002E-2},{"$f":"IF(ISNUMBER(iWeightsComp!Y18),REPT(\"|\",iWeightsComp!Y18/30),\"\")","v":""},{"$f":"iWeightsComp!Z18","v":13},{"$f":"iWeightsComp!AA18","v":13},{"$f":"IF(ISNUMBER(iWeightsComp!AB18),REPT(\"|\",ABS(iWeightsComp!AB18)/3),\"\")","v":""},{"$f":"iWeightsComp!AC18","v":0},{"$f":"IF(ISNUMBER(iWeightsComp!AD18),REPT(\"|\",iWeightsComp!AD18/3),\"\")","v":""}]
[null,null,null,{"$f":"iWeightsComp!S19","v":1},{"$f":"iWeightsComp!T19","v":"Indonesia"},{"$f":"iWeightsComp!U19","v":46.066240616757959},{"$f":"iWeightsComp!V19","v":46.1},{"$f":"IF(ISNUMBER(iWeightsComp!W19),REPT(\"|\",ABS(iWeightsComp!W19)/30),\"\")","v":""},{"$f":"iWeightsComp!X19","v":3.3799999999999997E-2},{"$f":"IF(ISNUMBER(iWeightsComp!Y19),REPT(\"|\",iWeightsComp!Y19/30),\"\")","v":""},{"$f":"iWeightsComp!Z19","v":14},{"$f":"iWeightsComp!AA19","v":14},{"$f":"IF(ISNUMBER(iWeightsComp!AB19),REPT(\"|\",ABS(iWeightsComp!AB19)/3),\"\")","v":""},{"$f":"iWeightsComp!AC19","v":0},{"$f":"IF(ISNUMBER(iWeightsComp!AD19),REPT(\"|\",iWeightsComp!AD19/3),\"\")","v":""}]
[null,null,null,{"$f":"iWeightsComp!S20","v":1},{"$f":"iWeightsComp!T20","v":"Cambodia"},{"$f":"iWeightsComp!U20","v":23.921744324970128},{"$f":"iWeightsComp!V20","v":23.9},{"$f":"IF(ISNUMBER(iWeightsComp!W20),REPT(\"|\",ABS(iWeightsComp!W20)/30),\"\")","v":""},{"$f":"iWeightsComp!X20","v":-2.1700000000000001E-2},{"$f":"IF(ISNUMBER(iWeightsComp!Y20),REPT(\"|\",iWeightsComp!Y20/30),\"\")","v":""},{"$f":"iWeightsComp!Z20","v":15},{"$f":"iWeightsComp!AA20","v":15},{"$f":"IF(ISNUMBER(iWeightsComp!AB20),REPT(\"|\",ABS(iWeightsComp!AB20)/3),\"\")","v":""},{"$f":"iWeightsComp!AC20","v":0},{"$f":"IF(ISNUMBER(iWeightsComp!AD20),REPT(\"|\",iWeightsComp!AD20/3),\"\")","v":""}]
[null,null,null,{"$f":"iWeightsComp!S21","v":1},{"$f":"iWeightsComp!T21","v":"Laos "},{"$f":"iWeightsComp!U21","v":12.935185185185183},{"$f":"iWeightsComp!V21","v":12.9},{"$f":"IF(ISNUMBER(iWeightsComp!W21),REPT(\"|\",ABS(iWeightsComp!W21)/30),\"\")","v":""},{"$f":"iWeightsComp!X21","v":-3.5200000000000002E-2},{"$f":"IF(ISNUMBER(iWeightsComp!Y21),REPT(\"|\",iWeightsComp!Y21/30),\"\")","v":""},{"$f":"iWeightsComp!Z21","v":16},{"$f":"iWeightsComp!AA21","v":16},{"$f":"IF(ISNUMBER(iWeightsComp!AB21),REPT(\"|\",ABS(iWeightsComp!AB21)/3),\"\")","v":""},{"$f":"iWeightsComp!AC21","v":0},{"$f":"IF(ISNUMBER(iWeightsComp!AD21),REPT(\"|\",iWeightsComp!AD21/3),\"\")","v":""}]
[null,null,null,{"$f":"iWeightsComp!S22","v":1},{"$f":"iWeightsComp!T22","v":"Myanmar"},{"$f":"iWeightsComp!U22","v":10.82037037037037},{"$f":"iWeightsComp!V22","v":10.8},{"$f":"IF(ISNUMBER(iWeightsComp!W22),REPT(\"|\",ABS(iWeightsComp!W22)/30),\"\")","v":""},{"$f":"iWeightsComp!X22","v":-2.0400000000000001E-2},{"$f":"IF(ISNUMBER(iWeightsComp!Y22),REPT(\"|\",iWeightsComp!Y22/30),\"\")","v":""},{"$f":"iWeightsComp!Z22","v":17},{"$f":"iWeightsComp!AA22","v":17},{"$f":"IF(ISNUMBER(iWeightsComp!AB22),REPT(\"|\",ABS(iWeightsComp!AB22)/3),\"\")","v":""},{"$f":"iWeightsComp!AC22","v":0},{"$f":"IF(ISNUMBER(iWeightsComp!AD22),REPT(\"|\",iWeightsComp!AD22/3),\"\")","v":""}]
[null,null,null,{"$f":"iWeightsComp!S23","v":0},{"$f":"iWeightsComp!T23","v":0},{"$f":"iWeightsComp!U23","v":0},{"$f":"iWeightsComp!V23","v":0},{"$f":"IF(ISNUMBER(iWeightsComp!W23),REPT(\"|\",ABS(iWeightsComp!W23)/20),\"\")","v":""},{"$f":"iWeightsComp!X23","v":0},{"$f":"IF(ISNUMBER(iWeightsComp!Y23),REPT(\"|\",iWeightsComp!Y23/20),\"\")","v":""},{"$f":"iWeightsComp!Z23","v":0},{"$f":"iWeightsComp!AA23","v":0},{"$f":"IF(ISNUMBER(iWeightsComp!AB23),REPT(\"|\",ABS(iWeightsComp!AB23)/10),\"\")","v":""},{"$f":"iWeightsComp!AC23","v":0},{"$f":"IF(ISNUMBER(iWeightsComp!AD23),REPT(\"|\",iWeightsComp!AD23/10),\"\")","v":""}]
[null,null,null,{"$f":"iWeightsComp!S24","v":0},{"$f":"iWeightsComp!T24","v":0},{"$f":"iWeightsComp!U24","v":0},{"$f":"iWeightsComp!V24","v":0},{"$f":"IF(ISNUMBER(iWeightsComp!W24),REPT(\"|\",ABS(iWeightsComp!W24)/20),\"\")","v":""},{"$f":"iWeightsComp!X24","v":0},{"$f":"IF(ISNUMBER(iWeightsComp!Y24),REPT(\"|\",iWeightsComp!Y24/20),\"\")","v":""},{"$f":"iWeightsComp!Z24","v":0},{"$f":"iWeightsComp!AA24","v":0},{"$f":"IF(ISNUMBER(iWeightsComp!AB24),REPT(\"|\",ABS(iWeightsComp!AB24)/10),\"\")","v":""},{"$f":"iWeightsComp!AC24","v":0},{"$f":"IF(ISNUMBER(iWeightsComp!AD24),REPT(\"|\",iWeightsComp!AD24/10),\"\")","v":""}]
[null,null,null,{"$f":"iWeightsComp!S25","v":0},{"$f":"iWeightsComp!T25","v":0},{"$f":"iWeightsComp!U25","v":0},{"$f":"iWeightsComp!V25","v":0},{"$f":"IF(ISNUMBER(iWeightsComp!W25),REPT(\"|\",ABS(iWeightsComp!W25)/20),\"\")","v":""},{"$f":"iWeightsComp!X25","v":0},{"$f":"IF(ISNUMBER(iWeightsComp!Y25),REPT(\"|\",iWeightsComp!Y25/20),\"\")","v":""},{"$f":"iWeightsComp!Z25","v":0},{"$f":"iWeightsComp!AA25","v":0},{"$f":"IF(ISNUMBER(iWeightsComp!AB25),REPT(\"|\",ABS(iWeightsComp!AB25)/10),\"\")","v":""},{"$f":"iWeightsComp!AC25","v":0},{"$f":"IF(ISNUMBER(iWeightsComp!AD25),REPT(\"|\",iWeightsComp!AD25/10),\"\")","v":""}]
[null,null,null,{"$f":"iWeightsComp!S26","v":0},{"$f":"iWeightsComp!T26","v":0},{"$f":"iWeightsComp!U26","v":0},{"$f":"iWeightsComp!V26","v":0},{"$f":"IF(ISNUMBER(iWeightsComp!W26),REPT(\"|\",ABS(iWeightsComp!W26)/20),\"\")","v":""},{"$f":"iWeightsComp!X26","v":0},{"$f":"IF(ISNUMBER(iWeightsComp!Y26),REPT(\"|\",iWeightsComp!Y26/20),\"\")","v":""},{"$f":"iWeightsComp!Z26","v":0},{"$f":"iWeightsComp!AA26","v":0},{"$f":"IF(ISNUMBER(iWeightsComp!AB26),REPT(\"|\",ABS(iWeightsComp!AB26)/10),\"\")","v":""},{"$f":"iWeightsComp!AC26","v":0},{"$f":"IF(ISNUMBER(iWeightsComp!AD26),REPT(\"|\",iWeightsComp!AD26/10),\"\")","v":""}]
[null,null,null,{"$f":"iWeightsComp!S27","v":0},{"$f":"iWeightsComp!T27","v":0},{"$f":"iWeightsComp!U27","v":0},{"$f":"iWeightsComp!V27","v":0},{"$f":"IF(ISNUMBER(iWeightsComp!W27),REPT(\"|\",ABS(iWeightsComp!W27)/20),\"\")","v":""},{"$f":"iWeightsComp!X27","v":0},{"$f":"IF(ISNUMBER(iWeightsComp!Y27),REPT(\"|\",iWeightsComp!Y27/20),\"\")","v":""},{"$f":"iWeightsComp!Z27","v":0},{"$f":"iWeightsComp!AA27","v":0},{"$f":"IF(ISNUMBER(iWeightsComp!AB27),REPT(\"|\",ABS(iWeightsComp!AB27)/10),\"\")","v":""},{"$f":"iWeightsComp!AC27","v":0},{"$f":"IF(ISNUMBER(iWeightsComp!AD27),REPT(\"|\",iWeightsComp!AD27/10),\"\")","v":""}]
[null,null,null,{"$f":"iWeightsComp!S28","v":0},{"$f":"iWeightsComp!T28","v":0},{"$f":"iWeightsComp!U28","v":0},{"$f":"iWeightsComp!V28","v":0},{"$f":"IF(ISNUMBER(iWeightsComp!W28),REPT(\"|\",ABS(iWeightsComp!W28)/20),\"\")","v":""},{"$f":"iWeightsComp!X28","v":0},{"$f":"IF(ISNUMBER(iWeightsComp!Y28),REPT(\"|\",iWeightsComp!Y28/20),\"\")","v":""},{"$f":"iWeightsComp!Z28","v":0},{"$f":"iWeightsComp!AA28","v":0},{"$f":"IF(ISNUMBER(iWeightsComp!AB28),REPT(\"|\",ABS(iWeightsComp!AB28)/10),\"\")","v":""},{"$f":"iWeightsComp!AC28","v":0},{"$f":"IF(ISNUMBER(iWeightsComp!AD28),REPT(\"|\",iWeightsComp!AD28/10),\"\")","v":""}]
[null,null,null,{"$f":"iWeightsComp!S29","v":0},{"$f":"iWeightsComp!T29","v":0},{"$f":"iWeightsComp!U29","v":0},{"$f":"iWeightsComp!V29","v":0},{"$f":"IF(ISNUMBER(iWeightsComp!W29),REPT(\"|\",ABS(iWeightsComp!W29)/20),\"\")","v":""},{"$f":"iWeightsComp!X29","v":0},{"$f":"IF(ISNUMBER(iWeightsComp!Y29),REPT(\"|\",iWeightsComp!Y29/20),\"\")","v":""},{"$f":"iWeightsComp!Z29","v":0},{"$f":"iWeightsComp!AA29","v":0},{"$f":"IF(ISNUMBER(iWeightsComp!AB29),REPT(\"|\",ABS(iWeightsComp!AB29)/10),\"\")","v":""},{"$f":"iWeightsComp!AC29","v":0},{"$f":"IF(ISNUMBER(iWeightsComp!AD29),REPT(\"|\",iWeightsComp!AD29/10),\"\")","v":""}]
[null,null,null,{"$f":"iWeightsComp!S30","v":0},{"$f":"iWeightsComp!T30","v":0},{"$f":"iWeightsComp!U30","v":0},{"$f":"iWeightsComp!V30","v":0},{"$f":"IF(ISNUMBER(iWeightsComp!W30),REPT(\"|\",ABS(iWeightsComp!W30)/20),\"\")","v":""},{"$f":"iWeightsComp!X30","v":0},{"$f":"IF(ISNUMBER(iWeightsComp!Y30),REPT(\"|\",iWeightsComp!Y30/20),\"\")","v":""},{"$f":"iWeightsComp!Z30","v":0},{"$f":"iWeightsComp!AA30","v":0},{"$f":"IF(ISNUMBER(iWeightsComp!AB30),REPT(\"|\",ABS(iWeightsComp!AB30)/10),\"\")","v":""},{"$f":"iWeightsComp!AC30","v":0},{"$f":"IF(ISNUMBER(iWeightsComp!AD30),REPT(\"|\",iWeightsComp!AD30/10),\"\")","v":""}]
[null,null,null,{"$f":"iWeightsComp!S31","v":0},{"$f":"iWeightsComp!T31","v":0},{"$f":"iWeightsComp!U31","v":0},{"$f":"iWeightsComp!V31","v":0},{"$f":"IF(ISNUMBER(iWeightsComp!W31),REPT(\"|\",ABS(iWeightsComp!W31)/20),\"\")","v":""},{"$f":"iWeightsComp!X31","v":0},{"$f":"IF(ISNUMBER(iWeightsComp!Y31),REPT(\"|\",iWeightsComp!Y31/20),\"\")","v":""},{"$f":"iWeightsComp!Z31","v":0},{"$f":"iWeightsComp!AA31","v":0},{"$f":"IF(ISNUMBER(iWeightsComp!AB31),REPT(\"|\",ABS(iWeightsComp!AB31)/10),\"\")","v":""},{"$f":"iWeightsComp!AC31","v":0},{"$f":"IF(ISNUMBER(iWeightsComp!AD31),REPT(\"|\",iWeightsComp!AD31/10),\"\")","v":""}]
[null,null,null,{"$f":"iWeightsComp!S32","v":0},{"$f":"iWeightsComp!T32","v":0},{"$f":"iWeightsComp!U32","v":0},{"$f":"iWeightsComp!V32","v":0},{"$f":"IF(ISNUMBER(iWeightsComp!W32),REPT(\"|\",ABS(iWeightsComp!W32)/20),\"\")","v":""},{"$f":"iWeightsComp!X32","v":0},{"$f":"IF(ISNUMBER(iWeightsComp!Y32),REPT(\"|\",iWeightsComp!Y32/20),\"\")","v":""},{"$f":"iWeightsComp!Z32","v":0},{"$f":"iWeightsComp!AA32","v":0},{"$f":"IF(ISNUMBER(iWeightsComp!AB32),REPT(\"|\",ABS(iWeightsComp!AB32)/10),\"\")","v":""},{"$f":"iWeightsComp!AC32","v":0},{"$f":"IF(ISNUMBER(iWeightsComp!AD32),REPT(\"|\",iWeightsComp!AD32/10),\"\")","v":""}]
[null,null,null,{"$f":"iWeightsComp!S33","v":0},{"$f":"iWeightsComp!T33","v":0},{"$f":"iWeightsComp!U33","v":0},{"$f":"iWeightsComp!V33","v":0},{"$f":"IF(ISNUMBER(iWeightsComp!W33),REPT(\"|\",ABS(iWeightsComp!W33)/20),\"\")","v":""},{"$f":"iWeightsComp!X33","v":0},{"$f":"IF(ISNUMBER(iWeightsComp!Y33),REPT(\"|\",iWeightsComp!Y33/20),\"\")","v":""},{"$f":"iWeightsComp!Z33","v":0},{"$f":"iWeightsComp!AA33","v":0},{"$f":"IF(ISNUMBER(iWeightsComp!AB33),REPT(\"|\",ABS(iWeightsComp!AB33)/10),\"\")","v":""},{"$f":"iWeightsComp!AC33","v":0},{"$f":"IF(ISNUMBER(iWeightsComp!AD33),REPT(\"|\",iWeightsComp!AD33/10),\"\")","v":""}]
[null,null,null,{"$f":"iWeightsComp!S34","v":0},{"$f":"iWeightsComp!T34","v":0},{"$f":"iWeightsComp!U34","v":0},{"$f":"iWeightsComp!V34","v":0},{"$f":"IF(ISNUMBER(iWeightsComp!W34),REPT(\"|\",ABS(iWeightsComp!W34)/20),\"\")","v":""},{"$f":"iWeightsComp!X34","v":0},{"$f":"IF(ISNUMBER(iWeightsComp!Y34),REPT(\"|\",iWeightsComp!Y34/20),\"\")","v":""},{"$f":"iWeightsComp!Z34","v":0},{"$f":"iWeightsComp!AA34","v":0},{"$f":"IF(ISNUMBER(iWeightsComp!AB34),REPT(\"|\",ABS(iWeightsComp!AB34)/10),\"\")","v":""},{"$f":"iWeightsComp!AC34","v":0},{"$f":"IF(ISNUMBER(iWeightsComp!AD34),REPT(\"|\",iWeightsComp!AD34/10),\"\")","v":""}]
[null,null,null,{"$f":"iWeightsComp!S35","v":0},{"$f":"iWeightsComp!T35","v":0},{"$f":"iWeightsComp!U35","v":0},{"$f":"iWeightsComp!V35","v":0},{"$f":"IF(ISNUMBER(iWeightsComp!W35),REPT(\"|\",ABS(iWeightsComp!W35)/20),\"\")","v":""},{"$f":"iWeightsComp!X35","v":0},{"$f":"IF(ISNUMBER(iWeightsComp!Y35),REPT(\"|\",iWeightsComp!Y35/20),\"\")","v":""},{"$f":"iWeightsComp!Z35","v":0},{"$f":"iWeightsComp!AA35","v":0},{"$f":"IF(ISNUMBER(iWeightsComp!AB35),REPT(\"|\",ABS(iWeightsComp!AB35)/10),\"\")","v":""},{"$f":"iWeightsComp!AC35","v":0},{"$f":"IF(ISNUMBER(iWeightsComp!AD35),REPT(\"|\",iWeightsComp!AD35/10),\"\")","v":""}]
[null,null,null,{"$f":"iWeightsComp!S36","v":0},{"$f":"iWeightsComp!T36","v":0},{"$f":"iWeightsComp!U36","v":0},{"$f":"iWeightsComp!V36","v":0},{"$f":"IF(ISNUMBER(iWeightsComp!W36),REPT(\"|\",ABS(iWeightsComp!W36)/20),\"\")","v":""},{"$f":"iWeightsComp!X36","v":0},{"$f":"IF(ISNUMBER(iWeightsComp!Y36),REPT(\"|\",iWeightsComp!Y36/20),\"\")","v":""},{"$f":"iWeightsComp!Z36","v":0},{"$f":"iWeightsComp!AA36","v":0},{"$f":"IF(ISNUMBER(iWeightsComp!AB36),REPT(\"|\",ABS(iWeightsComp!AB36)/10),\"\")","v":""},{"$f":"iWeightsComp!AC36","v":0},{"$f":"IF(ISNUMBER(iWeightsComp!AD36),REPT(\"|\",iWeightsComp!AD36/10),\"\")","v":""}]
[null,null,null,{"$f":"iWeightsComp!S37","v":0},{"$f":"iWeightsComp!T37","v":0},{"$f":"iWeightsComp!U37","v":0},{"$f":"iWeightsComp!V37","v":0},{"$f":"IF(ISNUMBER(iWeightsComp!W37),REPT(\"|\",ABS(iWeightsComp!W37)/20),\"\")","v":""},{"$f":"iWeightsComp!X37","v":0},{"$f":"IF(ISNUMBER(iWeightsComp!Y37),REPT(\"|\",iWeightsComp!Y37/20),\"\")","v":""},{"$f":"iWeightsComp!Z37","v":0},{"$f":"iWeightsComp!AA37","v":0},{"$f":"IF(ISNUMBER(iWeightsComp!AB37),REPT(\"|\",ABS(iWeightsComp!AB37)/10),\"\")","v":""},{"$f":"iWeightsComp!AC37","v":0},{"$f":"IF(ISNUMBER(iWeightsComp!AD37),REPT(\"|\",iWeightsComp!AD37/10),\"\")","v":""}]
[null,null,null,{"$f":"iWeightsComp!S38","v":0},{"$f":"iWeightsComp!T38","v":0},{"$f":"iWeightsComp!U38","v":0},{"$f":"iWeightsComp!V38","v":0},{"$f":"IF(ISNUMBER(iWeightsComp!W38),REPT(\"|\",ABS(iWeightsComp!W38)/20),\"\")","v":""},{"$f":"iWeightsComp!X38","v":0},{"$f":"IF(ISNUMBER(iWeightsComp!Y38),REPT(\"|\",iWeightsComp!Y38/20),\"\")","v":""},{"$f":"iWeightsComp!Z38","v":0},{"$f":"iWeightsComp!AA38","v":0},{"$f":"IF(ISNUMBER(iWeightsComp!AB38),REPT(\"|\",ABS(iWeightsComp!AB38)/10),\"\")","v":""},{"$f":"iWeightsComp!AC38","v":0},{"$f":"IF(ISNUMBER(iWeightsComp!AD38),REPT(\"|\",iWeightsComp!AD38/10),\"\")","v":""}]
[null,null,null,{"$f":"iWeightsComp!S39","v":0},{"$f":"iWeightsComp!T39","v":0},{"$f":"iWeightsComp!U39","v":0},{"$f":"iWeightsComp!V39","v":0},{"$f":"IF(ISNUMBER(iWeightsComp!W39),REPT(\"|\",ABS(iWeightsComp!W39)/20),\"\")","v":""},{"$f":"iWeightsComp!X39","v":0},{"$f":"IF(ISNUMBER(iWeightsComp!Y39),REPT(\"|\",iWeightsComp!Y39/20),\"\")","v":""},{"$f":"iWeightsComp!Z39","v":0},{"$f":"iWeightsComp!AA39","v":0},{"$f":"IF(ISNUMBER(iWeightsComp!AB39),REPT(\"|\",ABS(iWeightsComp!AB39)/10),\"\")","v":""},{"$f":"iWeightsComp!AC39","v":0},{"$f":"IF(ISNUMBER(iWeightsComp!AD39),REPT(\"|\",iWeightsComp!AD39/10),\"\")","v":""}]
[null,null,null,{"$f":"iWeightsComp!S40","v":0},{"$f":"iWeightsComp!T40","v":0},{"$f":"iWeightsComp!U40","v":0},{"$f":"iWeightsComp!V40","v":0},{"$f":"IF(ISNUMBER(iWeightsComp!W40),REPT(\"|\",ABS(iWeightsComp!W40)/20),\"\")","v":""},{"$f":"iWeightsComp!X40","v":0},{"$f":"IF(ISNUMBER(iWeightsComp!Y40),REPT(\"|\",iWeightsComp!Y40/20),\"\")","v":""},{"$f":"iWeightsComp!Z40","v":0},{"$f":"iWeightsComp!AA40","v":0},{"$f":"IF(ISNUMBER(iWeightsComp!AB40),REPT(\"|\",ABS(iWeightsComp!AB40)/10),\"\")","v":""},{"$f":"iWeightsComp!AC40","v":0},{"$f":"IF(ISNUMBER(iWeightsComp!AD40),REPT(\"|\",iWeightsComp!AD40/10),\"\")","v":""}]
[null,null,null,{"$f":"iWeightsComp!S41","v":0},{"$f":"iWeightsComp!T41","v":0},{"$f":"iWeightsComp!U41","v":0},{"$f":"iWeightsComp!V41","v":0},{"$f":"IF(ISNUMBER(iWeightsComp!W41),REPT(\"|\",ABS(iWeightsComp!W41)/20),\"\")","v":""},{"$f":"iWeightsComp!X41","v":0},{"$f":"IF(ISNUMBER(iWeightsComp!Y41),REPT(\"|\",iWeightsComp!Y41/20),\"\")","v":""},{"$f":"iWeightsComp!Z41","v":0},{"$f":"iWeightsComp!AA41","v":0},{"$f":"IF(ISNUMBER(iWeightsComp!AB41),REPT(\"|\",ABS(iWeightsComp!AB41)/10),\"\")","v":""},{"$f":"iWeightsComp!AC41","v":0},{"$f":"IF(ISNUMBER(iWeightsComp!AD41),REPT(\"|\",iWeightsComp!AD41/10),\"\")","v":""}]
[null,null,null,{"$f":"iWeightsComp!S42","v":0},{"$f":"iWeightsComp!T42","v":0},{"$f":"iWeightsComp!U42","v":0},{"$f":"iWeightsComp!V42","v":0},{"$f":"IF(ISNUMBER(iWeightsComp!W42),REPT(\"|\",ABS(iWeightsComp!W42)/20),\"\")","v":""},{"$f":"iWeightsComp!X42","v":0},{"$f":"IF(ISNUMBER(iWeightsComp!Y42),REPT(\"|\",iWeightsComp!Y42/20),\"\")","v":""},{"$f":"iWeightsComp!Z42","v":0},{"$f":"iWeightsComp!AA42","v":0},{"$f":"IF(ISNUMBER(iWeightsComp!AB42),REPT(\"|\",ABS(iWeightsComp!AB42)/10),\"\")","v":""},{"$f":"iWeightsComp!AC42","v":0},{"$f":"IF(ISNUMBER(iWeightsComp!AD42),REPT(\"|\",iWeightsComp!AD42/10),\"\")","v":""}]
[null,null,null,{"$f":"iWeightsComp!S43","v":0},{"$f":"iWeightsComp!T43","v":0},{"$f":"iWeightsComp!U43","v":0},{"$f":"iWeightsComp!V43","v":0},{"$f":"IF(ISNUMBER(iWeightsComp!W43),REPT(\"|\",ABS(iWeightsComp!W43)/20),\"\")","v":""},{"$f":"iWeightsComp!X43","v":0},{"$f":"IF(ISNUMBER(iWeightsComp!Y43),REPT(\"|\",iWeightsComp!Y43/20),\"\")","v":""},{"$f":"iWeightsComp!Z43","v":0},{"$f":"iWeightsComp!AA43","v":0},{"$f":"IF(ISNUMBER(iWeightsComp!AB43),REPT(\"|\",ABS(iWeightsComp!AB43)/10),\"\")","v":""},{"$f":"iWeightsComp!AC43","v":0},{"$f":"IF(ISNUMBER(iWeightsComp!AD43),REPT(\"|\",iWeightsComp!AD43/10),\"\")","v":""}]
[null,null,null,{"$f":"iWeightsComp!S44","v":0},{"$f":"iWeightsComp!T44","v":0},{"$f":"iWeightsComp!U44","v":0},{"$f":"iWeightsComp!V44","v":0},{"$f":"IF(ISNUMBER(iWeightsComp!W44),REPT(\"|\",ABS(iWeightsComp!W44)/20),\"\")","v":""},{"$f":"iWeightsComp!X44","v":0},{"$f":"IF(ISNUMBER(iWeightsComp!Y44),REPT(\"|\",iWeightsComp!Y44/20),\"\")","v":""},{"$f":"iWeightsComp!Z44","v":0},{"$f":"iWeightsComp!AA44","v":0},{"$f":"IF(ISNUMBER(iWeightsComp!AB44),REPT(\"|\",ABS(iWeightsComp!AB44)/10),\"\")","v":""},{"$f":"iWeightsComp!AC44","v":0},{"$f":"IF(ISNUMBER(iWeightsComp!AD44),REPT(\"|\",iWeightsComp!AD44/10),\"\")","v":""}]
[null,null,null,{"$f":"iWeightsComp!S45","v":0},{"$f":"iWeightsComp!T45","v":0},{"$f":"iWeightsComp!U45","v":0},{"$f":"iWeightsComp!V45","v":0},{"$f":"IF(ISNUMBER(iWeightsComp!W45),REPT(\"|\",ABS(iWeightsComp!W45)/20),\"\")","v":""},{"$f":"iWeightsComp!X45","v":0},{"$f":"IF(ISNUMBER(iWeightsComp!Y45),REPT(\"|\",iWeightsComp!Y45/20),\"\")","v":""},{"$f":"iWeightsComp!Z45","v":0},{"$f":"iWeightsComp!AA45","v":0},{"$f":"IF(ISNUMBER(iWeightsComp!AB45),REPT(\"|\",ABS(iWeightsComp!AB45)/10),\"\")","v":""},{"$f":"iWeightsComp!AC45","v":0},{"$f":"IF(ISNUMBER(iWeightsComp!AD45),REPT(\"|\",iWeightsComp!AD45/10),\"\")","v":""}]
[null,null,null,{"$f":"iWeightsComp!S46","v":0},{"$f":"iWeightsComp!T46","v":0},{"$f":"iWeightsComp!U46","v":0},{"$f":"iWeightsComp!V46","v":0},{"$f":"IF(ISNUMBER(iWeightsComp!W46),REPT(\"|\",ABS(iWeightsComp!W46)/20),\"\")","v":""},{"$f":"iWeightsComp!X46","v":0},{"$f":"IF(ISNUMBER(iWeightsComp!Y46),REPT(\"|\",iWeightsComp!Y46/20),\"\")","v":""},{"$f":"iWeightsComp!Z46","v":0},{"$f":"iWeightsComp!AA46","v":0},{"$f":"IF(ISNUMBER(iWeightsComp!AB46),REPT(\"|\",ABS(iWeightsComp!AB46)/10),\"\")","v":""},{"$f":"iWeightsComp!AC46","v":0},{"$f":"IF(ISNUMBER(iWeightsComp!AD46),REPT(\"|\",iWeightsComp!AD46/10),\"\")","v":""}]
[null,null,null,{"$f":"iWeightsComp!S47","v":0},{"$f":"iWeightsComp!T47","v":0},{"$f":"iWeightsComp!U47","v":0},{"$f":"iWeightsComp!V47","v":0},{"$f":"IF(ISNUMBER(iWeightsComp!W47),REPT(\"|\",ABS(iWeightsComp!W47)/20),\"\")","v":""},{"$f":"iWeightsComp!X47","v":0},{"$f":"IF(ISNUMBER(iWeightsComp!Y47),REPT(\"|\",iWeightsComp!Y47/20),\"\")","v":""},{"$f":"iWeightsComp!Z47","v":0},{"$f":"iWeightsComp!AA47","v":0},{"$f":"IF(ISNUMBER(iWeightsComp!AB47),REPT(\"|\",ABS(iWeightsComp!AB47)/10),\"\")","v":""},{"$f":"iWeightsComp!AC47","v":0},{"$f":"IF(ISNUMBER(iWeightsComp!AD47),REPT(\"|\",iWeightsComp!AD47/10),\"\")","v":""}]
[null,null,null,{"$f":"iWeightsComp!S48","v":0},{"$f":"iWeightsComp!T48","v":0},{"$f":"iWeightsComp!U48","v":0},{"$f":"iWeightsComp!V48","v":0},{"$f":"IF(ISNUMBER(iWeightsComp!W48),REPT(\"|\",ABS(iWeightsComp!W48)/20),\"\")","v":""},{"$f":"iWeightsComp!X48","v":0},{"$f":"IF(ISNUMBER(iWeightsComp!Y48),REPT(\"|\",iWeightsComp!Y48/20),\"\")","v":""},{"$f":"iWeightsComp!Z48","v":0},{"$f":"iWeightsComp!AA48","v":0},{"$f":"IF(ISNUMBER(iWeightsComp!AB48),REPT(\"|\",ABS(iWeightsComp!AB48)/10),\"\")","v":""},{"$f":"iWeightsComp!AC48","v":0},{"$f":"IF(ISNUMBER(iWeightsComp!AD48),REPT(\"|\",iWeightsComp!AD48/10),\"\")","v":""}]
[null,null,null,{"$f":"iWeightsComp!S49","v":0},{"$f":"iWeightsComp!T49","v":0},{"$f":"iWeightsComp!U49","v":0},{"$f":"iWeightsComp!V49","v":0},{"$f":"IF(ISNUMBER(iWeightsComp!W49),REPT(\"|\",ABS(iWeightsComp!W49)/20),\"\")","v":""},{"$f":"iWeightsComp!X49","v":0},{"$f":"IF(ISNUMBER(iWeightsComp!Y49),REPT(\"|\",iWeightsComp!Y49/20),\"\")","v":""},{"$f":"iWeightsComp!Z49","v":0},{"$f":"iWeightsComp!AA49","v":0},{"$f":"IF(ISNUMBER(iWeightsComp!AB49),REPT(\"|\",ABS(iWeightsComp!AB49)/10),\"\")","v":""},{"$f":"iWeightsComp!AC49","v":0},{"$f":"IF(ISNUMBER(iWeightsComp!AD49),REPT(\"|\",iWeightsComp!AD49/10),\"\")","v":""}]
[null,null,null,{"$f":"iWeightsComp!S50","v":0},{"$f":"iWeightsComp!T50","v":0},{"$f":"iWeightsComp!U50","v":0},{"$f":"iWeightsComp!V50","v":0},{"$f":"IF(ISNUMBER(iWeightsComp!W50),REPT(\"|\",ABS(iWeightsComp!W50)/20),\"\")","v":""},{"$f":"iWeightsComp!X50","v":0},{"$f":"IF(ISNUMBER(iWeightsComp!Y50),REPT(\"|\",iWeightsComp!Y50/20),\"\")","v":""},{"$f":"iWeightsComp!Z50","v":0},{"$f":"iWeightsComp!AA50","v":0},{"$f":"IF(ISNUMBER(iWeightsComp!AB50),REPT(\"|\",ABS(iWeightsComp!AB50)/10),\"\")","v":""},{"$f":"iWeightsComp!AC50","v":0},{"$f":"IF(ISNUMBER(iWeightsComp!AD50),REPT(\"|\",iWeightsComp!AD50/10),\"\")","v":""}]
[null,null,null,{"$f":"iWeightsComp!S51","v":0},{"$f":"iWeightsComp!T51","v":0},{"$f":"iWeightsComp!U51","v":0},{"$f":"iWeightsComp!V51","v":0},{"$f":"IF(ISNUMBER(iWeightsComp!W51),REPT(\"|\",ABS(iWeightsComp!W51)/20),\"\")","v":""},{"$f":"iWeightsComp!X51","v":0},{"$f":"IF(ISNUMBER(iWeightsComp!Y51),REPT(\"|\",iWeightsComp!Y51/20),\"\")","v":""},{"$f":"iWeightsComp!Z51","v":0},{"$f":"iWeightsComp!AA51","v":0},{"$f":"IF(ISNUMBER(iWeightsComp!AB51),REPT(\"|\",ABS(iWeightsComp!AB51)/10),\"\")","v":""},{"$f":"iWeightsComp!AC51","v":0},{"$f":"IF(ISNUMBER(iWeightsComp!AD51),REPT(\"|\",iWeightsComp!AD51/10),\"\")","v":""}]
[null,null,null,{"$f":"iWeightsComp!S52","v":0},{"$f":"iWeightsComp!T52","v":0},{"$f":"iWeightsComp!U52","v":0},{"$f":"iWeightsComp!V52","v":0},{"$f":"IF(ISNUMBER(iWeightsComp!W52),REPT(\"|\",ABS(iWeightsComp!W52)/20),\"\")","v":""},{"$f":"iWeightsComp!X52","v":0},{"$f":"IF(ISNUMBER(iWeightsComp!Y52),REPT(\"|\",iWeightsComp!Y52/20),\"\")","v":""},{"$f":"iWeightsComp!Z52","v":0},{"$f":"iWeightsComp!AA52","v":0},{"$f":"IF(ISNUMBER(iWeightsComp!AB52),REPT(\"|\",ABS(iWeightsComp!AB52)/10),\"\")","v":""},{"$f":"iWeightsComp!AC52","v":0},{"$f":"IF(ISNUMBER(iWeightsComp!AD52),REPT(\"|\",iWeightsComp!AD52/10),\"\")","v":""}]
[null,null,null,{"$f":"iWeightsComp!S53","v":0},{"$f":"iWeightsComp!T53","v":0},{"$f":"iWeightsComp!U53","v":0},{"$f":"iWeightsComp!V53","v":0},{"$f":"IF(ISNUMBER(iWeightsComp!W53),REPT(\"|\",ABS(iWeightsComp!W53)/20),\"\")","v":""},{"$f":"iWeightsComp!X53","v":0},{"$f":"IF(ISNUMBER(iWeightsComp!Y53),REPT(\"|\",iWeightsComp!Y53/20),\"\")","v":""},{"$f":"iWeightsComp!Z53","v":0},{"$f":"iWeightsComp!AA53","v":0},{"$f":"IF(ISNUMBER(iWeightsComp!AB53),REPT(\"|\",ABS(iWeightsComp!AB53)/10),\"\")","v":""},{"$f":"iWeightsComp!AC53","v":0},{"$f":"IF(ISNUMBER(iWeightsComp!AD53),REPT(\"|\",iWeightsComp!AD53/10),\"\")","v":""}]
[null,null,null,{"$f":"iWeightsComp!S54","v":0},{"$f":"iWeightsComp!T54","v":0},{"$f":"iWeightsComp!U54","v":0},{"$f":"iWeightsComp!V54","v":0},{"$f":"IF(ISNUMBER(iWeightsComp!W54),REPT(\"|\",ABS(iWeightsComp!W54)/20),\"\")","v":""},{"$f":"iWeightsComp!X54","v":0},{"$f":"IF(ISNUMBER(iWeightsComp!Y54),REPT(\"|\",iWeightsComp!Y54/20),\"\")","v":""},{"$f":"iWeightsComp!Z54","v":0},{"$f":"iWeightsComp!AA54","v":0},{"$f":"IF(ISNUMBER(iWeightsComp!AB54),REPT(\"|\",ABS(iWeightsComp!AB54)/10),\"\")","v":""},{"$f":"iWeightsComp!AC54","v":0},{"$f":"IF(ISNUMBER(iWeightsComp!AD54),REPT(\"|\",iWeightsComp!AD54/10),\"\")","v":""}]
[null,null,null,{"$f":"iWeightsComp!S55","v":0},{"$f":"iWeightsComp!T55","v":0},{"$f":"iWeightsComp!U55","v":0},{"$f":"iWeightsComp!V55","v":0},{"$f":"IF(ISNUMBER(iWeightsComp!W55),REPT(\"|\",ABS(iWeightsComp!W55)/20),\"\")","v":""},{"$f":"iWeightsComp!X55","v":0},{"$f":"IF(ISNUMBER(iWeightsComp!Y55),REPT(\"|\",iWeightsComp!Y55/20),\"\")","v":""},{"$f":"iWeightsComp!Z55","v":0},{"$f":"iWeightsComp!AA55","v":0},{"$f":"IF(ISNUMBER(iWeightsComp!AB55),REPT(\"|\",ABS(iWeightsComp!AB55)/10),\"\")","v":""},{"$f":"iWeightsComp!AC55","v":0},{"$f":"IF(ISNUMBER(iWeightsComp!AD55),REPT(\"|\",iWeightsComp!AD55/10),\"\")","v":""}]
[null,null,null,{"$f":"iWeightsComp!S56","v":0},{"$f":"iWeightsComp!T56","v":0},{"$f":"iWeightsComp!U56","v":0},{"$f":"iWeightsComp!V56","v":0},{"$f":"IF(ISNUMBER(iWeightsComp!W56),REPT(\"|\",ABS(iWeightsComp!W56)/20),\"\")","v":""},{"$f":"iWeightsComp!X56","v":0},{"$f":"IF(ISNUMBER(iWeightsComp!Y56),REPT(\"|\",iWeightsComp!Y56/20),\"\")","v":""},{"$f":"iWeightsComp!Z56","v":0},{"$f":"iWeightsComp!AA56","v":0},{"$f":"IF(ISNUMBER(iWeightsComp!AB56),REPT(\"|\",ABS(iWeightsComp!AB56)/10),\"\")","v":""},{"$f":"iWeightsComp!AC56","v":0},{"$f":"IF(ISNUMBER(iWeightsComp!AD56),REPT(\"|\",iWeightsComp!AD56/10),\"\")","v":""}]
[null,null,null,{"$f":"iWeightsComp!S57","v":0},{"$f":"iWeightsComp!T57","v":0},{"$f":"iWeightsComp!U57","v":0},{"$f":"iWeightsComp!V57","v":0},{"$f":"IF(ISNUMBER(iWeightsComp!W57),REPT(\"|\",ABS(iWeightsComp!W57)/20),\"\")","v":""},{"$f":"iWeightsComp!X57","v":0},{"$f":"IF(ISNUMBER(iWeightsComp!Y57),REPT(\"|\",iWeightsComp!Y57/20),\"\")","v":""},{"$f":"iWeightsComp!Z57","v":0},{"$f":"iWeightsComp!AA57","v":0},{"$f":"IF(ISNUMBER(iWeightsComp!AB57),REPT(\"|\",ABS(iWeightsComp!AB57)/10),\"\")","v":""},{"$f":"iWeightsComp!AC57","v":0},{"$f":"IF(ISNUMBER(iWeightsComp!AD57),REPT(\"|\",iWeightsComp!AD57/10),\"\")","v":""}]
[null,null,null,{"$f":"iWeightsComp!S58","v":0},{"$f":"iWeightsComp!T58","v":0},{"$f":"iWeightsComp!U58","v":0},{"$f":"iWeightsComp!V58","v":0},{"$f":"IF(ISNUMBER(iWeightsComp!W58),REPT(\"|\",ABS(iWeightsComp!W58)/20),\"\")","v":""},{"$f":"iWeightsComp!X58","v":0},{"$f":"IF(ISNUMBER(iWeightsComp!Y58),REPT(\"|\",iWeightsComp!Y58/20),\"\")","v":""},{"$f":"iWeightsComp!Z58","v":0},{"$f":"iWeightsComp!AA58","v":0},{"$f":"IF(ISNUMBER(iWeightsComp!AB58),REPT(\"|\",ABS(iWeightsComp!AB58)/10),\"\")","v":""},{"$f":"iWeightsComp!AC58","v":0},{"$f":"IF(ISNUMBER(iWeightsComp!AD58),REPT(\"|\",iWeightsComp!AD58/10),\"\")","v":""}]